BEGIN:VCALENDAR
VERSION:2.0
PRODID:-//Lead with Purpose Foundation - ECPv6.15.20//NONSGML v1.0//EN
CALSCALE:GREGORIAN
METHOD:PUBLISH
X-ORIGINAL-URL:https://lwpfdn.org
X-WR-CALDESC:Events for Lead with Purpose Foundation
REFRESH-INTERVAL;VALUE=DURATION:PT1H
X-Robots-Tag:noindex
X-PUBLISHED-TTL:PT1H
BEGIN:VTIMEZONE
TZID:America/Los_Angeles
BEGIN:DAYLIGHT
TZOFFSETFROM:-0800
TZOFFSETTO:-0700
TZNAME:PDT
DTSTART:20240310T100000
END:DAYLIGHT
BEGIN:STANDARD
TZOFFSETFROM:-0700
TZOFFSETTO:-0800
TZNAME:PST
DTSTART:20241103T090000
END:STANDARD
BEGIN:DAYLIGHT
TZOFFSETFROM:-0800
TZOFFSETTO:-0700
TZNAME:PDT
DTSTART:20250309T100000
END:DAYLIGHT
BEGIN:STANDARD
TZOFFSETFROM:-0700
TZOFFSETTO:-0800
TZNAME:PST
DTSTART:20251102T090000
END:STANDARD
BEGIN:DAYLIGHT
TZOFFSETFROM:-0800
TZOFFSETTO:-0700
TZNAME:PDT
DTSTART:20260308T100000
END:DAYLIGHT
BEGIN:STANDARD
TZOFFSETFROM:-0700
TZOFFSETTO:-0800
TZNAME:PST
DTSTART:20261101T090000
END:STANDARD
BEGIN:DAYLIGHT
TZOFFSETFROM:-0800
TZOFFSETTO:-0700
TZNAME:PDT
DTSTART:20270314T100000
END:DAYLIGHT
BEGIN:STANDARD
TZOFFSETFROM:-0700
TZOFFSETTO:-0800
TZNAME:PST
DTSTART:20271107T090000
END:STANDARD
END:VTIMEZONE
BEGIN:VEVENT
DTSTART;TZID=America/Los_Angeles:20260116T203000
DTEND;TZID=America/Los_Angeles:20260327T213000
DTSTAMP:20260423T072757
CREATED:20260211T073300Z
LAST-MODIFIED:20260211T073305Z
UID:9326-1768595400-1774647000@lwpfdn.org
SUMMARY:EEP19 - English Pub
DESCRIPTION:
URL:https://lwpfdn.org/event/eep19-english-pub/
END:VEVENT
BEGIN:VEVENT
DTSTART;TZID=America/Los_Angeles:20260116T093000
DTEND;TZID=America/Los_Angeles:20260327T223000
DTSTAMP:20260423T072757
CREATED:20260211T073048Z
LAST-MODIFIED:20260211T073129Z
UID:9323-1768555800-1774650600@lwpfdn.org
SUMMARY:EEP19 - Beverly Talk
DESCRIPTION:
URL:https://lwpfdn.org/event/eep19-beverly-talk/
END:VEVENT
BEGIN:VEVENT
DTSTART;TZID=America/Los_Angeles:20260114T203000
DTEND;TZID=America/Los_Angeles:20260325T213000
DTSTAMP:20260423T072757
CREATED:20251227T182618Z
LAST-MODIFIED:20260211T073312Z
UID:9308-1768422600-1774474200@lwpfdn.org
SUMMARY:EEP19 - Happy Banter
DESCRIPTION:
URL:https://lwpfdn.org/event/eep19-happy-banter/
END:VEVENT
BEGIN:VEVENT
DTSTART;TZID=America/Los_Angeles:20260113T203000
DTEND;TZID=America/Los_Angeles:20260324T213000
DTSTAMP:20260423T072757
CREATED:20251227T181153Z
LAST-MODIFIED:20251227T181734Z
UID:9297-1768336200-1774387800@lwpfdn.org
SUMMARY:EEP19 – Weekly Chatter
DESCRIPTION:
URL:https://lwpfdn.org/event/english-enhancement-program-19-weekly-chatter/
END:VEVENT
BEGIN:VEVENT
DTSTART;TZID=America/Los_Angeles:20251114T203000
DTEND;TZID=America/Los_Angeles:20251114T213000
DTSTAMP:20260423T072757
CREATED:20250904T080400Z
LAST-MODIFIED:20250904T080403Z
UID:9272-1763152200-1763155800@lwpfdn.org
SUMMARY:ENGLISH ENHANCEMENT PROGRAM – English Pub
DESCRIPTION:
URL:https://lwpfdn.org/event/english-enhancement-program-english-pub-69/
END:VEVENT
BEGIN:VEVENT
DTSTART;TZID=America/Los_Angeles:20251114T093000
DTEND;TZID=America/Los_Angeles:20251114T103000
DTSTAMP:20260423T072757
CREATED:20250904T075310Z
LAST-MODIFIED:20250904T075314Z
UID:9252-1763112600-1763116200@lwpfdn.org
SUMMARY:ENGLISH ENHANCEMENT PROGRAM – Beverly Talk
DESCRIPTION:
URL:https://lwpfdn.org/event/english-enhancement-program-beverly-talk-68/
END:VEVENT
BEGIN:VEVENT
DTSTART;TZID=America/Los_Angeles:20251111T203000
DTEND;TZID=America/Los_Angeles:20251111T213000
DTSTAMP:20260423T072757
CREATED:20250904T074142Z
LAST-MODIFIED:20250904T074148Z
UID:9232-1762893000-1762896600@lwpfdn.org
SUMMARY:ENGLISH ENHANCEMENT PROGRAM – Weekly Chatter
DESCRIPTION:
URL:https://lwpfdn.org/event/english-enhancement-program-weekly-chatter-60/
END:VEVENT
BEGIN:VEVENT
DTSTART;TZID=America/Los_Angeles:20251107T203000
DTEND;TZID=America/Los_Angeles:20251107T213000
DTSTAMP:20260423T072757
CREATED:20250904T080305Z
LAST-MODIFIED:20250904T080310Z
UID:9270-1762547400-1762551000@lwpfdn.org
SUMMARY:ENGLISH ENHANCEMENT PROGRAM – English Pub
DESCRIPTION:
URL:https://lwpfdn.org/event/english-enhancement-program-english-pub-68/
END:VEVENT
BEGIN:VEVENT
DTSTART;TZID=America/Los_Angeles:20251107T093000
DTEND;TZID=America/Los_Angeles:20251107T103000
DTSTAMP:20260423T072757
CREATED:20250904T075208Z
LAST-MODIFIED:20250904T075211Z
UID:9250-1762507800-1762511400@lwpfdn.org
SUMMARY:ENGLISH ENHANCEMENT PROGRAM – Beverly Talk
DESCRIPTION:
URL:https://lwpfdn.org/event/english-enhancement-program-beverly-talk-67/
END:VEVENT
BEGIN:VEVENT
DTSTART;TZID=America/Los_Angeles:20251104T203000
DTEND;TZID=America/Los_Angeles:20251104T213000
DTSTAMP:20260423T072757
CREATED:20250904T074038Z
LAST-MODIFIED:20250904T074043Z
UID:9230-1762288200-1762291800@lwpfdn.org
SUMMARY:ENGLISH ENHANCEMENT PROGRAM – Weekly Chatter
DESCRIPTION:
URL:https://lwpfdn.org/event/english-enhancement-program-weekly-chatter-59/
END:VEVENT
BEGIN:VEVENT
DTSTART;TZID=America/Los_Angeles:20251031T203000
DTEND;TZID=America/Los_Angeles:20251031T213000
DTSTAMP:20260423T072757
CREATED:20250904T080211Z
LAST-MODIFIED:20250904T080215Z
UID:9268-1761942600-1761946200@lwpfdn.org
SUMMARY:ENGLISH ENHANCEMENT PROGRAM – English Pub
DESCRIPTION:
URL:https://lwpfdn.org/event/english-enhancement-program-english-pub-67/
END:VEVENT
BEGIN:VEVENT
DTSTART;TZID=America/Los_Angeles:20251031T093000
DTEND;TZID=America/Los_Angeles:20251031T103000
DTSTAMP:20260423T072757
CREATED:20250904T075115Z
LAST-MODIFIED:20250904T075121Z
UID:9248-1761903000-1761906600@lwpfdn.org
SUMMARY:ENGLISH ENHANCEMENT PROGRAM – Beverly Talk
DESCRIPTION:
URL:https://lwpfdn.org/event/english-enhancement-program-beverly-talk-66/
END:VEVENT
BEGIN:VEVENT
DTSTART;TZID=America/Los_Angeles:20251028T203000
DTEND;TZID=America/Los_Angeles:20251028T213000
DTSTAMP:20260423T072757
CREATED:20250904T073929Z
LAST-MODIFIED:20250904T073932Z
UID:9228-1761683400-1761687000@lwpfdn.org
SUMMARY:ENGLISH ENHANCEMENT PROGRAM – Weekly Chatter
DESCRIPTION:
URL:https://lwpfdn.org/event/english-enhancement-program-weekly-chatter-58/
END:VEVENT
BEGIN:VEVENT
DTSTART;TZID=America/Los_Angeles:20251024T203000
DTEND;TZID=America/Los_Angeles:20251024T213000
DTSTAMP:20260423T072757
CREATED:20250904T080129Z
LAST-MODIFIED:20250904T080134Z
UID:9266-1761337800-1761341400@lwpfdn.org
SUMMARY:ENGLISH ENHANCEMENT PROGRAM – English Pub
DESCRIPTION:
URL:https://lwpfdn.org/event/english-enhancement-program-english-pub-66/
END:VEVENT
BEGIN:VEVENT
DTSTART;TZID=America/Los_Angeles:20251024T093000
DTEND;TZID=America/Los_Angeles:20251024T103000
DTSTAMP:20260423T072757
CREATED:20250904T075026Z
LAST-MODIFIED:20250904T075029Z
UID:9246-1761298200-1761301800@lwpfdn.org
SUMMARY:ENGLISH ENHANCEMENT PROGRAM – Beverly Talk
DESCRIPTION:
URL:https://lwpfdn.org/event/english-enhancement-program-beverly-talk-65/
END:VEVENT
BEGIN:VEVENT
DTSTART;TZID=America/Los_Angeles:20251021T203000
DTEND;TZID=America/Los_Angeles:20251021T213000
DTSTAMP:20260423T072757
CREATED:20250904T073832Z
LAST-MODIFIED:20250904T073837Z
UID:9226-1761078600-1761082200@lwpfdn.org
SUMMARY:ENGLISH ENHANCEMENT PROGRAM – Weekly Chatter
DESCRIPTION:
URL:https://lwpfdn.org/event/english-enhancement-program-weekly-chatter-57/
END:VEVENT
BEGIN:VEVENT
DTSTART;TZID=America/Los_Angeles:20251017T203000
DTEND;TZID=America/Los_Angeles:20251017T213000
DTSTAMP:20260423T072757
CREATED:20250904T080042Z
LAST-MODIFIED:20250904T080046Z
UID:9264-1760733000-1760736600@lwpfdn.org
SUMMARY:ENGLISH ENHANCEMENT PROGRAM – English Pub
DESCRIPTION:
URL:https://lwpfdn.org/event/english-enhancement-program-english-pub-65/
END:VEVENT
BEGIN:VEVENT
DTSTART;TZID=America/Los_Angeles:20251017T093000
DTEND;TZID=America/Los_Angeles:20251017T103000
DTSTAMP:20260423T072757
CREATED:20250904T074941Z
LAST-MODIFIED:20250904T074945Z
UID:9244-1760693400-1760697000@lwpfdn.org
SUMMARY:ENGLISH ENHANCEMENT PROGRAM – Beverly Talk
DESCRIPTION:
URL:https://lwpfdn.org/event/english-enhancement-program-beverly-talk-64/
END:VEVENT
BEGIN:VEVENT
DTSTART;TZID=America/Los_Angeles:20251014T203000
DTEND;TZID=America/Los_Angeles:20251014T213000
DTSTAMP:20260423T072757
CREATED:20250904T073727Z
LAST-MODIFIED:20250904T073732Z
UID:9224-1760473800-1760477400@lwpfdn.org
SUMMARY:ENGLISH ENHANCEMENT PROGRAM – Weekly Chatter
DESCRIPTION:
URL:https://lwpfdn.org/event/english-enhancement-program-weekly-chatter-56/
END:VEVENT
BEGIN:VEVENT
DTSTART;TZID=America/Los_Angeles:20251010T203000
DTEND;TZID=America/Los_Angeles:20251010T213000
DTSTAMP:20260423T072757
CREATED:20250904T075951Z
LAST-MODIFIED:20250904T075957Z
UID:9262-1760128200-1760131800@lwpfdn.org
SUMMARY:ENGLISH ENHANCEMENT PROGRAM – English Pub
DESCRIPTION:
URL:https://lwpfdn.org/event/english-enhancement-program-english-pub-64/
END:VEVENT
BEGIN:VEVENT
DTSTART;TZID=America/Los_Angeles:20251010T093000
DTEND;TZID=America/Los_Angeles:20251010T103000
DTSTAMP:20260423T072757
CREATED:20250904T074832Z
LAST-MODIFIED:20250904T074837Z
UID:9242-1760088600-1760092200@lwpfdn.org
SUMMARY:ENGLISH ENHANCEMENT PROGRAM – Beverly Talk
DESCRIPTION:
URL:https://lwpfdn.org/event/english-enhancement-program-beverly-talk-63/
END:VEVENT
BEGIN:VEVENT
DTSTART;TZID=America/Los_Angeles:20251007T203000
DTEND;TZID=America/Los_Angeles:20251007T213000
DTSTAMP:20260423T072757
CREATED:20250904T073625Z
LAST-MODIFIED:20250904T073630Z
UID:9222-1759869000-1759872600@lwpfdn.org
SUMMARY:ENGLISH ENHANCEMENT PROGRAM – Weekly Chatter
DESCRIPTION:
URL:https://lwpfdn.org/event/english-enhancement-program-weekly-chatter-55/
END:VEVENT
BEGIN:VEVENT
DTSTART;TZID=America/Los_Angeles:20251003T203000
DTEND;TZID=America/Los_Angeles:20251003T213000
DTSTAMP:20260423T072757
CREATED:20250904T075902Z
LAST-MODIFIED:20250904T075905Z
UID:9260-1759523400-1759527000@lwpfdn.org
SUMMARY:ENGLISH ENHANCEMENT PROGRAM – English Pub
DESCRIPTION:
URL:https://lwpfdn.org/event/english-enhancement-program-english-pub-63/
END:VEVENT
BEGIN:VEVENT
DTSTART;TZID=America/Los_Angeles:20251003T093000
DTEND;TZID=America/Los_Angeles:20251003T103000
DTSTAMP:20260423T072757
CREATED:20250904T074738Z
LAST-MODIFIED:20250904T074741Z
UID:9240-1759483800-1759487400@lwpfdn.org
SUMMARY:ENGLISH ENHANCEMENT PROGRAM – Beverly Talk
DESCRIPTION:
URL:https://lwpfdn.org/event/english-enhancement-program-beverly-talk-62/
END:VEVENT
BEGIN:VEVENT
DTSTART;TZID=America/Los_Angeles:20250930T203000
DTEND;TZID=America/Los_Angeles:20250930T213000
DTSTAMP:20260423T072757
CREATED:20250904T073514Z
LAST-MODIFIED:20250904T073518Z
UID:9220-1759264200-1759267800@lwpfdn.org
SUMMARY:ENGLISH ENHANCEMENT PROGRAM – Weekly Chatter
DESCRIPTION:
URL:https://lwpfdn.org/event/english-enhancement-program-weekly-chatter-54/
END:VEVENT
BEGIN:VEVENT
DTSTART;TZID=America/Los_Angeles:20250926T203000
DTEND;TZID=America/Los_Angeles:20250926T213000
DTSTAMP:20260423T072757
CREATED:20250904T075809Z
LAST-MODIFIED:20250904T075814Z
UID:9258-1758918600-1758922200@lwpfdn.org
SUMMARY:ENGLISH ENHANCEMENT PROGRAM – English Pub
DESCRIPTION:
URL:https://lwpfdn.org/event/english-enhancement-program-english-pub-62/
END:VEVENT
BEGIN:VEVENT
DTSTART;TZID=America/Los_Angeles:20250926T093000
DTEND;TZID=America/Los_Angeles:20250926T103000
DTSTAMP:20260423T072757
CREATED:20250904T074641Z
LAST-MODIFIED:20250904T074646Z
UID:9238-1758879000-1758882600@lwpfdn.org
SUMMARY:ENGLISH ENHANCEMENT PROGRAM – Beverly Talk
DESCRIPTION:
URL:https://lwpfdn.org/event/english-enhancement-program-beverly-talk-61/
END:VEVENT
BEGIN:VEVENT
DTSTART;TZID=America/Los_Angeles:20250923T203000
DTEND;TZID=America/Los_Angeles:20250923T213000
DTSTAMP:20260423T072757
CREATED:20250904T073403Z
LAST-MODIFIED:20250904T073409Z
UID:9218-1758659400-1758663000@lwpfdn.org
SUMMARY:ENGLISH ENHANCEMENT PROGRAM – Weekly Chatter
DESCRIPTION:
URL:https://lwpfdn.org/event/english-enhancement-program-weekly-chatter-53/
END:VEVENT
BEGIN:VEVENT
DTSTART;TZID=America/Los_Angeles:20250919T203000
DTEND;TZID=America/Los_Angeles:20250919T213000
DTSTAMP:20260423T072757
CREATED:20250904T075724Z
LAST-MODIFIED:20250904T075727Z
UID:9256-1758313800-1758317400@lwpfdn.org
SUMMARY:ENGLISH ENHANCEMENT PROGRAM – English Pub
DESCRIPTION:
URL:https://lwpfdn.org/event/english-enhancement-program-english-pub-61/
END:VEVENT
BEGIN:VEVENT
DTSTART;TZID=America/Los_Angeles:20250919T093000
DTEND;TZID=America/Los_Angeles:20250919T103000
DTSTAMP:20260423T072757
CREATED:20250904T074551Z
LAST-MODIFIED:20250904T074554Z
UID:9236-1758274200-1758277800@lwpfdn.org
SUMMARY:ENGLISH ENHANCEMENT PROGRAM – Beverly Talk
DESCRIPTION:
URL:https://lwpfdn.org/event/english-enhancement-program-beverly-talk-60/
END:VEVENT
END:VCALENDAR