BEGIN:VCALENDAR
VERSION:2.0
PRODID:-//Lead with Purpose Foundation - ECPv6.15.20//NONSGML v1.0//EN
CALSCALE:GREGORIAN
METHOD:PUBLISH
X-WR-CALNAME:Lead with Purpose Foundation
X-ORIGINAL-URL:https://lwpfdn.org
X-WR-CALDESC:Events for Lead with Purpose Foundation
REFRESH-INTERVAL;VALUE=DURATION:PT1H
X-Robots-Tag:noindex
X-PUBLISHED-TTL:PT1H
BEGIN:VTIMEZONE
TZID:America/Los_Angeles
BEGIN:DAYLIGHT
TZOFFSETFROM:-0800
TZOFFSETTO:-0700
TZNAME:PDT
DTSTART:20220313T100000
END:DAYLIGHT
BEGIN:STANDARD
TZOFFSETFROM:-0700
TZOFFSETTO:-0800
TZNAME:PST
DTSTART:20221106T090000
END:STANDARD
BEGIN:DAYLIGHT
TZOFFSETFROM:-0800
TZOFFSETTO:-0700
TZNAME:PDT
DTSTART:20230312T100000
END:DAYLIGHT
BEGIN:STANDARD
TZOFFSETFROM:-0700
TZOFFSETTO:-0800
TZNAME:PST
DTSTART:20231105T090000
END:STANDARD
BEGIN:DAYLIGHT
TZOFFSETFROM:-0800
TZOFFSETTO:-0700
TZNAME:PDT
DTSTART:20240310T100000
END:DAYLIGHT
BEGIN:STANDARD
TZOFFSETFROM:-0700
TZOFFSETTO:-0800
TZNAME:PST
DTSTART:20241103T090000
END:STANDARD
END:VTIMEZONE
BEGIN:VEVENT
DTSTART;TZID=America/Los_Angeles:20230519T203000
DTEND;TZID=America/Los_Angeles:20230519T213000
DTSTAMP:20260423T224427
CREATED:20230403T034341Z
LAST-MODIFIED:20230403T034343Z
UID:6630-1684528200-1684531800@lwpfdn.org
SUMMARY:English Enhancement Program
DESCRIPTION:
URL:https://lwpfdn.org/event/english-enhancement-program-18/
END:VEVENT
BEGIN:VEVENT
DTSTART;TZID=America/Los_Angeles:20230519T090000
DTEND;TZID=America/Los_Angeles:20230519T100000
DTSTAMP:20260423T224427
CREATED:20230403T034256Z
LAST-MODIFIED:20230403T034301Z
UID:6628-1684486800-1684490400@lwpfdn.org
SUMMARY:English Enhancement Program
DESCRIPTION:
URL:https://lwpfdn.org/event/english-enhancement-program-16/
END:VEVENT
BEGIN:VEVENT
DTSTART;TZID=America/Los_Angeles:20230516T203000
DTEND;TZID=America/Los_Angeles:20230516T213000
DTSTAMP:20260423T224427
CREATED:20230403T034258Z
LAST-MODIFIED:20230403T034300Z
UID:6624-1684269000-1684272600@lwpfdn.org
SUMMARY:English Enhancement Program
DESCRIPTION:
URL:https://lwpfdn.org/event/english-enhancement-program-17/
END:VEVENT
BEGIN:VEVENT
DTSTART;TZID=America/Los_Angeles:20230512T203000
DTEND;TZID=America/Los_Angeles:20230512T213000
DTSTAMP:20260423T224427
CREATED:20230403T034140Z
LAST-MODIFIED:20230403T034142Z
UID:6622-1683923400-1683927000@lwpfdn.org
SUMMARY:English Enhancement Program
DESCRIPTION:
URL:https://lwpfdn.org/event/english-enhancement-program-15/
END:VEVENT
BEGIN:VEVENT
DTSTART;TZID=America/Los_Angeles:20230512T090000
DTEND;TZID=America/Los_Angeles:20230512T100000
DTSTAMP:20260423T224427
CREATED:20230403T034127Z
LAST-MODIFIED:20230403T034132Z
UID:6619-1683882000-1683885600@lwpfdn.org
SUMMARY:English Enhancement Program
DESCRIPTION:
URL:https://lwpfdn.org/event/english-enhancement-program-14/
END:VEVENT
BEGIN:VEVENT
DTSTART;TZID=America/Los_Angeles:20230509T203000
DTEND;TZID=America/Los_Angeles:20230509T213000
DTSTAMP:20260423T224427
CREATED:20230403T034025Z
LAST-MODIFIED:20230403T034026Z
UID:6616-1683664200-1683667800@lwpfdn.org
SUMMARY:English Enhancement Program
DESCRIPTION:
URL:https://lwpfdn.org/event/english-enhancement-program-13/
END:VEVENT
BEGIN:VEVENT
DTSTART;TZID=America/Los_Angeles:20230505T203000
DTEND;TZID=America/Los_Angeles:20230505T213000
DTSTAMP:20260423T224427
CREATED:20230403T033828Z
LAST-MODIFIED:20230403T033945Z
UID:6611-1683318600-1683322200@lwpfdn.org
SUMMARY:English Enhancement Program
DESCRIPTION:
URL:https://lwpfdn.org/event/english-enhancement-program-12/
END:VEVENT
BEGIN:VEVENT
DTSTART;TZID=America/Los_Angeles:20230505T090000
DTEND;TZID=America/Los_Angeles:20230505T100000
DTSTAMP:20260423T224427
CREATED:20230403T033815Z
LAST-MODIFIED:20230403T033817Z
UID:6608-1683277200-1683280800@lwpfdn.org
SUMMARY:English Enhancement Program
DESCRIPTION:
URL:https://lwpfdn.org/event/english-enhancement-program-11/
END:VEVENT
BEGIN:VEVENT
DTSTART;TZID=America/Los_Angeles:20230502T203000
DTEND;TZID=America/Los_Angeles:20230502T213000
DTSTAMP:20260423T224427
CREATED:20230403T033736Z
LAST-MODIFIED:20230403T033740Z
UID:6605-1683059400-1683063000@lwpfdn.org
SUMMARY:English Enhancement Program
DESCRIPTION:
URL:https://lwpfdn.org/event/english-enhancement-program-10/
END:VEVENT
BEGIN:VEVENT
DTSTART;TZID=America/Los_Angeles:20230428T203000
DTEND;TZID=America/Los_Angeles:20230428T213000
DTSTAMP:20260423T224427
CREATED:20230403T033649Z
LAST-MODIFIED:20230403T033650Z
UID:6601-1682713800-1682717400@lwpfdn.org
SUMMARY:English Enhancement Program
DESCRIPTION:
URL:https://lwpfdn.org/event/english-enhancement-program-9/
END:VEVENT
BEGIN:VEVENT
DTSTART;TZID=America/Los_Angeles:20230428T090000
DTEND;TZID=America/Los_Angeles:20230428T100000
DTSTAMP:20260423T224427
CREATED:20230403T033601Z
LAST-MODIFIED:20230403T033603Z
UID:6599-1682672400-1682676000@lwpfdn.org
SUMMARY:English Enhancement Program
DESCRIPTION:
URL:https://lwpfdn.org/event/english-enhancement-program-8/
END:VEVENT
BEGIN:VEVENT
DTSTART;TZID=America/Los_Angeles:20230425T203000
DTEND;TZID=America/Los_Angeles:20230425T213000
DTSTAMP:20260423T224427
CREATED:20230403T033419Z
LAST-MODIFIED:20230403T033423Z
UID:6595-1682454600-1682458200@lwpfdn.org
SUMMARY:English Enhancement Program
DESCRIPTION:
URL:https://lwpfdn.org/event/english-enhancement-program-7/
END:VEVENT
BEGIN:VEVENT
DTSTART;TZID=America/Los_Angeles:20230421T203000
DTEND;TZID=America/Los_Angeles:20230421T213000
DTSTAMP:20260423T224427
CREATED:20230403T033257Z
LAST-MODIFIED:20230403T033301Z
UID:6593-1682109000-1682112600@lwpfdn.org
SUMMARY:English Enhancement Program
DESCRIPTION:
URL:https://lwpfdn.org/event/english-enhancement-program-6/
END:VEVENT
BEGIN:VEVENT
DTSTART;TZID=America/Los_Angeles:20230421T090000
DTEND;TZID=America/Los_Angeles:20230421T100000
DTSTAMP:20260423T224427
CREATED:20230403T033044Z
LAST-MODIFIED:20230403T033047Z
UID:6590-1682067600-1682071200@lwpfdn.org
SUMMARY:English Enhancement Program
DESCRIPTION:
URL:https://lwpfdn.org/event/english-enhancement-program-5/
END:VEVENT
BEGIN:VEVENT
DTSTART;TZID=America/Los_Angeles:20230418T203000
DTEND;TZID=America/Los_Angeles:20230418T213000
DTSTAMP:20260423T224427
CREATED:20230403T032624Z
LAST-MODIFIED:20230403T033004Z
UID:6585-1681849800-1681853400@lwpfdn.org
SUMMARY:English Enhancement Program
DESCRIPTION:
URL:https://lwpfdn.org/event/english-enhancement-program-4/
END:VEVENT
BEGIN:VEVENT
DTSTART;TZID=America/Los_Angeles:20230416T143000
DTEND;TZID=America/Los_Angeles:20230416T163000
DTSTAMP:20260423T224427
CREATED:20230413T200505Z
LAST-MODIFIED:20230413T200510Z
UID:6676-1681655400-1681662600@lwpfdn.org
SUMMARY:LWPF Student Commission Meeting
DESCRIPTION:
URL:https://lwpfdn.org/event/lwpf-student-commission-meeting-13/
END:VEVENT
BEGIN:VEVENT
DTSTART;TZID=America/Los_Angeles:20230331T203000
DTEND;TZID=America/Los_Angeles:20230331T213000
DTSTAMP:20260423T224427
CREATED:20220108T030749Z
LAST-MODIFIED:20230106T234825Z
UID:6533-1680294600-1680298200@lwpfdn.org
SUMMARY:English Enhancement Program
DESCRIPTION:
URL:https://lwpfdn.org/event/english-enhancement-program-3-3-2-2-2-2-2-2-2-2-2-2-2-3-2-2-2-2-2-2-2-2-2-2-3-2-2-2-2-2-2-2-2-2-2-2-2-2-2-3-2-2-2-2-2-2-2-2-2-2-2-2-2-2-2-2-2-2-2-2-2-2-2-2-2-2-2-2-2-2-2-2-2-2-2-2-2-2-2-2-2-2-2-2/
END:VEVENT
BEGIN:VEVENT
DTSTART;TZID=America/Los_Angeles:20230328T203000
DTEND;TZID=America/Los_Angeles:20230328T213000
DTSTAMP:20260423T224427
CREATED:20220108T030749Z
LAST-MODIFIED:20230106T234206Z
UID:6513-1680035400-1680039000@lwpfdn.org
SUMMARY:English Enhancement Program
DESCRIPTION:
URL:https://lwpfdn.org/event/english-enhancement-program-3-3-2-2-2-2-2-2-2-2-2-2-2-3-2-2-2-2-2-2-2-2-2-2-3-2-2-2-2-2-2-2-2-2-2-2-2-2-2-3-2-2-2-2-2-2-2-2-2-2-2-2-2-2-2-2-2-2-2-2-2-2-2-2-2-2-2-2-2-2-2-2-2-2/
END:VEVENT
BEGIN:VEVENT
DTSTART;TZID=America/Los_Angeles:20230324T203000
DTEND;TZID=America/Los_Angeles:20230324T213000
DTSTAMP:20260423T224427
CREATED:20220108T030749Z
LAST-MODIFIED:20230106T234755Z
UID:6531-1679689800-1679693400@lwpfdn.org
SUMMARY:English Enhancement Program
DESCRIPTION:
URL:https://lwpfdn.org/event/english-enhancement-program-3-3-2-2-2-2-2-2-2-2-2-2-2-3-2-2-2-2-2-2-2-2-2-2-3-2-2-2-2-2-2-2-2-2-2-2-2-2-2-3-2-2-2-2-2-2-2-2-2-2-2-2-2-2-2-2-2-2-2-2-2-2-2-2-2-2-2-2-2-2-2-2-2-2-2-2-2-2-2-2-2-2-2/
END:VEVENT
BEGIN:VEVENT
DTSTART;TZID=America/Los_Angeles:20230321T203000
DTEND;TZID=America/Los_Angeles:20230321T213000
DTSTAMP:20260423T224427
CREATED:20220108T030749Z
LAST-MODIFIED:20230106T234146Z
UID:6511-1679430600-1679434200@lwpfdn.org
SUMMARY:English Enhancement Program
DESCRIPTION:
URL:https://lwpfdn.org/event/english-enhancement-program-3-3-2-2-2-2-2-2-2-2-2-2-2-3-2-2-2-2-2-2-2-2-2-2-3-2-2-2-2-2-2-2-2-2-2-2-2-2-2-3-2-2-2-2-2-2-2-2-2-2-2-2-2-2-2-2-2-2-2-2-2-2-2-2-2-2-2-2-2-2-2-2-2/
END:VEVENT
BEGIN:VEVENT
DTSTART;TZID=America/Los_Angeles:20230317T203000
DTEND;TZID=America/Los_Angeles:20230317T213000
DTSTAMP:20260423T224427
CREATED:20220108T030749Z
LAST-MODIFIED:20230106T234640Z
UID:6529-1679085000-1679088600@lwpfdn.org
SUMMARY:English Enhancement Program
DESCRIPTION:
URL:https://lwpfdn.org/event/english-enhancement-program-3-3-2-2-2-2-2-2-2-2-2-2-2-3-2-2-2-2-2-2-2-2-2-2-3-2-2-2-2-2-2-2-2-2-2-2-2-2-2-3-2-2-2-2-2-2-2-2-2-2-2-2-2-2-2-2-2-2-2-2-2-2-2-2-2-2-2-2-2-2-2-2-2-2-2-2-2-2-2-2-2-2/
END:VEVENT
BEGIN:VEVENT
DTSTART;TZID=America/Los_Angeles:20230314T203000
DTEND;TZID=America/Los_Angeles:20230314T213000
DTSTAMP:20260423T224427
CREATED:20220108T030749Z
LAST-MODIFIED:20230106T234123Z
UID:6509-1678825800-1678829400@lwpfdn.org
SUMMARY:English Enhancement Program
DESCRIPTION:
URL:https://lwpfdn.org/event/english-enhancement-program-3-3-2-2-2-2-2-2-2-2-2-2-2-3-2-2-2-2-2-2-2-2-2-2-3-2-2-2-2-2-2-2-2-2-2-2-2-2-2-3-2-2-2-2-2-2-2-2-2-2-2-2-2-2-2-2-2-2-2-2-2-2-2-2-2-2-2-2-2-2-2-2/
END:VEVENT
BEGIN:VEVENT
DTSTART;TZID=America/Los_Angeles:20230312T143000
DTEND;TZID=America/Los_Angeles:20230312T163000
DTSTAMP:20260423T224427
CREATED:20230205T231128Z
LAST-MODIFIED:20230315T014159Z
UID:6561-1678631400-1678638600@lwpfdn.org
SUMMARY:LWPF Student Commission Meeting
DESCRIPTION:LWPFSC-Meeting-Agenda-2023-3-12-1Download
URL:https://lwpfdn.org/event/lwpf-student-commission-meeting-12-2/
END:VEVENT
BEGIN:VEVENT
DTSTART;TZID=America/Los_Angeles:20230310T203000
DTEND;TZID=America/Los_Angeles:20230310T213000
DTSTAMP:20260423T224427
CREATED:20220108T030749Z
LAST-MODIFIED:20230106T234610Z
UID:6527-1678480200-1678483800@lwpfdn.org
SUMMARY:English Enhancement Program
DESCRIPTION:
URL:https://lwpfdn.org/event/english-enhancement-program-3-3-2-2-2-2-2-2-2-2-2-2-2-3-2-2-2-2-2-2-2-2-2-2-3-2-2-2-2-2-2-2-2-2-2-2-2-2-2-3-2-2-2-2-2-2-2-2-2-2-2-2-2-2-2-2-2-2-2-2-2-2-2-2-2-2-2-2-2-2-2-2-2-2-2-2-2-2-2-2-2/
END:VEVENT
BEGIN:VEVENT
DTSTART;TZID=America/Los_Angeles:20230307T203000
DTEND;TZID=America/Los_Angeles:20230307T213000
DTSTAMP:20260423T224427
CREATED:20220108T030749Z
LAST-MODIFIED:20230106T234101Z
UID:6507-1678221000-1678224600@lwpfdn.org
SUMMARY:English Enhancement Program
DESCRIPTION:
URL:https://lwpfdn.org/event/english-enhancement-program-3-3-2-2-2-2-2-2-2-2-2-2-2-3-2-2-2-2-2-2-2-2-2-2-3-2-2-2-2-2-2-2-2-2-2-2-2-2-2-3-2-2-2-2-2-2-2-2-2-2-2-2-2-2-2-2-2-2-2-2-2-2-2-2-2-2-2-2-2-2-2/
END:VEVENT
BEGIN:VEVENT
DTSTART;TZID=America/Los_Angeles:20230303T203000
DTEND;TZID=America/Los_Angeles:20230303T213000
DTSTAMP:20260423T224427
CREATED:20220108T030749Z
LAST-MODIFIED:20230106T234542Z
UID:6525-1677875400-1677879000@lwpfdn.org
SUMMARY:English Enhancement Program
DESCRIPTION:
URL:https://lwpfdn.org/event/english-enhancement-program-3-3-2-2-2-2-2-2-2-2-2-2-2-3-2-2-2-2-2-2-2-2-2-2-3-2-2-2-2-2-2-2-2-2-2-2-2-2-2-3-2-2-2-2-2-2-2-2-2-2-2-2-2-2-2-2-2-2-2-2-2-2-2-2-2-2-2-2-2-2-2-2-2-2-2-2-2-2-2-2/
END:VEVENT
BEGIN:VEVENT
DTSTART;TZID=America/Los_Angeles:20230228T203000
DTEND;TZID=America/Los_Angeles:20230228T213000
DTSTAMP:20260423T224427
CREATED:20220108T030749Z
LAST-MODIFIED:20230106T234040Z
UID:6505-1677616200-1677619800@lwpfdn.org
SUMMARY:English Enhancement Program
DESCRIPTION:
URL:https://lwpfdn.org/event/english-enhancement-program-3-3-2-2-2-2-2-2-2-2-2-2-2-3-2-2-2-2-2-2-2-2-2-2-3-2-2-2-2-2-2-2-2-2-2-2-2-2-2-3-2-2-2-2-2-2-2-2-2-2-2-2-2-2-2-2-2-2-2-2-2-2-2-2-2-2-2-2-2-2/
END:VEVENT
BEGIN:VEVENT
DTSTART;TZID=America/Los_Angeles:20230224T203000
DTEND;TZID=America/Los_Angeles:20230224T213000
DTSTAMP:20260423T224427
CREATED:20220108T030749Z
LAST-MODIFIED:20230106T234517Z
UID:6523-1677270600-1677274200@lwpfdn.org
SUMMARY:English Enhancement Program
DESCRIPTION:
URL:https://lwpfdn.org/event/english-enhancement-program-3-3-2-2-2-2-2-2-2-2-2-2-2-3-2-2-2-2-2-2-2-2-2-2-3-2-2-2-2-2-2-2-2-2-2-2-2-2-2-3-2-2-2-2-2-2-2-2-2-2-2-2-2-2-2-2-2-2-2-2-2-2-2-2-2-2-2-2-2-2-2-2-2-2-2-2-2-2-2/
END:VEVENT
BEGIN:VEVENT
DTSTART;TZID=America/Los_Angeles:20230221T203000
DTEND;TZID=America/Los_Angeles:20230221T213000
DTSTAMP:20260423T224427
CREATED:20220108T030749Z
LAST-MODIFIED:20230106T233603Z
UID:6503-1677011400-1677015000@lwpfdn.org
SUMMARY:English Enhancement Program
DESCRIPTION:
URL:https://lwpfdn.org/event/english-enhancement-program-3-3-2-2-2-2-2-2-2-2-2-2-2-3-2-2-2-2-2-2-2-2-2-2-3-2-2-2-2-2-2-2-2-2-2-2-2-2-2-3-2-2-2-2-2-2-2-2-2-2-2-2-2-2-2-2-2-2-2-2-2-2-2-2-2-2-2-2-2/
END:VEVENT
BEGIN:VEVENT
DTSTART;TZID=America/Los_Angeles:20230217T203000
DTEND;TZID=America/Los_Angeles:20230217T213000
DTSTAMP:20260423T224427
CREATED:20220108T030749Z
LAST-MODIFIED:20230106T234453Z
UID:6521-1676665800-1676669400@lwpfdn.org
SUMMARY:English Enhancement Program
DESCRIPTION:
URL:https://lwpfdn.org/event/english-enhancement-program-3-3-2-2-2-2-2-2-2-2-2-2-2-3-2-2-2-2-2-2-2-2-2-2-3-2-2-2-2-2-2-2-2-2-2-2-2-2-2-3-2-2-2-2-2-2-2-2-2-2-2-2-2-2-2-2-2-2-2-2-2-2-2-2-2-2-2-2-2-2-2-2-2-2-2-2-2-2/
END:VEVENT
END:VCALENDAR