BEGIN:VCALENDAR
VERSION:2.0
PRODID:-//Lead with Purpose Foundation - ECPv6.15.20//NONSGML v1.0//EN
CALSCALE:GREGORIAN
METHOD:PUBLISH
X-ORIGINAL-URL:https://lwpfdn.org
X-WR-CALDESC:Events for Lead with Purpose Foundation
REFRESH-INTERVAL;VALUE=DURATION:PT1H
X-Robots-Tag:noindex
X-PUBLISHED-TTL:PT1H
BEGIN:VTIMEZONE
TZID:America/Los_Angeles
BEGIN:DAYLIGHT
TZOFFSETFROM:-0800
TZOFFSETTO:-0700
TZNAME:PDT
DTSTART:20210314T100000
END:DAYLIGHT
BEGIN:STANDARD
TZOFFSETFROM:-0700
TZOFFSETTO:-0800
TZNAME:PST
DTSTART:20211107T090000
END:STANDARD
BEGIN:DAYLIGHT
TZOFFSETFROM:-0800
TZOFFSETTO:-0700
TZNAME:PDT
DTSTART:20220313T100000
END:DAYLIGHT
BEGIN:STANDARD
TZOFFSETFROM:-0700
TZOFFSETTO:-0800
TZNAME:PST
DTSTART:20221106T090000
END:STANDARD
BEGIN:DAYLIGHT
TZOFFSETFROM:-0800
TZOFFSETTO:-0700
TZNAME:PDT
DTSTART:20230312T100000
END:DAYLIGHT
BEGIN:STANDARD
TZOFFSETFROM:-0700
TZOFFSETTO:-0800
TZNAME:PST
DTSTART:20231105T090000
END:STANDARD
BEGIN:DAYLIGHT
TZOFFSETFROM:-0800
TZOFFSETTO:-0700
TZNAME:PDT
DTSTART:20240310T100000
END:DAYLIGHT
BEGIN:STANDARD
TZOFFSETFROM:-0700
TZOFFSETTO:-0800
TZNAME:PST
DTSTART:20241103T090000
END:STANDARD
END:VTIMEZONE
BEGIN:VEVENT
DTSTART;TZID=America/Los_Angeles:20230214T203000
DTEND;TZID=America/Los_Angeles:20230214T213000
DTSTAMP:20260423T235433
CREATED:20220108T030749Z
LAST-MODIFIED:20230106T233534Z
UID:6501-1676406600-1676410200@lwpfdn.org
SUMMARY:English Enhancement Program
DESCRIPTION:
URL:https://lwpfdn.org/event/english-enhancement-program-3-3-2-2-2-2-2-2-2-2-2-2-2-3-2-2-2-2-2-2-2-2-2-2-3-2-2-2-2-2-2-2-2-2-2-2-2-2-2-3-2-2-2-2-2-2-2-2-2-2-2-2-2-2-2-2-2-2-2-2-2-2-2-2-2-2-2-2/
END:VEVENT
BEGIN:VEVENT
DTSTART;TZID=America/Los_Angeles:20230212T143000
DTEND;TZID=America/Los_Angeles:20230212T163000
DTSTAMP:20260423T235433
CREATED:20230205T231128Z
LAST-MODIFIED:20230210T024341Z
UID:6537-1676212200-1676219400@lwpfdn.org
SUMMARY:LWPF Student Commission Meeting
DESCRIPTION:LWPFSC-Meeting-Agenda-2023-2-12-1Download
URL:https://lwpfdn.org/event/lwpf-student-commission-meeting-12/
END:VEVENT
BEGIN:VEVENT
DTSTART;TZID=America/Los_Angeles:20230210T203000
DTEND;TZID=America/Los_Angeles:20230210T213000
DTSTAMP:20260423T235433
CREATED:20220108T030749Z
LAST-MODIFIED:20230106T234414Z
UID:6519-1676061000-1676064600@lwpfdn.org
SUMMARY:English Enhancement Program
DESCRIPTION:
URL:https://lwpfdn.org/event/english-enhancement-program-3-3-2-2-2-2-2-2-2-2-2-2-2-3-2-2-2-2-2-2-2-2-2-2-3-2-2-2-2-2-2-2-2-2-2-2-2-2-2-3-2-2-2-2-2-2-2-2-2-2-2-2-2-2-2-2-2-2-2-2-2-2-2-2-2-2-2-2-2-2-2-2-2-2-2-2-2/
END:VEVENT
BEGIN:VEVENT
DTSTART;TZID=America/Los_Angeles:20230207T203000
DTEND;TZID=America/Los_Angeles:20230207T213000
DTSTAMP:20260423T235433
CREATED:20220108T030749Z
LAST-MODIFIED:20230106T233510Z
UID:6499-1675801800-1675805400@lwpfdn.org
SUMMARY:English Enhancement Program
DESCRIPTION:
URL:https://lwpfdn.org/event/english-enhancement-program-3-3-2-2-2-2-2-2-2-2-2-2-2-3-2-2-2-2-2-2-2-2-2-2-3-2-2-2-2-2-2-2-2-2-2-2-2-2-2-3-2-2-2-2-2-2-2-2-2-2-2-2-2-2-2-2-2-2-2-2-2-2-2-2-2-2-2/
END:VEVENT
BEGIN:VEVENT
DTSTART;TZID=America/Los_Angeles:20230203T203000
DTEND;TZID=America/Los_Angeles:20230203T213000
DTSTAMP:20260423T235433
CREATED:20220108T030749Z
LAST-MODIFIED:20230106T234313Z
UID:6517-1675456200-1675459800@lwpfdn.org
SUMMARY:English Enhancement Program
DESCRIPTION:
URL:https://lwpfdn.org/event/english-enhancement-program-3-3-2-2-2-2-2-2-2-2-2-2-2-3-2-2-2-2-2-2-2-2-2-2-3-2-2-2-2-2-2-2-2-2-2-2-2-2-2-3-2-2-2-2-2-2-2-2-2-2-2-2-2-2-2-2-2-2-2-2-2-2-2-2-2-2-2-2-2-2-2-2-2-2-2-2/
END:VEVENT
BEGIN:VEVENT
DTSTART;TZID=America/Los_Angeles:20230131T203000
DTEND;TZID=America/Los_Angeles:20230131T213000
DTSTAMP:20260423T235433
CREATED:20220108T030749Z
LAST-MODIFIED:20230106T233417Z
UID:6497-1675197000-1675200600@lwpfdn.org
SUMMARY:English Enhancement Program
DESCRIPTION:
URL:https://lwpfdn.org/event/english-enhancement-program-3-3-2-2-2-2-2-2-2-2-2-2-2-3-2-2-2-2-2-2-2-2-2-2-3-2-2-2-2-2-2-2-2-2-2-2-2-2-2-3-2-2-2-2-2-2-2-2-2-2-2-2-2-2-2-2-2-2-2-2-2-2-2-2-2-2/
END:VEVENT
BEGIN:VEVENT
DTSTART;TZID=America/Los_Angeles:20230127T203000
DTEND;TZID=America/Los_Angeles:20230127T213000
DTSTAMP:20260423T235433
CREATED:20220108T030749Z
LAST-MODIFIED:20230106T234240Z
UID:6515-1674851400-1674855000@lwpfdn.org
SUMMARY:English Enhancement Program
DESCRIPTION:
URL:https://lwpfdn.org/event/english-enhancement-program-3-3-2-2-2-2-2-2-2-2-2-2-2-3-2-2-2-2-2-2-2-2-2-2-3-2-2-2-2-2-2-2-2-2-2-2-2-2-2-3-2-2-2-2-2-2-2-2-2-2-2-2-2-2-2-2-2-2-2-2-2-2-2-2-2-2-2-2-2-2-2-2-2-2-2/
END:VEVENT
BEGIN:VEVENT
DTSTART;TZID=America/Los_Angeles:20230124T203000
DTEND;TZID=America/Los_Angeles:20230124T213000
DTSTAMP:20260423T235433
CREATED:20220108T030749Z
LAST-MODIFIED:20230106T233351Z
UID:6494-1674592200-1674595800@lwpfdn.org
SUMMARY:English Enhancement Program
DESCRIPTION:
URL:https://lwpfdn.org/event/english-enhancement-program-3-3-2-2-2-2-2-2-2-2-2-2-2-3-2-2-2-2-2-2-2-2-2-2-3-2-2-2-2-2-2-2-2-2-2-2-2-2-2-3-2-2-2-2-2-2-2-2-2-2-2-2-2-2-2-2-2-2-2-2-2-2-2-2-2/
END:VEVENT
BEGIN:VEVENT
DTSTART;TZID=America/Los_Angeles:20230115T133000
DTEND;TZID=America/Los_Angeles:20230115T163000
DTSTAMP:20260423T235433
CREATED:20220911T002230Z
LAST-MODIFIED:20230106T233211Z
UID:6492-1673789400-1673800200@lwpfdn.org
SUMMARY:Holiday Potluck Party
DESCRIPTION:Happy new year to all of you!  Please join our potluck party to welcome the new year of 2023 and the Chinese Rabbit New Year on Jan. 22.  \n\n\n\nLocation: Thousand Oaks Teen CenterAddress: 1375 E Janss Rd\, Thousand Oaks\, CA 91362Time: 1:30 to 4:30 pmDate: Jan. 15Food: please show off your main dish for sharing(dessert\, fruit and drink will be prepared by the foundation)
URL:https://lwpfdn.org/event/lwpf-student-commission-meeting-11-2-2-2/
END:VEVENT
BEGIN:VEVENT
DTSTART;TZID=America/Los_Angeles:20221118T203000
DTEND;TZID=America/Los_Angeles:20221118T213000
DTSTAMP:20260423T235433
CREATED:20220108T030749Z
LAST-MODIFIED:20220906T034853Z
UID:4948-1668803400-1668807000@lwpfdn.org
SUMMARY:English Enhancement Program
DESCRIPTION:
URL:https://lwpfdn.org/event/english-enhancement-program-3-3-2-2-2-2-2-2-2-2-2-2-2-3-2-2-2-2-2-2-2-2-2-2-3-2-2-2-2-2-2-2-2-2-2-2-2-2-2-3-2-2-2-2-2-2-2-2-2-2-2-2-2-2-2-2-2-2-2-2-2-2-2-2/
END:VEVENT
BEGIN:VEVENT
DTSTART;TZID=America/Los_Angeles:20221115T203000
DTEND;TZID=America/Los_Angeles:20221115T213000
DTSTAMP:20260423T235433
CREATED:20220108T030749Z
LAST-MODIFIED:20220906T034513Z
UID:4928-1668544200-1668547800@lwpfdn.org
SUMMARY:English Enhancement Program
DESCRIPTION:
URL:https://lwpfdn.org/event/english-enhancement-program-3-3-2-2-2-2-2-2-2-2-2-2-2-3-2-2-2-2-2-2-2-2-2-2-3-2-2-2-2-2-2-2-2-2-2-2-2-2-2-3-2-2-2-2-2-2-2-2-2-2-2-2-2-2/
END:VEVENT
BEGIN:VEVENT
DTSTART;TZID=America/Los_Angeles:20221113T143000
DTEND;TZID=America/Los_Angeles:20221113T163000
DTSTAMP:20260423T235433
CREATED:20220911T002230Z
LAST-MODIFIED:20221111T233426Z
UID:6486-1668349800-1668357000@lwpfdn.org
SUMMARY:LWPF Student Commission Meeting
DESCRIPTION:LWPFSC-Meeting-Agenda-2022-11-13Download
URL:https://lwpfdn.org/event/lwpf-student-commission-meeting-11-2-2/
END:VEVENT
BEGIN:VEVENT
DTSTART;TZID=America/Los_Angeles:20221111T203000
DTEND;TZID=America/Los_Angeles:20221111T213000
DTSTAMP:20260423T235433
CREATED:20220108T030749Z
LAST-MODIFIED:20220906T034833Z
UID:4946-1668198600-1668202200@lwpfdn.org
SUMMARY:English Enhancement Program
DESCRIPTION:
URL:https://lwpfdn.org/event/english-enhancement-program-3-3-2-2-2-2-2-2-2-2-2-2-2-3-2-2-2-2-2-2-2-2-2-2-3-2-2-2-2-2-2-2-2-2-2-2-2-2-2-3-2-2-2-2-2-2-2-2-2-2-2-2-2-2-2-2-2-2-2-2-2-2-2/
END:VEVENT
BEGIN:VEVENT
DTSTART;TZID=America/Los_Angeles:20221108T203000
DTEND;TZID=America/Los_Angeles:20221108T213000
DTSTAMP:20260423T235433
CREATED:20220108T030749Z
LAST-MODIFIED:20220906T034452Z
UID:4926-1667939400-1667943000@lwpfdn.org
SUMMARY:English Enhancement Program
DESCRIPTION:
URL:https://lwpfdn.org/event/english-enhancement-program-3-3-2-2-2-2-2-2-2-2-2-2-2-3-2-2-2-2-2-2-2-2-2-2-3-2-2-2-2-2-2-2-2-2-2-2-2-2-2-3-2-2-2-2-2-2-2-2-2-2-2-2-2/
END:VEVENT
BEGIN:VEVENT
DTSTART;TZID=America/Los_Angeles:20221104T203000
DTEND;TZID=America/Los_Angeles:20221104T213000
DTSTAMP:20260423T235433
CREATED:20220108T030749Z
LAST-MODIFIED:20220906T034818Z
UID:4944-1667593800-1667597400@lwpfdn.org
SUMMARY:English Enhancement Program
DESCRIPTION:
URL:https://lwpfdn.org/event/english-enhancement-program-3-3-2-2-2-2-2-2-2-2-2-2-2-3-2-2-2-2-2-2-2-2-2-2-3-2-2-2-2-2-2-2-2-2-2-2-2-2-2-3-2-2-2-2-2-2-2-2-2-2-2-2-2-2-2-2-2-2-2-2-2-2/
END:VEVENT
BEGIN:VEVENT
DTSTART;TZID=America/Los_Angeles:20221101T203000
DTEND;TZID=America/Los_Angeles:20221101T213000
DTSTAMP:20260423T235433
CREATED:20220108T030749Z
LAST-MODIFIED:20220906T034435Z
UID:4924-1667334600-1667338200@lwpfdn.org
SUMMARY:English Enhancement Program
DESCRIPTION:
URL:https://lwpfdn.org/event/english-enhancement-program-3-3-2-2-2-2-2-2-2-2-2-2-2-3-2-2-2-2-2-2-2-2-2-2-3-2-2-2-2-2-2-2-2-2-2-2-2-2-2-3-2-2-2-2-2-2-2-2-2-2-2-2/
END:VEVENT
BEGIN:VEVENT
DTSTART;TZID=America/Los_Angeles:20221028T203000
DTEND;TZID=America/Los_Angeles:20221028T213000
DTSTAMP:20260423T235433
CREATED:20220108T030749Z
LAST-MODIFIED:20220906T034758Z
UID:4942-1666989000-1666992600@lwpfdn.org
SUMMARY:English Enhancement Program
DESCRIPTION:
URL:https://lwpfdn.org/event/english-enhancement-program-3-3-2-2-2-2-2-2-2-2-2-2-2-3-2-2-2-2-2-2-2-2-2-2-3-2-2-2-2-2-2-2-2-2-2-2-2-2-2-3-2-2-2-2-2-2-2-2-2-2-2-2-2-2-2-2-2-2-2-2-2/
END:VEVENT
BEGIN:VEVENT
DTSTART;TZID=America/Los_Angeles:20221025T203000
DTEND;TZID=America/Los_Angeles:20221025T213000
DTSTAMP:20260423T235433
CREATED:20220108T030749Z
LAST-MODIFIED:20220906T034417Z
UID:4922-1666729800-1666733400@lwpfdn.org
SUMMARY:English Enhancement Program
DESCRIPTION:
URL:https://lwpfdn.org/event/english-enhancement-program-3-3-2-2-2-2-2-2-2-2-2-2-2-3-2-2-2-2-2-2-2-2-2-2-3-2-2-2-2-2-2-2-2-2-2-2-2-2-2-3-2-2-2-2-2-2-2-2-2-2-2/
END:VEVENT
BEGIN:VEVENT
DTSTART;TZID=America/Los_Angeles:20221021T203000
DTEND;TZID=America/Los_Angeles:20221021T213000
DTSTAMP:20260423T235433
CREATED:20220108T030749Z
LAST-MODIFIED:20220906T034743Z
UID:4940-1666384200-1666387800@lwpfdn.org
SUMMARY:English Enhancement Program
DESCRIPTION:
URL:https://lwpfdn.org/event/english-enhancement-program-3-3-2-2-2-2-2-2-2-2-2-2-2-3-2-2-2-2-2-2-2-2-2-2-3-2-2-2-2-2-2-2-2-2-2-2-2-2-2-3-2-2-2-2-2-2-2-2-2-2-2-2-2-2-2-2-2-2-2-2/
END:VEVENT
BEGIN:VEVENT
DTSTART;TZID=America/Los_Angeles:20221018T203000
DTEND;TZID=America/Los_Angeles:20221018T213000
DTSTAMP:20260423T235433
CREATED:20220108T030749Z
LAST-MODIFIED:20220906T034357Z
UID:4920-1666125000-1666128600@lwpfdn.org
SUMMARY:English Enhancement Program
DESCRIPTION:
URL:https://lwpfdn.org/event/english-enhancement-program-3-3-2-2-2-2-2-2-2-2-2-2-2-3-2-2-2-2-2-2-2-2-2-2-3-2-2-2-2-2-2-2-2-2-2-2-2-2-2-3-2-2-2-2-2-2-2-2-2-2/
END:VEVENT
BEGIN:VEVENT
DTSTART;TZID=America/Los_Angeles:20221016T143000
DTEND;TZID=America/Los_Angeles:20221016T163000
DTSTAMP:20260423T235433
CREATED:20220911T002230Z
LAST-MODIFIED:20221005T033822Z
UID:6470-1665930600-1665937800@lwpfdn.org
SUMMARY:LWPF Student Commission Meeting
DESCRIPTION:LWPFSC-Meeting-Agenda-2022-10-16-3Download
URL:https://lwpfdn.org/event/lwpf-student-commission-meeting-11-2/
END:VEVENT
BEGIN:VEVENT
DTSTART;TZID=America/Los_Angeles:20221014T203000
DTEND;TZID=America/Los_Angeles:20221014T213000
DTSTAMP:20260423T235433
CREATED:20220108T030749Z
LAST-MODIFIED:20220906T034726Z
UID:4938-1665779400-1665783000@lwpfdn.org
SUMMARY:English Enhancement Program
DESCRIPTION:
URL:https://lwpfdn.org/event/english-enhancement-program-3-3-2-2-2-2-2-2-2-2-2-2-2-3-2-2-2-2-2-2-2-2-2-2-3-2-2-2-2-2-2-2-2-2-2-2-2-2-2-3-2-2-2-2-2-2-2-2-2-2-2-2-2-2-2-2-2-2-2/
END:VEVENT
BEGIN:VEVENT
DTSTART;TZID=America/Los_Angeles:20221011T203000
DTEND;TZID=America/Los_Angeles:20221011T213000
DTSTAMP:20260423T235433
CREATED:20220108T030749Z
LAST-MODIFIED:20220906T034340Z
UID:4918-1665520200-1665523800@lwpfdn.org
SUMMARY:English Enhancement Program
DESCRIPTION:
URL:https://lwpfdn.org/event/english-enhancement-program-3-3-2-2-2-2-2-2-2-2-2-2-2-3-2-2-2-2-2-2-2-2-2-2-3-2-2-2-2-2-2-2-2-2-2-2-2-2-2-3-2-2-2-2-2-2-2-2-2/
END:VEVENT
BEGIN:VEVENT
DTSTART;TZID=America/Los_Angeles:20221007T203000
DTEND;TZID=America/Los_Angeles:20221007T213000
DTSTAMP:20260423T235433
CREATED:20220108T030749Z
LAST-MODIFIED:20220906T034710Z
UID:4936-1665174600-1665178200@lwpfdn.org
SUMMARY:English Enhancement Program
DESCRIPTION:
URL:https://lwpfdn.org/event/english-enhancement-program-3-3-2-2-2-2-2-2-2-2-2-2-2-3-2-2-2-2-2-2-2-2-2-2-3-2-2-2-2-2-2-2-2-2-2-2-2-2-2-3-2-2-2-2-2-2-2-2-2-2-2-2-2-2-2-2-2-2/
END:VEVENT
BEGIN:VEVENT
DTSTART;TZID=America/Los_Angeles:20221004T203000
DTEND;TZID=America/Los_Angeles:20221004T213000
DTSTAMP:20260423T235433
CREATED:20220108T030749Z
LAST-MODIFIED:20220906T034322Z
UID:4916-1664915400-1664919000@lwpfdn.org
SUMMARY:English Enhancement Program
DESCRIPTION:
URL:https://lwpfdn.org/event/english-enhancement-program-3-3-2-2-2-2-2-2-2-2-2-2-2-3-2-2-2-2-2-2-2-2-2-2-3-2-2-2-2-2-2-2-2-2-2-2-2-2-2-3-2-2-2-2-2-2-2-2/
END:VEVENT
BEGIN:VEVENT
DTSTART;TZID=America/Los_Angeles:20220930T203000
DTEND;TZID=America/Los_Angeles:20220930T213000
DTSTAMP:20260423T235433
CREATED:20220108T030749Z
LAST-MODIFIED:20220906T034644Z
UID:4934-1664569800-1664573400@lwpfdn.org
SUMMARY:English Enhancement Program
DESCRIPTION:
URL:https://lwpfdn.org/event/english-enhancement-program-3-3-2-2-2-2-2-2-2-2-2-2-2-3-2-2-2-2-2-2-2-2-2-2-3-2-2-2-2-2-2-2-2-2-2-2-2-2-2-3-2-2-2-2-2-2-2-2-2-2-2-2-2-2-2-2-2/
END:VEVENT
BEGIN:VEVENT
DTSTART;TZID=America/Los_Angeles:20220927T203000
DTEND;TZID=America/Los_Angeles:20220927T213000
DTSTAMP:20260423T235433
CREATED:20220108T030749Z
LAST-MODIFIED:20220906T034302Z
UID:4914-1664310600-1664314200@lwpfdn.org
SUMMARY:English Enhancement Program
DESCRIPTION:
URL:https://lwpfdn.org/event/english-enhancement-program-3-3-2-2-2-2-2-2-2-2-2-2-2-3-2-2-2-2-2-2-2-2-2-2-3-2-2-2-2-2-2-2-2-2-2-2-2-2-2-3-2-2-2-2-2-2-2/
END:VEVENT
BEGIN:VEVENT
DTSTART;TZID=America/Los_Angeles:20220923T203000
DTEND;TZID=America/Los_Angeles:20220923T213000
DTSTAMP:20260423T235433
CREATED:20220108T030749Z
LAST-MODIFIED:20220906T034619Z
UID:4932-1663965000-1663968600@lwpfdn.org
SUMMARY:English Enhancement Program
DESCRIPTION:
URL:https://lwpfdn.org/event/english-enhancement-program-3-3-2-2-2-2-2-2-2-2-2-2-2-3-2-2-2-2-2-2-2-2-2-2-3-2-2-2-2-2-2-2-2-2-2-2-2-2-2-3-2-2-2-2-2-2-2-2-2-2-2-2-2-2-2-2/
END:VEVENT
BEGIN:VEVENT
DTSTART;TZID=America/Los_Angeles:20220920T203000
DTEND;TZID=America/Los_Angeles:20220920T213000
DTSTAMP:20260423T235433
CREATED:20220108T030749Z
LAST-MODIFIED:20220906T034237Z
UID:4912-1663705800-1663709400@lwpfdn.org
SUMMARY:English Enhancement Program
DESCRIPTION:
URL:https://lwpfdn.org/event/english-enhancement-program-3-3-2-2-2-2-2-2-2-2-2-2-2-3-2-2-2-2-2-2-2-2-2-2-3-2-2-2-2-2-2-2-2-2-2-2-2-2-2-3-2-2-2-2-2-2/
END:VEVENT
BEGIN:VEVENT
DTSTART;TZID=America/Los_Angeles:20220918T143000
DTEND;TZID=America/Los_Angeles:20220918T163000
DTSTAMP:20260423T235433
CREATED:20220911T002230Z
LAST-MODIFIED:20220911T002233Z
UID:4951-1663511400-1663518600@lwpfdn.org
SUMMARY:LWPF Student Commission Meeting
DESCRIPTION:LWPFSC-Meeting-Agenda-2022-9-18Download
URL:https://lwpfdn.org/event/lwpf-student-commission-meeting-11/
END:VEVENT
END:VCALENDAR