BEGIN:VCALENDAR
VERSION:2.0
PRODID:-//Lead with Purpose Foundation - ECPv6.15.20//NONSGML v1.0//EN
CALSCALE:GREGORIAN
METHOD:PUBLISH
X-WR-CALNAME:Lead with Purpose Foundation
X-ORIGINAL-URL:https://lwpfdn.org
X-WR-CALDESC:Events for Lead with Purpose Foundation
REFRESH-INTERVAL;VALUE=DURATION:PT1H
X-Robots-Tag:noindex
X-PUBLISHED-TTL:PT1H
BEGIN:VTIMEZONE
TZID:America/Los_Angeles
BEGIN:DAYLIGHT
TZOFFSETFROM:-0800
TZOFFSETTO:-0700
TZNAME:PDT
DTSTART:20210314T100000
END:DAYLIGHT
BEGIN:STANDARD
TZOFFSETFROM:-0700
TZOFFSETTO:-0800
TZNAME:PST
DTSTART:20211107T090000
END:STANDARD
BEGIN:DAYLIGHT
TZOFFSETFROM:-0800
TZOFFSETTO:-0700
TZNAME:PDT
DTSTART:20220313T100000
END:DAYLIGHT
BEGIN:STANDARD
TZOFFSETFROM:-0700
TZOFFSETTO:-0800
TZNAME:PST
DTSTART:20221106T090000
END:STANDARD
BEGIN:DAYLIGHT
TZOFFSETFROM:-0800
TZOFFSETTO:-0700
TZNAME:PDT
DTSTART:20230312T100000
END:DAYLIGHT
BEGIN:STANDARD
TZOFFSETFROM:-0700
TZOFFSETTO:-0800
TZNAME:PST
DTSTART:20231105T090000
END:STANDARD
END:VTIMEZONE
BEGIN:VEVENT
DTSTART;TZID=America/Los_Angeles:20220916T203000
DTEND;TZID=America/Los_Angeles:20220916T213000
DTSTAMP:20260424T010944
CREATED:20220108T030749Z
LAST-MODIFIED:20220906T034556Z
UID:4930-1663360200-1663363800@lwpfdn.org
SUMMARY:English Enhancement Program
DESCRIPTION:
URL:https://lwpfdn.org/event/english-enhancement-program-3-3-2-2-2-2-2-2-2-2-2-2-2-3-2-2-2-2-2-2-2-2-2-2-3-2-2-2-2-2-2-2-2-2-2-2-2-2-2-3-2-2-2-2-2-2-2-2-2-2-2-2-2-2-2/
END:VEVENT
BEGIN:VEVENT
DTSTART;TZID=America/Los_Angeles:20220913T203000
DTEND;TZID=America/Los_Angeles:20220913T213000
DTSTAMP:20260424T010944
CREATED:20220108T030749Z
LAST-MODIFIED:20220906T034147Z
UID:4908-1663101000-1663104600@lwpfdn.org
SUMMARY:English Enhancement Program
DESCRIPTION:
URL:https://lwpfdn.org/event/english-enhancement-program-3-3-2-2-2-2-2-2-2-2-2-2-2-3-2-2-2-2-2-2-2-2-2-2-3-2-2-2-2-2-2-2-2-2-2-2-2-2-2-3-2-2-2-2-2/
END:VEVENT
BEGIN:VEVENT
DTSTART;TZID=America/Los_Angeles:20220826T203000
DTEND;TZID=America/Los_Angeles:20220826T213000
DTSTAMP:20260424T010944
CREATED:20220108T030749Z
LAST-MODIFIED:20220605T004558Z
UID:4763-1661545800-1661549400@lwpfdn.org
SUMMARY:English Enhancement Program
DESCRIPTION:
URL:https://lwpfdn.org/event/english-enhancement-program-3-3-2-2-2-2-2-2-2-2-2-2-2-3-2-2-2-2-2-2-2-2-2-2-3-2-2-2-2-2-2-2-2-2-2-2-2-2-2-3-2-2-2-2/
END:VEVENT
BEGIN:VEVENT
DTSTART;TZID=America/Los_Angeles:20220826T080000
DTEND;TZID=America/Los_Angeles:20220826T170000
DTSTAMP:20260424T010944
CREATED:20220726T003911Z
LAST-MODIFIED:20220726T004115Z
UID:4769-1661500800-1661533200@lwpfdn.org
SUMMARY:LWPF Family Camping
DESCRIPTION:From 8/26 – 8/28
URL:https://lwpfdn.org/event/lwpf-family-camping/
END:VEVENT
BEGIN:VEVENT
DTSTART;TZID=America/Los_Angeles:20220823T203000
DTEND;TZID=America/Los_Angeles:20220823T213000
DTSTAMP:20260424T010944
CREATED:20220108T030749Z
LAST-MODIFIED:20220605T004243Z
UID:4747-1661286600-1661290200@lwpfdn.org
SUMMARY:English Enhancement Program
DESCRIPTION:
URL:https://lwpfdn.org/event/english-enhancement-program-3-3-2-2-2-2-2-2-2-2-2-2-2-3-2-2-2-2-2-2-2-2-2-2-3-2-2-2-2-2-2-2-2-2-2-2-2-2-2-2-2-2-2/
END:VEVENT
BEGIN:VEVENT
DTSTART;TZID=America/Los_Angeles:20220819T203000
DTEND;TZID=America/Los_Angeles:20220819T213000
DTSTAMP:20260424T010944
CREATED:20220108T030749Z
LAST-MODIFIED:20220605T004536Z
UID:4761-1660941000-1660944600@lwpfdn.org
SUMMARY:English Enhancement Program
DESCRIPTION:
URL:https://lwpfdn.org/event/english-enhancement-program-3-3-2-2-2-2-2-2-2-2-2-2-2-3-2-2-2-2-2-2-2-2-2-2-3-2-2-2-2-2-2-2-2-2-2-2-2-2-2-3-2-2-2/
END:VEVENT
BEGIN:VEVENT
DTSTART;TZID=America/Los_Angeles:20220816T203000
DTEND;TZID=America/Los_Angeles:20220816T213000
DTSTAMP:20260424T010944
CREATED:20220108T030749Z
LAST-MODIFIED:20220605T004225Z
UID:4745-1660681800-1660685400@lwpfdn.org
SUMMARY:English Enhancement Program
DESCRIPTION:
URL:https://lwpfdn.org/event/english-enhancement-program-3-3-2-2-2-2-2-2-2-2-2-2-2-3-2-2-2-2-2-2-2-2-2-2-3-2-2-2-2-2-2-2-2-2-2-2-2-2-2-2-2-2/
END:VEVENT
BEGIN:VEVENT
DTSTART;TZID=America/Los_Angeles:20220812T203000
DTEND;TZID=America/Los_Angeles:20220812T213000
DTSTAMP:20260424T010944
CREATED:20220108T030749Z
LAST-MODIFIED:20220605T004515Z
UID:4759-1660336200-1660339800@lwpfdn.org
SUMMARY:English Enhancement Program
DESCRIPTION:
URL:https://lwpfdn.org/event/english-enhancement-program-3-3-2-2-2-2-2-2-2-2-2-2-2-3-2-2-2-2-2-2-2-2-2-2-3-2-2-2-2-2-2-2-2-2-2-2-2-2-2-3-2-2/
END:VEVENT
BEGIN:VEVENT
DTSTART;TZID=America/Los_Angeles:20220809T203000
DTEND;TZID=America/Los_Angeles:20220809T213000
DTSTAMP:20260424T010944
CREATED:20220108T030749Z
LAST-MODIFIED:20220605T004204Z
UID:4743-1660077000-1660080600@lwpfdn.org
SUMMARY:English Enhancement Program
DESCRIPTION:
URL:https://lwpfdn.org/event/english-enhancement-program-3-3-2-2-2-2-2-2-2-2-2-2-2-3-2-2-2-2-2-2-2-2-2-2-3-2-2-2-2-2-2-2-2-2-2-2-2-2-2-2-2/
END:VEVENT
BEGIN:VEVENT
DTSTART;TZID=America/Los_Angeles:20220805T203000
DTEND;TZID=America/Los_Angeles:20220805T213000
DTSTAMP:20260424T010944
CREATED:20220108T030749Z
LAST-MODIFIED:20220605T004452Z
UID:4757-1659731400-1659735000@lwpfdn.org
SUMMARY:English Enhancement Program
DESCRIPTION:
URL:https://lwpfdn.org/event/english-enhancement-program-3-3-2-2-2-2-2-2-2-2-2-2-2-3-2-2-2-2-2-2-2-2-2-2-3-2-2-2-2-2-2-2-2-2-2-2-2-2-2-3-2/
END:VEVENT
BEGIN:VEVENT
DTSTART;TZID=America/Los_Angeles:20220802T203000
DTEND;TZID=America/Los_Angeles:20220802T213000
DTSTAMP:20260424T010944
CREATED:20220108T030749Z
LAST-MODIFIED:20220605T004146Z
UID:4741-1659472200-1659475800@lwpfdn.org
SUMMARY:English Enhancement Program
DESCRIPTION:
URL:https://lwpfdn.org/event/english-enhancement-program-3-3-2-2-2-2-2-2-2-2-2-2-2-3-2-2-2-2-2-2-2-2-2-2-3-2-2-2-2-2-2-2-2-2-2-2-2-2-2-2/
END:VEVENT
BEGIN:VEVENT
DTSTART;TZID=America/Los_Angeles:20220729T203000
DTEND;TZID=America/Los_Angeles:20220729T213000
DTSTAMP:20260424T010944
CREATED:20220108T030749Z
LAST-MODIFIED:20220605T004426Z
UID:4755-1659126600-1659130200@lwpfdn.org
SUMMARY:English Enhancement Program
DESCRIPTION:
URL:https://lwpfdn.org/event/english-enhancement-program-3-3-2-2-2-2-2-2-2-2-2-2-2-3-2-2-2-2-2-2-2-2-2-2-3-2-2-2-2-2-2-2-2-2-2-2-2-2-2-3/
END:VEVENT
BEGIN:VEVENT
DTSTART;TZID=America/Los_Angeles:20220726T203000
DTEND;TZID=America/Los_Angeles:20220726T213000
DTSTAMP:20260424T010944
CREATED:20220108T030749Z
LAST-MODIFIED:20220605T004127Z
UID:4739-1658867400-1658871000@lwpfdn.org
SUMMARY:English Enhancement Program
DESCRIPTION:
URL:https://lwpfdn.org/event/english-enhancement-program-3-3-2-2-2-2-2-2-2-2-2-2-2-3-2-2-2-2-2-2-2-2-2-2-3-2-2-2-2-2-2-2-2-2-2-2-2-2-2/
END:VEVENT
BEGIN:VEVENT
DTSTART;TZID=America/Los_Angeles:20220722T203000
DTEND;TZID=America/Los_Angeles:20220722T213000
DTSTAMP:20260424T010944
CREATED:20220108T030749Z
LAST-MODIFIED:20220605T004352Z
UID:4753-1658521800-1658525400@lwpfdn.org
SUMMARY:English Enhancement Program
DESCRIPTION:
URL:https://lwpfdn.org/event/english-enhancement-program-3-3-2-2-2-2-2-2-2-2-2-2-2-3-2-2-2-2-2-2-2-2-2-2-3-2-2-2-2-2-2-2-2-2-2-2-2-3-2/
END:VEVENT
BEGIN:VEVENT
DTSTART;TZID=America/Los_Angeles:20220719T203000
DTEND;TZID=America/Los_Angeles:20220719T213000
DTSTAMP:20260424T010944
CREATED:20220108T030749Z
LAST-MODIFIED:20220605T004104Z
UID:4737-1658262600-1658266200@lwpfdn.org
SUMMARY:English Enhancement Program
DESCRIPTION:
URL:https://lwpfdn.org/event/english-enhancement-program-3-3-2-2-2-2-2-2-2-2-2-2-2-3-2-2-2-2-2-2-2-2-2-2-3-2-2-2-2-2-2-2-2-2-2-2-2-2/
END:VEVENT
BEGIN:VEVENT
DTSTART;TZID=America/Los_Angeles:20220715T203000
DTEND;TZID=America/Los_Angeles:20220715T213000
DTSTAMP:20260424T010944
CREATED:20220108T030749Z
LAST-MODIFIED:20220605T004332Z
UID:4751-1657917000-1657920600@lwpfdn.org
SUMMARY:English Enhancement Program
DESCRIPTION:
URL:https://lwpfdn.org/event/english-enhancement-program-3-3-2-2-2-2-2-2-2-2-2-2-2-3-2-2-2-2-2-2-2-2-2-2-3-2-2-2-2-2-2-2-2-2-2-2-2-3/
END:VEVENT
BEGIN:VEVENT
DTSTART;TZID=America/Los_Angeles:20220712T203000
DTEND;TZID=America/Los_Angeles:20220712T213000
DTSTAMP:20260424T010944
CREATED:20220108T030749Z
LAST-MODIFIED:20220605T004044Z
UID:4735-1657657800-1657661400@lwpfdn.org
SUMMARY:English Enhancement Program
DESCRIPTION:
URL:https://lwpfdn.org/event/english-enhancement-program-3-3-2-2-2-2-2-2-2-2-2-2-2-3-2-2-2-2-2-2-2-2-2-2-3-2-2-2-2-2-2-2-2-2-2-2-2/
END:VEVENT
BEGIN:VEVENT
DTSTART;TZID=America/Los_Angeles:20220708T203000
DTEND;TZID=America/Los_Angeles:20220708T213000
DTSTAMP:20260424T010944
CREATED:20220108T030749Z
LAST-MODIFIED:20220605T004309Z
UID:4749-1657312200-1657315800@lwpfdn.org
SUMMARY:English Enhancement Program
DESCRIPTION:
URL:https://lwpfdn.org/event/english-enhancement-program-3-3-2-2-2-2-2-2-2-2-2-2-2-3-2-2-2-2-2-2-2-2-2-2-3-2-2-2-2-2-2-2-2-2-2-2-3/
END:VEVENT
BEGIN:VEVENT
DTSTART;TZID=America/Los_Angeles:20220705T203000
DTEND;TZID=America/Los_Angeles:20220705T213000
DTSTAMP:20260424T010944
CREATED:20220108T030749Z
LAST-MODIFIED:20220605T004017Z
UID:4732-1657053000-1657056600@lwpfdn.org
SUMMARY:English Enhancement Program
DESCRIPTION:
URL:https://lwpfdn.org/event/english-enhancement-program-3-3-2-2-2-2-2-2-2-2-2-2-2-3-2-2-2-2-2-2-2-2-2-2-3-2-2-2-2-2-2-2-2-2-2-2/
END:VEVENT
BEGIN:VEVENT
DTSTART;TZID=America/Los_Angeles:20220612T130000
DTEND;TZID=America/Los_Angeles:20220612T163000
DTSTAMP:20260424T010944
CREATED:20220605T002035Z
LAST-MODIFIED:20220607T203703Z
UID:4729-1655038800-1655051400@lwpfdn.org
SUMMARY:LWPF Student Commission Meeting
DESCRIPTION:Dear all\, Let us celebrate Lucas\, Rick\, and Shalin’s graduation and have fun together. Please reserve your time for our gathering/meeting on June 12 and plan for your shared food. We will prepare drinking water\, utensils\, and cake. The meeting location is not at TO Teen Center but TO Community Center instead.   \n\n\n\nTime: Sunday\, June 12\, 1-4:30 pm \n\n\n\nLocation: Thousand Oaks Community Center (Crafts Room\, faces front grass area) \n\n\n\nAddress: 2525 N. Moorpark Rd.\, T.O. 91362
URL:https://lwpfdn.org/event/lwpf-student-commission-meating/
END:VEVENT
BEGIN:VEVENT
DTSTART;TZID=America/Los_Angeles:20220610T203000
DTEND;TZID=America/Los_Angeles:20220610T213000
DTSTAMP:20260424T010944
CREATED:20220108T030749Z
LAST-MODIFIED:20220402T231827Z
UID:4720-1654893000-1654896600@lwpfdn.org
SUMMARY:English Enhancement Program
DESCRIPTION:LWPF-EEP-session-4Download
URL:https://lwpfdn.org/event/english-enhancement-program-3-3-2-2-2-2-2-2-2-2-2-2-2-3-2-2-2-2-2-2-2-2-2-2-3-2-2-2-2-2-2-2-2-2-2/
END:VEVENT
BEGIN:VEVENT
DTSTART;TZID=America/Los_Angeles:20220607T203000
DTEND;TZID=America/Los_Angeles:20220607T213000
DTSTAMP:20260424T010944
CREATED:20220108T030749Z
LAST-MODIFIED:20220402T230929Z
UID:4698-1654633800-1654637400@lwpfdn.org
SUMMARY:English Enhancement Program
DESCRIPTION:LWPF-EEP-session-4Download
URL:https://lwpfdn.org/event/english-enhancement-program-3-3-2-2-2-2-2-2-2-2-2-2-2-3-2-2-2-2-2-2-2-2-2-2-2-2-2-2-2-2-2-2-2/
END:VEVENT
BEGIN:VEVENT
DTSTART;TZID=America/Los_Angeles:20220603T203000
DTEND;TZID=America/Los_Angeles:20220603T213000
DTSTAMP:20260424T010944
CREATED:20220108T030749Z
LAST-MODIFIED:20220402T231733Z
UID:4718-1654288200-1654291800@lwpfdn.org
SUMMARY:English Enhancement Program
DESCRIPTION:LWPF-EEP-session-4Download
URL:https://lwpfdn.org/event/english-enhancement-program-3-3-2-2-2-2-2-2-2-2-2-2-2-3-2-2-2-2-2-2-2-2-2-2-3-2-2-2-2-2-2-2-2-2/
END:VEVENT
BEGIN:VEVENT
DTSTART;TZID=America/Los_Angeles:20220531T203000
DTEND;TZID=America/Los_Angeles:20220531T213000
DTSTAMP:20260424T010944
CREATED:20220108T030749Z
LAST-MODIFIED:20220402T230857Z
UID:4696-1654029000-1654032600@lwpfdn.org
SUMMARY:English Enhancement Program
DESCRIPTION:LWPF-EEP-session-4Download
URL:https://lwpfdn.org/event/english-enhancement-program-3-3-2-2-2-2-2-2-2-2-2-2-2-3-2-2-2-2-2-2-2-2-2-2-2-2-2-2-2-2-2-2/
END:VEVENT
BEGIN:VEVENT
DTSTART;TZID=America/Los_Angeles:20220527T203000
DTEND;TZID=America/Los_Angeles:20220527T213000
DTSTAMP:20260424T010944
CREATED:20220108T030749Z
LAST-MODIFIED:20220402T231658Z
UID:4716-1653683400-1653687000@lwpfdn.org
SUMMARY:English Enhancement Program
DESCRIPTION:LWPF-EEP-session-4Download
URL:https://lwpfdn.org/event/english-enhancement-program-3-3-2-2-2-2-2-2-2-2-2-2-2-3-2-2-2-2-2-2-2-2-2-2-3-2-2-2-2-2-2-2-2/
END:VEVENT
BEGIN:VEVENT
DTSTART;TZID=America/Los_Angeles:20220524T203000
DTEND;TZID=America/Los_Angeles:20220524T213000
DTSTAMP:20260424T010944
CREATED:20220108T030749Z
LAST-MODIFIED:20220402T230825Z
UID:4694-1653424200-1653427800@lwpfdn.org
SUMMARY:English Enhancement Program
DESCRIPTION:LWPF-EEP-session-4Download
URL:https://lwpfdn.org/event/english-enhancement-program-3-3-2-2-2-2-2-2-2-2-2-2-2-3-2-2-2-2-2-2-2-2-2-2-2-2-2-2-2-2-2/
END:VEVENT
BEGIN:VEVENT
DTSTART;TZID=America/Los_Angeles:20220520T203000
DTEND;TZID=America/Los_Angeles:20220520T213000
DTSTAMP:20260424T010944
CREATED:20220108T030749Z
LAST-MODIFIED:20220402T231627Z
UID:4714-1653078600-1653082200@lwpfdn.org
SUMMARY:English Enhancement Program
DESCRIPTION:LWPF-EEP-session-4Download
URL:https://lwpfdn.org/event/english-enhancement-program-3-3-2-2-2-2-2-2-2-2-2-2-2-3-2-2-2-2-2-2-2-2-2-2-3-2-2-2-2-2-2-2/
END:VEVENT
BEGIN:VEVENT
DTSTART;TZID=America/Los_Angeles:20220517T203000
DTEND;TZID=America/Los_Angeles:20220517T213000
DTSTAMP:20260424T010944
CREATED:20220108T030749Z
LAST-MODIFIED:20220402T230752Z
UID:4692-1652819400-1652823000@lwpfdn.org
SUMMARY:English Enhancement Program
DESCRIPTION:LWPF-EEP-session-4Download
URL:https://lwpfdn.org/event/english-enhancement-program-3-3-2-2-2-2-2-2-2-2-2-2-2-3-2-2-2-2-2-2-2-2-2-2-2-2-2-2-2-2/
END:VEVENT
BEGIN:VEVENT
DTSTART;TZID=America/Los_Angeles:20220513T203000
DTEND;TZID=America/Los_Angeles:20220513T213000
DTSTAMP:20260424T010944
CREATED:20220108T030749Z
LAST-MODIFIED:20220402T231555Z
UID:4712-1652473800-1652477400@lwpfdn.org
SUMMARY:English Enhancement Program
DESCRIPTION:LWPF-EEP-session-4Download
URL:https://lwpfdn.org/event/english-enhancement-program-3-3-2-2-2-2-2-2-2-2-2-2-2-3-2-2-2-2-2-2-2-2-2-2-3-2-2-2-2-2-2/
END:VEVENT
BEGIN:VEVENT
DTSTART;TZID=America/Los_Angeles:20220510T203000
DTEND;TZID=America/Los_Angeles:20220510T213000
DTSTAMP:20260424T010944
CREATED:20220108T030749Z
LAST-MODIFIED:20220402T230719Z
UID:4690-1652214600-1652218200@lwpfdn.org
SUMMARY:English Enhancement Program
DESCRIPTION:LWPF-EEP-session-4Download
URL:https://lwpfdn.org/event/english-enhancement-program-3-3-2-2-2-2-2-2-2-2-2-2-2-3-2-2-2-2-2-2-2-2-2-2-2-2-2-2-2/
END:VEVENT
END:VCALENDAR