BEGIN:VCALENDAR
VERSION:2.0
PRODID:-//Lead with Purpose Foundation - ECPv6.15.20//NONSGML v1.0//EN
CALSCALE:GREGORIAN
METHOD:PUBLISH
X-ORIGINAL-URL:https://lwpfdn.org
X-WR-CALDESC:Events for Lead with Purpose Foundation
REFRESH-INTERVAL;VALUE=DURATION:PT1H
X-Robots-Tag:noindex
X-PUBLISHED-TTL:PT1H
BEGIN:VTIMEZONE
TZID:America/Los_Angeles
BEGIN:DAYLIGHT
TZOFFSETFROM:-0800
TZOFFSETTO:-0700
TZNAME:PDT
DTSTART:20200308T100000
END:DAYLIGHT
BEGIN:STANDARD
TZOFFSETFROM:-0700
TZOFFSETTO:-0800
TZNAME:PST
DTSTART:20201101T090000
END:STANDARD
BEGIN:DAYLIGHT
TZOFFSETFROM:-0800
TZOFFSETTO:-0700
TZNAME:PDT
DTSTART:20210314T100000
END:DAYLIGHT
BEGIN:STANDARD
TZOFFSETFROM:-0700
TZOFFSETTO:-0800
TZNAME:PST
DTSTART:20211107T090000
END:STANDARD
BEGIN:DAYLIGHT
TZOFFSETFROM:-0800
TZOFFSETTO:-0700
TZNAME:PDT
DTSTART:20220313T100000
END:DAYLIGHT
BEGIN:STANDARD
TZOFFSETFROM:-0700
TZOFFSETTO:-0800
TZNAME:PST
DTSTART:20221106T090000
END:STANDARD
END:VTIMEZONE
BEGIN:VEVENT
DTSTART;TZID=America/Los_Angeles:20211107T130000
DTEND;TZID=America/Los_Angeles:20211107T143000
DTSTAMP:20260424T044403
CREATED:20210429T003130Z
LAST-MODIFIED:20211031T210525Z
UID:4475-1636290000-1636295400@lwpfdn.org
SUMMARY:LWPF Middle School Meeting
DESCRIPTION:
URL:https://lwpfdn.org/event/lwpf-student-commission-meeting-10-2-3-2-2-2/
END:VEVENT
BEGIN:VEVENT
DTSTART;TZID=America/Los_Angeles:20211105T203000
DTEND;TZID=America/Los_Angeles:20211105T213000
DTSTAMP:20260424T044403
CREATED:20220108T030749Z
LAST-MODIFIED:20220109T223045Z
UID:4551-1636144200-1636147800@lwpfdn.org
SUMMARY:English Enhancement Program
DESCRIPTION:
URL:https://lwpfdn.org/event/english-enhancement-program-3-3-2-2-2-2/
END:VEVENT
BEGIN:VEVENT
DTSTART;TZID=America/Los_Angeles:20211104T203000
DTEND;TZID=America/Los_Angeles:20211104T213000
DTSTAMP:20260424T044403
CREATED:20220108T030749Z
LAST-MODIFIED:20220109T222000Z
UID:4529-1636057800-1636061400@lwpfdn.org
SUMMARY:English Enhancement Program
DESCRIPTION:
URL:https://lwpfdn.org/event/english-enhancement-program-3-2-2-2-2/
END:VEVENT
BEGIN:VEVENT
DTSTART;TZID=America/Los_Angeles:20211103T203000
DTEND;TZID=America/Los_Angeles:20211103T213000
DTSTAMP:20260424T044403
CREATED:20220108T030749Z
LAST-MODIFIED:20220109T221110Z
UID:4507-1635971400-1635975000@lwpfdn.org
SUMMARY:English Enhancement Program
DESCRIPTION:
URL:https://lwpfdn.org/event/english-enhancement-program-2-2-2-2/
END:VEVENT
BEGIN:VEVENT
DTSTART;TZID=America/Los_Angeles:20211029T203000
DTEND;TZID=America/Los_Angeles:20211029T213000
DTSTAMP:20260424T044403
CREATED:20220108T030749Z
LAST-MODIFIED:20220109T223002Z
UID:4549-1635539400-1635543000@lwpfdn.org
SUMMARY:English Enhancement Program
DESCRIPTION:
URL:https://lwpfdn.org/event/english-enhancement-program-3-3-2-2-2/
END:VEVENT
BEGIN:VEVENT
DTSTART;TZID=America/Los_Angeles:20211028T203000
DTEND;TZID=America/Los_Angeles:20211028T213000
DTSTAMP:20260424T044403
CREATED:20220108T030749Z
LAST-MODIFIED:20220109T221916Z
UID:4527-1635453000-1635456600@lwpfdn.org
SUMMARY:English Enhancement Program
DESCRIPTION:
URL:https://lwpfdn.org/event/english-enhancement-program-3-2-2-2/
END:VEVENT
BEGIN:VEVENT
DTSTART;TZID=America/Los_Angeles:20211027T203000
DTEND;TZID=America/Los_Angeles:20211027T213000
DTSTAMP:20260424T044403
CREATED:20220108T030749Z
LAST-MODIFIED:20220109T221027Z
UID:4505-1635366600-1635370200@lwpfdn.org
SUMMARY:English Enhancement Program
DESCRIPTION:
URL:https://lwpfdn.org/event/english-enhancement-program-2-2-2/
END:VEVENT
BEGIN:VEVENT
DTSTART;TZID=America/Los_Angeles:20211022T203000
DTEND;TZID=America/Los_Angeles:20211022T213000
DTSTAMP:20260424T044403
CREATED:20220108T030749Z
LAST-MODIFIED:20220109T222922Z
UID:4547-1634934600-1634938200@lwpfdn.org
SUMMARY:English Enhancement Program
DESCRIPTION:
URL:https://lwpfdn.org/event/english-enhancement-program-3-3-2-2/
END:VEVENT
BEGIN:VEVENT
DTSTART;TZID=America/Los_Angeles:20211021T203000
DTEND;TZID=America/Los_Angeles:20211021T213000
DTSTAMP:20260424T044403
CREATED:20220108T030749Z
LAST-MODIFIED:20220109T221830Z
UID:4525-1634848200-1634851800@lwpfdn.org
SUMMARY:English Enhancement Program
DESCRIPTION:
URL:https://lwpfdn.org/event/english-enhancement-program-3-2-2/
END:VEVENT
BEGIN:VEVENT
DTSTART;TZID=America/Los_Angeles:20211020T203000
DTEND;TZID=America/Los_Angeles:20211020T213000
DTSTAMP:20260424T044403
CREATED:20220108T030749Z
LAST-MODIFIED:20220109T220938Z
UID:4503-1634761800-1634765400@lwpfdn.org
SUMMARY:English Enhancement Program
DESCRIPTION:
URL:https://lwpfdn.org/event/english-enhancement-program-2-2/
END:VEVENT
BEGIN:VEVENT
DTSTART;TZID=America/Los_Angeles:20211015T203000
DTEND;TZID=America/Los_Angeles:20211015T213000
DTSTAMP:20260424T044403
CREATED:20220108T030749Z
LAST-MODIFIED:20220109T222843Z
UID:4545-1634329800-1634333400@lwpfdn.org
SUMMARY:English Enhancement Program
DESCRIPTION:
URL:https://lwpfdn.org/event/english-enhancement-program-3-3-2/
END:VEVENT
BEGIN:VEVENT
DTSTART;TZID=America/Los_Angeles:20211014T203000
DTEND;TZID=America/Los_Angeles:20211014T213000
DTSTAMP:20260424T044403
CREATED:20220108T030749Z
LAST-MODIFIED:20220109T221732Z
UID:4523-1634243400-1634247000@lwpfdn.org
SUMMARY:English Enhancement Program
DESCRIPTION:
URL:https://lwpfdn.org/event/english-enhancement-program-3-2/
END:VEVENT
BEGIN:VEVENT
DTSTART;TZID=America/Los_Angeles:20211013T203000
DTEND;TZID=America/Los_Angeles:20211013T213000
DTSTAMP:20260424T044403
CREATED:20220108T030749Z
LAST-MODIFIED:20220109T220845Z
UID:4501-1634157000-1634160600@lwpfdn.org
SUMMARY:English Enhancement Program
DESCRIPTION:
URL:https://lwpfdn.org/event/english-enhancement-program-2/
END:VEVENT
BEGIN:VEVENT
DTSTART;TZID=America/Los_Angeles:20211008T203000
DTEND;TZID=America/Los_Angeles:20211008T213000
DTSTAMP:20260424T044403
CREATED:20220108T030749Z
LAST-MODIFIED:20220109T222702Z
UID:4543-1633725000-1633728600@lwpfdn.org
SUMMARY:English Enhancement Program
DESCRIPTION:
URL:https://lwpfdn.org/event/english-enhancement-program-3-3/
END:VEVENT
BEGIN:VEVENT
DTSTART;TZID=America/Los_Angeles:20211007T203000
DTEND;TZID=America/Los_Angeles:20211007T213000
DTSTAMP:20260424T044403
CREATED:20220108T030749Z
LAST-MODIFIED:20220109T221652Z
UID:4521-1633638600-1633642200@lwpfdn.org
SUMMARY:English Enhancement Program
DESCRIPTION:
URL:https://lwpfdn.org/event/english-enhancement-program-3/
END:VEVENT
BEGIN:VEVENT
DTSTART;TZID=America/Los_Angeles:20211006T203000
DTEND;TZID=America/Los_Angeles:20211006T213000
DTSTAMP:20260424T044403
CREATED:20220108T030749Z
LAST-MODIFIED:20220108T030754Z
UID:4498-1633552200-1633555800@lwpfdn.org
SUMMARY:English Enhancement Program
DESCRIPTION:
URL:https://lwpfdn.org/event/english-enhancement-program/
END:VEVENT
BEGIN:VEVENT
DTSTART;TZID=America/Los_Angeles:20211003T143000
DTEND;TZID=America/Los_Angeles:20211003T163000
DTSTAMP:20260424T044403
CREATED:20210429T003130Z
LAST-MODIFIED:20211001T231453Z
UID:4458-1633271400-1633278600@lwpfdn.org
SUMMARY:LWPF Student Commission Meeting
DESCRIPTION:LWPFSC-Meeting-Agenda-2021-10-3Download
URL:https://lwpfdn.org/event/lwpf-student-commission-meeting-10-2-3-2/
END:VEVENT
BEGIN:VEVENT
DTSTART;TZID=America/Los_Angeles:20211003T130000
DTEND;TZID=America/Los_Angeles:20211003T143000
DTSTAMP:20260424T044403
CREATED:20210429T003130Z
LAST-MODIFIED:20211005T032732Z
UID:4463-1633266000-1633271400@lwpfdn.org
SUMMARY:LWPF Middle School Meeting
DESCRIPTION:
URL:https://lwpfdn.org/event/lwpf-student-commission-meeting-10-2-3-2-2/
END:VEVENT
BEGIN:VEVENT
DTSTART;TZID=America/Los_Angeles:20210912T143000
DTEND;TZID=America/Los_Angeles:20210912T163000
DTSTAMP:20260424T044403
CREATED:20210429T003130Z
LAST-MODIFIED:20210912T201625Z
UID:4445-1631457000-1631464200@lwpfdn.org
SUMMARY:LWPF Student Commission Meeting
DESCRIPTION:LWPFSC Meeting Agenda 2021 9 12 (2)Download
URL:https://lwpfdn.org/event/lwpf-student-commission-meeting-10-2-3/
END:VEVENT
BEGIN:VEVENT
DTSTART;TZID=America/Los_Angeles:20210912T130000
DTEND;TZID=America/Los_Angeles:20210912T143000
DTSTAMP:20260424T044403
CREATED:20210429T003130Z
LAST-MODIFIED:20211005T032614Z
UID:4461-1631451600-1631457000@lwpfdn.org
SUMMARY:LWPF Middle School Meeting
DESCRIPTION:
URL:https://lwpfdn.org/event/lwpf-student-commission-meeting-10-2-3-3/
END:VEVENT
BEGIN:VEVENT
DTSTART;TZID=America/Los_Angeles:20210815T160000
DTEND;TZID=America/Los_Angeles:20210815T173000
DTSTAMP:20260424T044403
CREATED:20210429T003130Z
LAST-MODIFIED:20210722T164227Z
UID:3997-1629043200-1629048600@lwpfdn.org
SUMMARY:Summer Leadership Workshop
DESCRIPTION:Managing Conflicts in the Face of Uncertainty
URL:https://lwpfdn.org/event/lwpf-student-commission-meeting-10-2-2-2-2-2-2-2-2/
END:VEVENT
BEGIN:VEVENT
DTSTART;TZID=America/Los_Angeles:20210808T160000
DTEND;TZID=America/Los_Angeles:20210808T173000
DTSTAMP:20260424T044403
CREATED:20210429T003130Z
LAST-MODIFIED:20210722T164114Z
UID:3995-1628438400-1628443800@lwpfdn.org
SUMMARY:Summer Leadership Workshop
DESCRIPTION:How to Lead Extraordinary Teams in High School
URL:https://lwpfdn.org/event/lwpf-student-commission-meeting-10-2-2-2-2-2-2-2/
END:VEVENT
BEGIN:VEVENT
DTSTART;TZID=America/Los_Angeles:20210801T160000
DTEND;TZID=America/Los_Angeles:20210801T173000
DTSTAMP:20260424T044403
CREATED:20210429T003130Z
LAST-MODIFIED:20210722T164000Z
UID:3993-1627833600-1627839000@lwpfdn.org
SUMMARY:Summer Leadership Workshop
DESCRIPTION:First Impressions and Networking
URL:https://lwpfdn.org/event/lwpf-student-commission-meeting-10-2-2-2-2-2-2/
END:VEVENT
BEGIN:VEVENT
DTSTART;TZID=America/Los_Angeles:20210725T160000
DTEND;TZID=America/Los_Angeles:20210725T173000
DTSTAMP:20260424T044403
CREATED:20210429T003130Z
LAST-MODIFIED:20210722T163840Z
UID:3991-1627228800-1627234200@lwpfdn.org
SUMMARY:Summer Leadership Workshop
DESCRIPTION:Effective Presentation and Teaching Strategies
URL:https://lwpfdn.org/event/lwpf-student-commission-meeting-10-2-2-2-2-2/
END:VEVENT
BEGIN:VEVENT
DTSTART;TZID=America/Los_Angeles:20210718T160000
DTEND;TZID=America/Los_Angeles:20210718T173000
DTSTAMP:20260424T044403
CREATED:20210429T003130Z
LAST-MODIFIED:20210722T163722Z
UID:3989-1626624000-1626629400@lwpfdn.org
SUMMARY:Summer Leadership Workshop
DESCRIPTION:Leadership and Working in Science: Communicating to Various Audiences
URL:https://lwpfdn.org/event/lwpf-student-commission-meeting-10-2-2-2-2/
END:VEVENT
BEGIN:VEVENT
DTSTART;TZID=America/Los_Angeles:20210716T160000
DTEND;TZID=America/Los_Angeles:20210917T173000
DTSTAMP:20260424T044403
CREATED:20210429T003130Z
LAST-MODIFIED:20210615T033645Z
UID:4004-1626451200-1631899800@lwpfdn.org
SUMMARY:English Enhancement Program
DESCRIPTION:Every Friday – Communication with Your Child
URL:https://lwpfdn.org/event/lwpf-student-commission-meeting-10-2-2-2-2-2-2-2-2-2-2-2/
END:VEVENT
BEGIN:VEVENT
DTSTART;TZID=America/Los_Angeles:20210715T160000
DTEND;TZID=America/Los_Angeles:20210916T173000
DTSTAMP:20260424T044403
CREATED:20210429T003130Z
LAST-MODIFIED:20210615T033528Z
UID:4002-1626364800-1631813400@lwpfdn.org
SUMMARY:English Enhancement Program
DESCRIPTION:Every Thursday – Social Talk
URL:https://lwpfdn.org/event/lwpf-student-commission-meeting-10-2-2-2-2-2-2-2-2-2-2/
END:VEVENT
BEGIN:VEVENT
DTSTART;TZID=America/Los_Angeles:20210714T160000
DTEND;TZID=America/Los_Angeles:20210915T173000
DTSTAMP:20260424T044403
CREATED:20210429T003130Z
LAST-MODIFIED:20210615T033300Z
UID:3999-1626278400-1631727000@lwpfdn.org
SUMMARY:English Enhancement Program
DESCRIPTION:Every Wednesday – Workplace Communication
URL:https://lwpfdn.org/event/lwpf-student-commission-meeting-10-2-2-2-2-2-2-2-2-2/
END:VEVENT
BEGIN:VEVENT
DTSTART;TZID=America/Los_Angeles:20210711T160000
DTEND;TZID=America/Los_Angeles:20210711T173000
DTSTAMP:20260424T044403
CREATED:20210429T003130Z
LAST-MODIFIED:20210722T163631Z
UID:3986-1626019200-1626024600@lwpfdn.org
SUMMARY:Summer Leadership Workshop
DESCRIPTION:Building Your Image and Defining Ideals
URL:https://lwpfdn.org/event/lwpf-student-commission-meeting-10-2-2-2/
END:VEVENT
BEGIN:VEVENT
DTSTART;TZID=America/Los_Angeles:20210606T163000
DTEND;TZID=America/Los_Angeles:20210606T193000
DTSTAMP:20260424T044403
CREATED:20210429T003130Z
LAST-MODIFIED:20210615T030649Z
UID:3982-1622997000-1623007800@lwpfdn.org
SUMMARY:LWPF Student Graduation Ceremony
DESCRIPTION:
URL:https://lwpfdn.org/event/lwpf-student-commission-meeting-10-2-2/
END:VEVENT
END:VCALENDAR