BEGIN:VCALENDAR
VERSION:2.0
PRODID:-//Lead with Purpose Foundation - ECPv6.15.20//NONSGML v1.0//EN
CALSCALE:GREGORIAN
METHOD:PUBLISH
X-WR-CALNAME:Lead with Purpose Foundation
X-ORIGINAL-URL:https://lwpfdn.org
X-WR-CALDESC:Events for Lead with Purpose Foundation
REFRESH-INTERVAL;VALUE=DURATION:PT1H
X-Robots-Tag:noindex
X-PUBLISHED-TTL:PT1H
BEGIN:VTIMEZONE
TZID:America/Los_Angeles
BEGIN:DAYLIGHT
TZOFFSETFROM:-0800
TZOFFSETTO:-0700
TZNAME:PDT
DTSTART:20170312T100000
END:DAYLIGHT
BEGIN:STANDARD
TZOFFSETFROM:-0700
TZOFFSETTO:-0800
TZNAME:PST
DTSTART:20171105T090000
END:STANDARD
BEGIN:DAYLIGHT
TZOFFSETFROM:-0800
TZOFFSETTO:-0700
TZNAME:PDT
DTSTART:20180311T100000
END:DAYLIGHT
BEGIN:STANDARD
TZOFFSETFROM:-0700
TZOFFSETTO:-0800
TZNAME:PST
DTSTART:20181104T090000
END:STANDARD
BEGIN:DAYLIGHT
TZOFFSETFROM:-0800
TZOFFSETTO:-0700
TZNAME:PDT
DTSTART:20190310T100000
END:DAYLIGHT
BEGIN:STANDARD
TZOFFSETFROM:-0700
TZOFFSETTO:-0800
TZNAME:PST
DTSTART:20191103T090000
END:STANDARD
BEGIN:DAYLIGHT
TZOFFSETFROM:-0800
TZOFFSETTO:-0700
TZNAME:PDT
DTSTART:20200308T100000
END:DAYLIGHT
BEGIN:STANDARD
TZOFFSETFROM:-0700
TZOFFSETTO:-0800
TZNAME:PST
DTSTART:20201101T090000
END:STANDARD
BEGIN:DAYLIGHT
TZOFFSETFROM:-0800
TZOFFSETTO:-0700
TZNAME:PDT
DTSTART:20210314T100000
END:DAYLIGHT
BEGIN:STANDARD
TZOFFSETFROM:-0700
TZOFFSETTO:-0800
TZNAME:PST
DTSTART:20211107T090000
END:STANDARD
END:VTIMEZONE
BEGIN:VEVENT
DTSTART;TZID=America/Los_Angeles:20200223T023000
DTEND;TZID=America/Los_Angeles:20200223T163000
DTSTAMP:20260424T070748
CREATED:20200217T194916Z
LAST-MODIFIED:20200217T194916Z
UID:2964-1582425000-1582475400@lwpfdn.org
SUMMARY:LWPF Student Commission Meeting
DESCRIPTION:
URL:https://lwpfdn.org/event/lwpf-student-commission-meeting-6/
END:VEVENT
BEGIN:VEVENT
DTSTART;TZID=America/Los_Angeles:20200119T143000
DTEND;TZID=America/Los_Angeles:20200119T163000
DTSTAMP:20260424T070748
CREATED:20200118T223355Z
LAST-MODIFIED:20200118T223355Z
UID:2854-1579444200-1579451400@lwpfdn.org
SUMMARY:LWPF Student Commission Meeting
DESCRIPTION:
URL:https://lwpfdn.org/event/lwpf-student-commission-meeting-5/
END:VEVENT
BEGIN:VEVENT
DTSTART;TZID=America/Los_Angeles:20191215T143000
DTEND;TZID=America/Los_Angeles:20191215T163000
DTSTAMP:20260424T070748
CREATED:20191127T011028Z
LAST-MODIFIED:20191214T053634Z
UID:2810-1576420200-1576427400@lwpfdn.org
SUMMARY:LWPF Student Commission Meeting
DESCRIPTION:
URL:https://lwpfdn.org/event/lwpf-student-commission-meeting-4/
END:VEVENT
BEGIN:VEVENT
DTSTART;TZID=America/Los_Angeles:20191117T143000
DTEND;TZID=America/Los_Angeles:20191117T163000
DTSTAMP:20260424T070748
CREATED:20191110T004735Z
LAST-MODIFIED:20191205T053556Z
UID:2730-1574001000-1574008200@lwpfdn.org
SUMMARY:LWPF Student Commission Meeting
DESCRIPTION:
URL:https://lwpfdn.org/event/lwpf-student-commission-meeting-3/
LOCATION:Thousand Oaks Teen Center 1375 East Janss Rd. Thousand Oaks\, CA 91362
END:VEVENT
BEGIN:VEVENT
DTSTART;TZID=America/Los_Angeles:20191027T143000
DTEND;TZID=America/Los_Angeles:20191027T160000
DTSTAMP:20260424T070748
CREATED:20190917T172809Z
LAST-MODIFIED:20191205T053210Z
UID:2625-1572186600-1572192000@lwpfdn.org
SUMMARY:LWPF Student Commission Meeting
DESCRIPTION:
URL:https://lwpfdn.org/event/lwpfsc-monthly-meeting-2/
LOCATION:Thousand Oaks Teen Center 1375 East Janss Rd. Thousand Oaks\, CA 91362
END:VEVENT
BEGIN:VEVENT
DTSTART;TZID=America/Los_Angeles:20190922T143000
DTEND;TZID=America/Los_Angeles:20190922T160000
DTSTAMP:20260424T070748
CREATED:20190917T172626Z
LAST-MODIFIED:20191205T053458Z
UID:2622-1569162600-1569168000@lwpfdn.org
SUMMARY:LWPF Student Commission Meeting
DESCRIPTION:
URL:https://lwpfdn.org/event/lwpfsc-monthly-meeting/
LOCATION:Thousand Oaks Teen Center 1375 East Janss Rd. Thousand Oaks\, CA 91362
END:VEVENT
BEGIN:VEVENT
DTSTART;TZID=America/Los_Angeles:20190616T023000
DTEND;TZID=America/Los_Angeles:20190818T040000
DTSTAMP:20260424T070748
CREATED:20190607T135607Z
LAST-MODIFIED:20190711T233714Z
UID:2364-1560652200-1566100800@lwpfdn.org
SUMMARY:Bridging the Gap Seminar Series
DESCRIPTION:  \n \n 
URL:https://lwpfdn.org/event/bridging-the-gap-seminar-series/
LOCATION:Jeng Academic Center\, 171 Thousand Oaks Blvd #201\, Thousand Oaks\, CA\, 91360\, United States
ORGANIZER;CN="Lead with Purpose Foundation":MAILTO:president@lwpfdn.org
END:VEVENT
BEGIN:VEVENT
DTSTART;TZID=America/Los_Angeles:20190609T170000
DTEND;TZID=America/Los_Angeles:20190609T200000
DTSTAMP:20260424T070748
CREATED:20190602T214215Z
LAST-MODIFIED:20191110T004539Z
UID:2268-1560099600-1560110400@lwpfdn.org
SUMMARY:LWPFSC Beach Retreat
DESCRIPTION:
URL:https://lwpfdn.org/event/2019-lwpfsc-beach-retreat/
LOCATION:Sycamore Cove Beach\, Malibu\, Sycamore Cove Beach\, Malibu
ORGANIZER;CN="Lead with Purpose Foundation":MAILTO:president@lwpfdn.org
END:VEVENT
BEGIN:VEVENT
DTSTART;TZID=America/Los_Angeles:20190519T143000
DTEND;TZID=America/Los_Angeles:20190519T143000
DTSTAMP:20260424T070748
CREATED:20190516T223710Z
LAST-MODIFIED:20190812T180636Z
UID:2228-1558276200-1558276200@lwpfdn.org
SUMMARY:Think Tank Talk with Dr. Dayu Teng
DESCRIPTION:
URL:https://lwpfdn.org/event/thing-tank-talk-with-dr-dayu-teng/
LOCATION:Thousand Oaks Teen Center 1375 East Janss Rd. Thousand Oaks\, CA 91362
ORGANIZER;CN="Lead with Purpose Foundation":MAILTO:president@lwpfdn.org
END:VEVENT
BEGIN:VEVENT
DTSTART;TZID=America/Los_Angeles:20190519T143000
DTEND;TZID=America/Los_Angeles:20190519T143000
DTSTAMP:20260424T070748
CREATED:20190218T054536Z
LAST-MODIFIED:20191205T054251Z
UID:2216-1558276200-1558276200@lwpfdn.org
SUMMARY:LWPF Student Commission Meeting
DESCRIPTION:
URL:https://lwpfdn.org/event/lwpf-student-commission-meeting-2-2/
LOCATION:Thousand Oaks Teen Center 1375 East Janss Rd. Thousand Oaks\, CA 91362
ORGANIZER;CN="Lead with Purpose Foundation":MAILTO:president@lwpfdn.org
END:VEVENT
BEGIN:VEVENT
DTSTART;TZID=America/Los_Angeles:20190407T143000
DTEND;TZID=America/Los_Angeles:20190407T143000
DTSTAMP:20260424T070748
CREATED:20190218T054536Z
LAST-MODIFIED:20190410T075022Z
UID:2214-1554647400-1554647400@lwpfdn.org
SUMMARY:LWPF Student Commission Meeting
DESCRIPTION:
URL:https://lwpfdn.org/event/lwpf-student-commission-meeting-2/
LOCATION:Thousand Oaks Teen Center 1375 East Janss Rd. Thousand Oaks\, CA 91362
ORGANIZER;CN="Lead with Purpose Foundation":MAILTO:president@lwpfdn.org
END:VEVENT
BEGIN:VEVENT
DTSTART;TZID=America/Los_Angeles:20190310T143000
DTEND;TZID=America/Los_Angeles:20190310T163000
DTSTAMP:20260424T070748
CREATED:20190218T054536Z
LAST-MODIFIED:20191205T053158Z
UID:2192-1552228200-1552235400@lwpfdn.org
SUMMARY:LWPF Student Commission Meeting
DESCRIPTION:
URL:https://lwpfdn.org/event/lwpf-student-commission-meeting/
LOCATION:Thousand Oaks Teen Center 1375 East Janss Rd. Thousand Oaks\, CA 91362
ORGANIZER;CN="Lead with Purpose Foundation":MAILTO:president@lwpfdn.org
END:VEVENT
BEGIN:VEVENT
DTSTART;TZID=America/Los_Angeles:20190210T143000
DTEND;TZID=America/Los_Angeles:20190210T163000
DTSTAMP:20260424T070748
CREATED:20190121T225957Z
LAST-MODIFIED:20191110T004412Z
UID:2166-1549809000-1549816200@lwpfdn.org
SUMMARY:LWPF Student Commission Meeting
DESCRIPTION:LWPF is honored to present the new CVUSD superintendent\, Dr. Mark McLaughlin\, as our VIP speaker! \n 
URL:https://lwpfdn.org/event/lwpf-student-commission-monthly-meeting/
LOCATION:Thousand Oaks Teen Center 1375 East Janss Rd. Thousand Oaks\, CA 91362
END:VEVENT
BEGIN:VEVENT
DTSTART;TZID=America/Los_Angeles:20190126T180000
DTEND;TZID=America/Los_Angeles:20190126T200000
DTSTAMP:20260424T070748
CREATED:20190121T202449Z
LAST-MODIFIED:20191110T004453Z
UID:2163-1548525600-1548532800@lwpfdn.org
SUMMARY:LWPF Appreciation Dinner
DESCRIPTION:LWPF is holding its appreciation dinner to report finanacial status\, review activities in the past year and brainstorm future projects. We welcome all those who supported us in various ways. \nThis event is by invitation only.
URL:https://lwpfdn.org/event/2163/
LOCATION:CCCA Culture Center\, 1489 E Thousand Oaks Blvd. Unit 3\, Thousand Oaks\, CA 90362\, 1489 E Thousand Oaks Blvd. Unit 3\, Thousand Oaks\, CA\, 91362\, United States
ORGANIZER;CN="Lead with Purpose Foundation":MAILTO:president@lwpfdn.org
END:VEVENT
BEGIN:VEVENT
DTSTART;TZID=America/Los_Angeles:20190113T143000
DTEND;TZID=America/Los_Angeles:20190113T163000
DTSTAMP:20260424T070748
CREATED:20181213T215703Z
LAST-MODIFIED:20181213T221911Z
UID:2092-1547389800-1547397000@lwpfdn.org
SUMMARY:Think Tank Talk Series 1: Dr. Lingyun Gu
DESCRIPTION:
URL:https://lwpfdn.org/event/think-tank-talk-series-1-dr-lingyun-gu/
LOCATION:CCCA Culture Center\, 1489 E Thousand Oaks Blvd. Unit 3\, Thousand Oaks\, CA 90362\, 1489 E Thousand Oaks Blvd. Unit 3\, Thousand Oaks\, CA\, 91362\, United States
ORGANIZER;CN="Lead with Purpose Foundation":MAILTO:president@lwpfdn.org
END:VEVENT
BEGIN:VEVENT
DTSTART;TZID=America/Los_Angeles:20181214T110000
DTEND;TZID=America/Los_Angeles:20181214T220000
DTSTAMP:20260424T070748
CREATED:20181210T205422Z
LAST-MODIFIED:20181210T205422Z
UID:2076-1544785200-1544824800@lwpfdn.org
SUMMARY:Eat More Pizza and Help More Fire Victims
DESCRIPTION:Lead with Purpose and Super Joey Foundations are hosting a fundraising event at Blaze Pizza to benefit the Woolsey fire victims.  \n\nPick up order is from 11 am to 10 pm by calling 805-728-1217.\nOur group hangout is from 5 to 8 pm.\nPlease show the flyer when you pay to get 50% of your spending to the fire victims.
URL:https://lwpfdn.org/event/eat-more-pizza-and-help-more-fire-victims/
LOCATION:Blaze Pizza\, 3980 Thousand Oaks Blvd.\, Thousand Oaks\, CA\, 91362\, United States
ORGANIZER;CN="Lead with Purpose Foundation":MAILTO:president@lwpfdn.org
END:VEVENT
BEGIN:VEVENT
DTSTART;TZID=America/Los_Angeles:20180819T143000
DTEND;TZID=America/Los_Angeles:20180819T163000
DTSTAMP:20260424T070748
CREATED:20180701T213043Z
LAST-MODIFIED:20180715T055703Z
UID:1424-1534689000-1534696200@lwpfdn.org
SUMMARY:Think\, Write\, Present: Tall Tales Speech
DESCRIPTION:
URL:https://lwpfdn.org/event/think-write-present-tall-tales-speech/
LOCATION:Jeng Academic Center\, 171 Thousand Oaks Blvd #201\, Thousand Oaks\, CA\, 91360\, United States
ORGANIZER;CN="Lead with Purpose Foundation":MAILTO:president@lwpfdn.org
END:VEVENT
BEGIN:VEVENT
DTSTART;TZID=America/Los_Angeles:20180812T143000
DTEND;TZID=America/Los_Angeles:20180812T163000
DTSTAMP:20260424T070748
CREATED:20180701T213043Z
LAST-MODIFIED:20180715T055311Z
UID:1421-1534084200-1534091400@lwpfdn.org
SUMMARY:Think\, Write\, Present: Impromptu Speech
DESCRIPTION:If you want to add in a description.
URL:https://lwpfdn.org/event/think-write-present-impromptu-speech/
LOCATION:Jeng Academic Center\, 171 Thousand Oaks Blvd #201\, Thousand Oaks\, CA\, 91360\, United States
ORGANIZER;CN="Lead with Purpose Foundation":MAILTO:president@lwpfdn.org
END:VEVENT
BEGIN:VEVENT
DTSTART;TZID=America/Los_Angeles:20180805T143000
DTEND;TZID=America/Los_Angeles:20180805T163000
DTSTAMP:20260424T070748
CREATED:20180701T213043Z
LAST-MODIFIED:20180715T060043Z
UID:1419-1533479400-1533486600@lwpfdn.org
SUMMARY:Think\, Write\, Present: Humorous Speech
DESCRIPTION:
URL:https://lwpfdn.org/event/think-write-present-humorous-speech/
LOCATION:Jeng Academic Center\, 171 Thousand Oaks Blvd #201\, Thousand Oaks\, CA\, 91360\, United States
ORGANIZER;CN="Lead with Purpose Foundation":MAILTO:president@lwpfdn.org
END:VEVENT
BEGIN:VEVENT
DTSTART;TZID=America/Los_Angeles:20180729T143000
DTEND;TZID=America/Los_Angeles:20180729T163000
DTSTAMP:20260424T070748
CREATED:20180701T213043Z
LAST-MODIFIED:20180702T225452Z
UID:1416-1532874600-1532881800@lwpfdn.org
SUMMARY:Think\, Write\, Present: Persuasive Speech
DESCRIPTION:If you want to add in a description.
URL:https://lwpfdn.org/event/think-write-present-persuasive-speech/
LOCATION:Jeng Academic Center\, 171 Thousand Oaks Blvd #201\, Thousand Oaks\, CA\, 91360\, United States
ORGANIZER;CN="Lead with Purpose Foundation":MAILTO:president@lwpfdn.org
END:VEVENT
BEGIN:VEVENT
DTSTART;TZID=America/Los_Angeles:20180722T143000
DTEND;TZID=America/Los_Angeles:20180722T163000
DTSTAMP:20260424T070748
CREATED:20180701T213043Z
LAST-MODIFIED:20180702T225351Z
UID:1412-1532269800-1532277000@lwpfdn.org
SUMMARY:Think\, Write\, Present: Inspirational Speech
DESCRIPTION:If you want to add in a description.
URL:https://lwpfdn.org/event/think-write-present-inspirational-speech/
LOCATION:Jeng Academic Center\, 171 Thousand Oaks Blvd #201\, Thousand Oaks\, CA\, 91360\, United States
ORGANIZER;CN="Lead with Purpose Foundation":MAILTO:president@lwpfdn.org
END:VEVENT
BEGIN:VEVENT
DTSTART;TZID=America/Los_Angeles:20180715T143000
DTEND;TZID=America/Los_Angeles:20180715T163000
DTSTAMP:20260424T070748
CREATED:20180701T213043Z
LAST-MODIFIED:20180702T225355Z
UID:1409-1531665000-1531672200@lwpfdn.org
SUMMARY:Think\, Write\, Present: Entertaining Speech
DESCRIPTION:If you want to add in a description.
URL:https://lwpfdn.org/event/think-write-present-entertaining-speech/
LOCATION:Jeng Academic Center\, 171 Thousand Oaks Blvd #201\, Thousand Oaks\, CA\, 91360\, United States
ORGANIZER;CN="Lead with Purpose Foundation":MAILTO:president@lwpfdn.org
END:VEVENT
BEGIN:VEVENT
DTSTART;TZID=America/Los_Angeles:20180708T143000
DTEND;TZID=America/Los_Angeles:20180708T163000
DTSTAMP:20260424T070748
CREATED:20180701T213043Z
LAST-MODIFIED:20180702T225220Z
UID:1405-1531060200-1531067400@lwpfdn.org
SUMMARY:Think\, Write\, Present: Storytelling Speech
DESCRIPTION:If you want to add in a description.
URL:https://lwpfdn.org/event/think-write-present-storytelling-speech/
LOCATION:Jeng Academic Center\, 171 Thousand Oaks Blvd #201\, Thousand Oaks\, CA\, 91360\, United States
ORGANIZER;CN="Lead with Purpose Foundation":MAILTO:president@lwpfdn.org
END:VEVENT
BEGIN:VEVENT
DTSTART;TZID=America/Los_Angeles:20180701T143000
DTEND;TZID=America/Los_Angeles:20180701T163000
DTSTAMP:20260424T070748
CREATED:20180701T184643Z
LAST-MODIFIED:20180702T225304Z
UID:1368-1530455400-1530462600@lwpfdn.org
SUMMARY:Think\, Write\, Present: Ice Breaker Speech
DESCRIPTION:If you want to add in a description.
URL:https://lwpfdn.org/event/think-write-present-ice-breaker-speech/
LOCATION:Jeng Academic Center\, 171 Thousand Oaks Blvd #201\, Thousand Oaks\, CA\, 91360\, United States
ORGANIZER;CN="Lead with Purpose Foundation":MAILTO:president@lwpfdn.org
END:VEVENT
END:VCALENDAR