BEGIN:VCALENDAR
VERSION:2.0
PRODID:-//Lead with Purpose Foundation - ECPv6.15.20//NONSGML v1.0//EN
CALSCALE:GREGORIAN
METHOD:PUBLISH
X-WR-CALNAME:Lead with Purpose Foundation
X-ORIGINAL-URL:https://lwpfdn.org
X-WR-CALDESC:Events for Lead with Purpose Foundation
REFRESH-INTERVAL;VALUE=DURATION:PT1H
X-Robots-Tag:noindex
X-PUBLISHED-TTL:PT1H
BEGIN:VTIMEZONE
TZID:America/Los_Angeles
BEGIN:DAYLIGHT
TZOFFSETFROM:-0800
TZOFFSETTO:-0700
TZNAME:PDT
DTSTART:20240310T100000
END:DAYLIGHT
BEGIN:STANDARD
TZOFFSETFROM:-0700
TZOFFSETTO:-0800
TZNAME:PST
DTSTART:20241103T090000
END:STANDARD
BEGIN:DAYLIGHT
TZOFFSETFROM:-0800
TZOFFSETTO:-0700
TZNAME:PDT
DTSTART:20250309T100000
END:DAYLIGHT
BEGIN:STANDARD
TZOFFSETFROM:-0700
TZOFFSETTO:-0800
TZNAME:PST
DTSTART:20251102T090000
END:STANDARD
BEGIN:DAYLIGHT
TZOFFSETFROM:-0800
TZOFFSETTO:-0700
TZNAME:PDT
DTSTART:20260308T100000
END:DAYLIGHT
BEGIN:STANDARD
TZOFFSETFROM:-0700
TZOFFSETTO:-0800
TZNAME:PST
DTSTART:20261101T090000
END:STANDARD
END:VTIMEZONE
BEGIN:VEVENT
DTSTART;TZID=America/Los_Angeles:20250916T203000
DTEND;TZID=America/Los_Angeles:20250916T213000
DTSTAMP:20260423T084415
CREATED:20250904T073106Z
LAST-MODIFIED:20250904T073113Z
UID:9216-1758054600-1758058200@lwpfdn.org
SUMMARY:ENGLISH ENHANCEMENT PROGRAM – Weekly Chatter
DESCRIPTION:
URL:https://lwpfdn.org/event/english-enhancement-program-weekly-chatter-52/
END:VEVENT
BEGIN:VEVENT
DTSTART;TZID=America/Los_Angeles:20250912T203000
DTEND;TZID=America/Los_Angeles:20250912T213000
DTSTAMP:20260423T084415
CREATED:20250904T075633Z
LAST-MODIFIED:20250904T075638Z
UID:9254-1757709000-1757712600@lwpfdn.org
SUMMARY:ENGLISH ENHANCEMENT PROGRAM – English Pub
DESCRIPTION:
URL:https://lwpfdn.org/event/english-enhancement-program-english-pub-60/
END:VEVENT
BEGIN:VEVENT
DTSTART;TZID=America/Los_Angeles:20250912T093000
DTEND;TZID=America/Los_Angeles:20250912T103000
DTSTAMP:20260423T084415
CREATED:20250904T074454Z
LAST-MODIFIED:20250904T074459Z
UID:9234-1757669400-1757673000@lwpfdn.org
SUMMARY:ENGLISH ENHANCEMENT PROGRAM – Beverly Talk
DESCRIPTION:
URL:https://lwpfdn.org/event/english-enhancement-program-beverly-talk-59/
END:VEVENT
BEGIN:VEVENT
DTSTART;TZID=America/Los_Angeles:20250909T203000
DTEND;TZID=America/Los_Angeles:20250909T213000
DTSTAMP:20260423T084415
CREATED:20250904T072859Z
LAST-MODIFIED:20250904T072859Z
UID:9214-1757449800-1757453400@lwpfdn.org
SUMMARY:ENGLISH ENHANCEMENT PROGRAM – Weekly Chatter
DESCRIPTION:
URL:https://lwpfdn.org/event/english-enhancement-program-weekly-chatter-51/
END:VEVENT
BEGIN:VEVENT
DTSTART;TZID=America/Los_Angeles:20250815T200000
DTEND;TZID=America/Los_Angeles:20250815T210000
DTSTAMP:20260423T084415
CREATED:20250627T052758Z
LAST-MODIFIED:20250627T052804Z
UID:9138-1755288000-1755291600@lwpfdn.org
SUMMARY:ENGLISH ENHANCEMENT PROGRAM – English Pub
DESCRIPTION:
URL:https://lwpfdn.org/event/english-enhancement-program-english-pub-59/
END:VEVENT
BEGIN:VEVENT
DTSTART;TZID=America/Los_Angeles:20250815T093000
DTEND;TZID=America/Los_Angeles:20250815T103000
DTSTAMP:20260423T084415
CREATED:20250627T053721Z
LAST-MODIFIED:20250627T053725Z
UID:9156-1755250200-1755253800@lwpfdn.org
SUMMARY:ENGLISH ENHANCEMENT PROGRAM – Beverly Talk
DESCRIPTION:
URL:https://lwpfdn.org/event/english-enhancement-program-beverly-talk-58/
END:VEVENT
BEGIN:VEVENT
DTSTART;TZID=America/Los_Angeles:20250812T203000
DTEND;TZID=America/Los_Angeles:20250812T213000
DTSTAMP:20260423T084415
CREATED:20250627T054521Z
LAST-MODIFIED:20250627T054526Z
UID:9174-1755030600-1755034200@lwpfdn.org
SUMMARY:ENGLISH ENHANCEMENT PROGRAM – Weekly Chatter
DESCRIPTION:
URL:https://lwpfdn.org/event/english-enhancement-program-weekly-chatter-50/
END:VEVENT
BEGIN:VEVENT
DTSTART;TZID=America/Los_Angeles:20250808T200000
DTEND;TZID=America/Los_Angeles:20250808T210000
DTSTAMP:20260423T084415
CREATED:20250627T052657Z
LAST-MODIFIED:20250627T052702Z
UID:9135-1754683200-1754686800@lwpfdn.org
SUMMARY:ENGLISH ENHANCEMENT PROGRAM – English Pub
DESCRIPTION:
URL:https://lwpfdn.org/event/english-enhancement-program-english-pub-58/
END:VEVENT
BEGIN:VEVENT
DTSTART;TZID=America/Los_Angeles:20250808T093000
DTEND;TZID=America/Los_Angeles:20250808T103000
DTSTAMP:20260423T084415
CREATED:20250627T053544Z
LAST-MODIFIED:20250627T053550Z
UID:9153-1754645400-1754649000@lwpfdn.org
SUMMARY:ENGLISH ENHANCEMENT PROGRAM – Beverly Talk
DESCRIPTION:
URL:https://lwpfdn.org/event/english-enhancement-program-beverly-talk-57/
END:VEVENT
BEGIN:VEVENT
DTSTART;TZID=America/Los_Angeles:20250805T203000
DTEND;TZID=America/Los_Angeles:20250805T213000
DTSTAMP:20260423T084415
CREATED:20250627T054412Z
LAST-MODIFIED:20250627T054419Z
UID:9171-1754425800-1754429400@lwpfdn.org
SUMMARY:ENGLISH ENHANCEMENT PROGRAM – Weekly Chatter
DESCRIPTION:
URL:https://lwpfdn.org/event/english-enhancement-program-weekly-chatter-49/
END:VEVENT
BEGIN:VEVENT
DTSTART;TZID=America/Los_Angeles:20250801T200000
DTEND;TZID=America/Los_Angeles:20250801T210000
DTSTAMP:20260423T084415
CREATED:20250627T052536Z
LAST-MODIFIED:20250627T052541Z
UID:9132-1754078400-1754082000@lwpfdn.org
SUMMARY:ENGLISH ENHANCEMENT PROGRAM – English Pub
DESCRIPTION:
URL:https://lwpfdn.org/event/english-enhancement-program-english-pub-57/
END:VEVENT
BEGIN:VEVENT
DTSTART;TZID=America/Los_Angeles:20250801T093000
DTEND;TZID=America/Los_Angeles:20250801T103000
DTSTAMP:20260423T084415
CREATED:20250627T053354Z
LAST-MODIFIED:20250627T053400Z
UID:9150-1754040600-1754044200@lwpfdn.org
SUMMARY:ENGLISH ENHANCEMENT PROGRAM – Beverly Talk
DESCRIPTION:
URL:https://lwpfdn.org/event/english-enhancement-program-beverly-talk-56/
END:VEVENT
BEGIN:VEVENT
DTSTART;TZID=America/Los_Angeles:20250729T203000
DTEND;TZID=America/Los_Angeles:20250729T213000
DTSTAMP:20260423T084415
CREATED:20250627T054249Z
LAST-MODIFIED:20250627T054256Z
UID:9168-1753821000-1753824600@lwpfdn.org
SUMMARY:ENGLISH ENHANCEMENT PROGRAM – Weekly Chatter
DESCRIPTION:
URL:https://lwpfdn.org/event/english-enhancement-program-weekly-chatter-48/
END:VEVENT
BEGIN:VEVENT
DTSTART;TZID=America/Los_Angeles:20250725T200000
DTEND;TZID=America/Los_Angeles:20250725T210000
DTSTAMP:20260423T084415
CREATED:20250627T052416Z
LAST-MODIFIED:20250627T052423Z
UID:9129-1753473600-1753477200@lwpfdn.org
SUMMARY:ENGLISH ENHANCEMENT PROGRAM – English Pub
DESCRIPTION:
URL:https://lwpfdn.org/event/english-enhancement-program-english-pub-56/
END:VEVENT
BEGIN:VEVENT
DTSTART;TZID=America/Los_Angeles:20250725T093000
DTEND;TZID=America/Los_Angeles:20250725T103000
DTSTAMP:20260423T084415
CREATED:20250627T053249Z
LAST-MODIFIED:20250627T053255Z
UID:9147-1753435800-1753439400@lwpfdn.org
SUMMARY:ENGLISH ENHANCEMENT PROGRAM – Beverly Talk
DESCRIPTION:
URL:https://lwpfdn.org/event/english-enhancement-program-beverly-talk-55/
END:VEVENT
BEGIN:VEVENT
DTSTART;TZID=America/Los_Angeles:20250722T203000
DTEND;TZID=America/Los_Angeles:20250722T213000
DTSTAMP:20260423T084415
CREATED:20250627T054137Z
LAST-MODIFIED:20250627T054143Z
UID:9165-1753216200-1753219800@lwpfdn.org
SUMMARY:ENGLISH ENHANCEMENT PROGRAM – Weekly Chatter
DESCRIPTION:
URL:https://lwpfdn.org/event/english-enhancement-program-weekly-chatter-47/
END:VEVENT
BEGIN:VEVENT
DTSTART;TZID=America/Los_Angeles:20250718T200000
DTEND;TZID=America/Los_Angeles:20250718T210000
DTSTAMP:20260423T084415
CREATED:20250627T052244Z
LAST-MODIFIED:20250627T052250Z
UID:9126-1752868800-1752872400@lwpfdn.org
SUMMARY:ENGLISH ENHANCEMENT PROGRAM – English Pub
DESCRIPTION:
URL:https://lwpfdn.org/event/english-enhancement-program-english-pub-55/
END:VEVENT
BEGIN:VEVENT
DTSTART;TZID=America/Los_Angeles:20250718T093000
DTEND;TZID=America/Los_Angeles:20250718T103000
DTSTAMP:20260423T084415
CREATED:20250627T053127Z
LAST-MODIFIED:20250627T053133Z
UID:9144-1752831000-1752834600@lwpfdn.org
SUMMARY:ENGLISH ENHANCEMENT PROGRAM – Beverly Talk
DESCRIPTION:
URL:https://lwpfdn.org/event/english-enhancement-program-beverly-talk-54/
END:VEVENT
BEGIN:VEVENT
DTSTART;TZID=America/Los_Angeles:20250715T203000
DTEND;TZID=America/Los_Angeles:20250715T213000
DTSTAMP:20260423T084415
CREATED:20250627T054035Z
LAST-MODIFIED:20250627T054039Z
UID:9162-1752611400-1752615000@lwpfdn.org
SUMMARY:ENGLISH ENHANCEMENT PROGRAM – Weekly Chatter
DESCRIPTION:
URL:https://lwpfdn.org/event/english-enhancement-program-weekly-chatter-36/
END:VEVENT
BEGIN:VEVENT
DTSTART;TZID=America/Los_Angeles:20250711T200000
DTEND;TZID=America/Los_Angeles:20250711T210000
DTSTAMP:20260423T084415
CREATED:20250627T050957Z
LAST-MODIFIED:20250627T051003Z
UID:9123-1752264000-1752267600@lwpfdn.org
SUMMARY:ENGLISH ENHANCEMENT PROGRAM – English Pub
DESCRIPTION:
URL:https://lwpfdn.org/event/english-enhancement-program-english-pub-54/
END:VEVENT
BEGIN:VEVENT
DTSTART;TZID=America/Los_Angeles:20250711T093000
DTEND;TZID=America/Los_Angeles:20250711T103000
DTSTAMP:20260423T084415
CREATED:20250627T053024Z
LAST-MODIFIED:20250627T053029Z
UID:9141-1752226200-1752229800@lwpfdn.org
SUMMARY:ENGLISH ENHANCEMENT PROGRAM – Beverly Talk
DESCRIPTION:
URL:https://lwpfdn.org/event/english-enhancement-program-beverly-talk-53/
END:VEVENT
BEGIN:VEVENT
DTSTART;TZID=America/Los_Angeles:20250708T203000
DTEND;TZID=America/Los_Angeles:20250708T213000
DTSTAMP:20260423T084415
CREATED:20250627T053943Z
LAST-MODIFIED:20250627T053949Z
UID:9159-1752006600-1752010200@lwpfdn.org
SUMMARY:ENGLISH ENHANCEMENT PROGRAM – Weekly Chatter
DESCRIPTION:
URL:https://lwpfdn.org/event/english-enhancement-program-weekly-chatter-35/
END:VEVENT
BEGIN:VEVENT
DTSTART;TZID=America/Los_Angeles:20250613T200000
DTEND;TZID=America/Los_Angeles:20250613T210000
DTSTAMP:20260423T084415
CREATED:20250429T002339Z
LAST-MODIFIED:20250429T002342Z
UID:8996-1749844800-1749848400@lwpfdn.org
SUMMARY:ENGLISH ENHANCEMENT PROGRAM - English Pub
DESCRIPTION:
URL:https://lwpfdn.org/event/english-enhancement-program-english-pub-53/
END:VEVENT
BEGIN:VEVENT
DTSTART;TZID=America/Los_Angeles:20250613T093000
DTEND;TZID=America/Los_Angeles:20250613T103000
DTSTAMP:20260423T084415
CREATED:20250429T001145Z
LAST-MODIFIED:20250429T001148Z
UID:8958-1749807000-1749810600@lwpfdn.org
SUMMARY:ENGLISH ENHANCEMENT PROGRAM - Beverly Talk
DESCRIPTION:
URL:https://lwpfdn.org/event/english-enhancement-program-beverly-talk-50/
END:VEVENT
BEGIN:VEVENT
DTSTART;TZID=America/Los_Angeles:20250611T203000
DTEND;TZID=America/Los_Angeles:20250611T213000
DTSTAMP:20260423T084415
CREATED:20250428T233215Z
LAST-MODIFIED:20250428T233217Z
UID:8936-1749673800-1749677400@lwpfdn.org
SUMMARY:ENGLISH ENHANCEMENT PROGRAM - Happy Banter
DESCRIPTION:
URL:https://lwpfdn.org/event/english-enhancement-program-happy-banter-8/
END:VEVENT
BEGIN:VEVENT
DTSTART;TZID=America/Los_Angeles:20250610T203000
DTEND;TZID=America/Los_Angeles:20250610T213000
DTSTAMP:20260423T084415
CREATED:20250428T223908Z
LAST-MODIFIED:20250428T231633Z
UID:8876-1749587400-1749591000@lwpfdn.org
SUMMARY:ENGLISH ENHANCEMENT PROGRAM - Weekly Chatter
DESCRIPTION:
URL:https://lwpfdn.org/event/8876/
END:VEVENT
BEGIN:VEVENT
DTSTART;TZID=America/Los_Angeles:20250606T200000
DTEND;TZID=America/Los_Angeles:20250606T210000
DTSTAMP:20260423T084415
CREATED:20250429T002259Z
LAST-MODIFIED:20250429T002302Z
UID:8992-1749240000-1749243600@lwpfdn.org
SUMMARY:ENGLISH ENHANCEMENT PROGRAM - English Pub
DESCRIPTION:
URL:https://lwpfdn.org/event/english-enhancement-program-english-pub-52/
END:VEVENT
BEGIN:VEVENT
DTSTART;TZID=America/Los_Angeles:20250606T093000
DTEND;TZID=America/Los_Angeles:20250606T103000
DTSTAMP:20260423T084415
CREATED:20250429T001100Z
LAST-MODIFIED:20250429T001102Z
UID:8955-1749202200-1749205800@lwpfdn.org
SUMMARY:ENGLISH ENHANCEMENT PROGRAM - Beverly Talk
DESCRIPTION:
URL:https://lwpfdn.org/event/english-enhancement-program-beverly-talk-49/
END:VEVENT
BEGIN:VEVENT
DTSTART;TZID=America/Los_Angeles:20250604T203000
DTEND;TZID=America/Los_Angeles:20250604T213000
DTSTAMP:20260423T084415
CREATED:20250428T233135Z
LAST-MODIFIED:20250428T233139Z
UID:8933-1749069000-1749072600@lwpfdn.org
SUMMARY:ENGLISH ENHANCEMENT PROGRAM - Happy Banter
DESCRIPTION:
URL:https://lwpfdn.org/event/english-enhancement-program-happy-banter-7/
END:VEVENT
BEGIN:VEVENT
DTSTART;TZID=America/Los_Angeles:20250603T203000
DTEND;TZID=America/Los_Angeles:20250603T213000
DTSTAMP:20260423T084415
CREATED:20250428T223821Z
LAST-MODIFIED:20250428T231623Z
UID:8873-1748982600-1748986200@lwpfdn.org
SUMMARY:ENGLISH ENHANCEMENT PROGRAM - Weekly Chatter
DESCRIPTION:
URL:https://lwpfdn.org/event/weekly-chatter-4/
END:VEVENT
END:VCALENDAR