BEGIN:VCALENDAR
VERSION:2.0
PRODID:-//Lead with Purpose Foundation - ECPv6.15.20//NONSGML v1.0//EN
CALSCALE:GREGORIAN
METHOD:PUBLISH
X-ORIGINAL-URL:https://lwpfdn.org
X-WR-CALDESC:Events for Lead with Purpose Foundation
REFRESH-INTERVAL;VALUE=DURATION:PT1H
X-Robots-Tag:noindex
X-PUBLISHED-TTL:PT1H
BEGIN:VTIMEZONE
TZID:America/Los_Angeles
BEGIN:DAYLIGHT
TZOFFSETFROM:-0800
TZOFFSETTO:-0700
TZNAME:PDT
DTSTART:20230312T100000
END:DAYLIGHT
BEGIN:STANDARD
TZOFFSETFROM:-0700
TZOFFSETTO:-0800
TZNAME:PST
DTSTART:20231105T090000
END:STANDARD
BEGIN:DAYLIGHT
TZOFFSETFROM:-0800
TZOFFSETTO:-0700
TZNAME:PDT
DTSTART:20240310T100000
END:DAYLIGHT
BEGIN:STANDARD
TZOFFSETFROM:-0700
TZOFFSETTO:-0800
TZNAME:PST
DTSTART:20241103T090000
END:STANDARD
BEGIN:DAYLIGHT
TZOFFSETFROM:-0800
TZOFFSETTO:-0700
TZNAME:PDT
DTSTART:20250309T100000
END:DAYLIGHT
BEGIN:STANDARD
TZOFFSETFROM:-0700
TZOFFSETTO:-0800
TZNAME:PST
DTSTART:20251102T090000
END:STANDARD
BEGIN:DAYLIGHT
TZOFFSETFROM:-0800
TZOFFSETTO:-0700
TZNAME:PDT
DTSTART:20260308T100000
END:DAYLIGHT
BEGIN:STANDARD
TZOFFSETFROM:-0700
TZOFFSETTO:-0800
TZNAME:PST
DTSTART:20261101T090000
END:STANDARD
END:VTIMEZONE
BEGIN:VEVENT
DTSTART;TZID=America/Los_Angeles:20250325T203000
DTEND;TZID=America/Los_Angeles:20250325T213000
DTSTAMP:20260423T112304
CREATED:20250107T023459Z
LAST-MODIFIED:20250119T235643Z
UID:8630-1742934600-1742938200@lwpfdn.org
SUMMARY:ENGLISH ENHANCEMENT PROGRAM - WEEKLY CHATTER
DESCRIPTION:LWPF EEP session 15Download
URL:https://lwpfdn.org/event/english-enhancement-program-weekly-chatter-46/
END:VEVENT
BEGIN:VEVENT
DTSTART;TZID=America/Los_Angeles:20250321T203000
DTEND;TZID=America/Los_Angeles:20250321T213000
DTSTAMP:20260423T112304
CREATED:20250107T031030Z
LAST-MODIFIED:20250120T033815Z
UID:8701-1742589000-1742592600@lwpfdn.org
SUMMARY:ENGLISH ENHANCEMENT PROGRAM - ENGLISH PUB
DESCRIPTION:LWPF EEP session 15Download
URL:https://lwpfdn.org/event/english-enhancement-program-english-pub-46/
END:VEVENT
BEGIN:VEVENT
DTSTART;TZID=America/Los_Angeles:20250321T090000
DTEND;TZID=America/Los_Angeles:20250321T100000
DTSTAMP:20260423T112304
CREATED:20250107T032820Z
LAST-MODIFIED:20250120T033850Z
UID:8713-1742547600-1742551200@lwpfdn.org
SUMMARY:ENGLISH ENHANCEMENT PROGRAM - BEVERLY TALK
DESCRIPTION:LWPF EEP session 15Download
URL:https://lwpfdn.org/event/english-enhancement-program-beverly-talk-46/
END:VEVENT
BEGIN:VEVENT
DTSTART;TZID=America/Los_Angeles:20250318T203000
DTEND;TZID=America/Los_Angeles:20250318T213000
DTSTAMP:20260423T112304
CREATED:20250107T023245Z
LAST-MODIFIED:20250120T033954Z
UID:8626-1742329800-1742333400@lwpfdn.org
SUMMARY:ENGLISH ENHANCEMENT PROGRAM - WEEKLY CHATTER
DESCRIPTION:LWPF EEP session 15Download
URL:https://lwpfdn.org/event/english-enhancement-program-weekly-chatter-45/
END:VEVENT
BEGIN:VEVENT
DTSTART;TZID=America/Los_Angeles:20250314T203000
DTEND;TZID=America/Los_Angeles:20250314T213000
DTSTAMP:20260423T112304
CREATED:20250107T030956Z
LAST-MODIFIED:20250120T034037Z
UID:8698-1741984200-1741987800@lwpfdn.org
SUMMARY:ENGLISH ENHANCEMENT PROGRAM - ENGLISH PUB
DESCRIPTION:LWPF EEP session 15Download
URL:https://lwpfdn.org/event/english-enhancement-program-english-pub-45/
END:VEVENT
BEGIN:VEVENT
DTSTART;TZID=America/Los_Angeles:20250314T090000
DTEND;TZID=America/Los_Angeles:20250314T100000
DTSTAMP:20260423T112304
CREATED:20250107T024833Z
LAST-MODIFIED:20250120T034109Z
UID:8661-1741942800-1741946400@lwpfdn.org
SUMMARY:ENGLISH ENHANCEMENT PROGRAM - BEVERLY TALK
DESCRIPTION:LWPF EEP session 15Download
URL:https://lwpfdn.org/event/english-enhancement-program-beverly-talk-43/
END:VEVENT
BEGIN:VEVENT
DTSTART;TZID=America/Los_Angeles:20250311T203000
DTEND;TZID=America/Los_Angeles:20250311T213000
DTSTAMP:20260423T112304
CREATED:20250107T023150Z
LAST-MODIFIED:20250120T034140Z
UID:8623-1741725000-1741728600@lwpfdn.org
SUMMARY:ENGLISH ENHANCEMENT PROGRAM - WEEKLY CHATTER
DESCRIPTION:LWPF EEP session 15Download
URL:https://lwpfdn.org/event/english-enhancement-program-weekly-chatter-44/
END:VEVENT
BEGIN:VEVENT
DTSTART;TZID=America/Los_Angeles:20250307T203000
DTEND;TZID=America/Los_Angeles:20250307T213000
DTSTAMP:20260423T112304
CREATED:20250107T030845Z
LAST-MODIFIED:20250120T034208Z
UID:8695-1741379400-1741383000@lwpfdn.org
SUMMARY:ENGLISH ENHANCEMENT PROGRAM - ENGLISH PUB
DESCRIPTION:LWPF EEP session 15Download
URL:https://lwpfdn.org/event/english-enhancement-program-english-pub-44/
END:VEVENT
BEGIN:VEVENT
DTSTART;TZID=America/Los_Angeles:20250307T090000
DTEND;TZID=America/Los_Angeles:20250307T100000
DTSTAMP:20260423T112304
CREATED:20250107T024733Z
LAST-MODIFIED:20250120T034239Z
UID:8658-1741338000-1741341600@lwpfdn.org
SUMMARY:ENGLISH ENHANCEMENT PROGRAM - BEVERLY TALK
DESCRIPTION:LWPF EEP session 15Download
URL:https://lwpfdn.org/event/english-enhancement-program-beverly-talk-42/
END:VEVENT
BEGIN:VEVENT
DTSTART;TZID=America/Los_Angeles:20250304T203000
DTEND;TZID=America/Los_Angeles:20250304T213000
DTSTAMP:20260423T112304
CREATED:20250107T022732Z
LAST-MODIFIED:20250120T034337Z
UID:8620-1741120200-1741123800@lwpfdn.org
SUMMARY:ENGLISH ENHANCEMENT PROGRAM - WEEKLY CHATTER
DESCRIPTION:LWPF EEP session 15Download
URL:https://lwpfdn.org/event/english-enhancement-program-weekly-chatter-43/
END:VEVENT
BEGIN:VEVENT
DTSTART;TZID=America/Los_Angeles:20250228T203000
DTEND;TZID=America/Los_Angeles:20250228T213000
DTSTAMP:20260423T112304
CREATED:20250107T030724Z
LAST-MODIFIED:20250120T034451Z
UID:8692-1740774600-1740778200@lwpfdn.org
SUMMARY:ENGLISH ENHANCEMENT PROGRAM - ENGLISH PUB
DESCRIPTION:LWPF EEP session 15Download
URL:https://lwpfdn.org/event/english-enhancement-program-english-pub-43/
END:VEVENT
BEGIN:VEVENT
DTSTART;TZID=America/Los_Angeles:20250228T090000
DTEND;TZID=America/Los_Angeles:20250228T100000
DTSTAMP:20260423T112304
CREATED:20250107T024637Z
LAST-MODIFIED:20250120T042429Z
UID:8655-1740733200-1740736800@lwpfdn.org
SUMMARY:ENGLISH ENHANCEMENT PROGRAM - BEVERLY TALK
DESCRIPTION:LWPF EEP session 15Download
URL:https://lwpfdn.org/event/english-enhancement-program-beverly-talk-41/
END:VEVENT
BEGIN:VEVENT
DTSTART;TZID=America/Los_Angeles:20250225T203000
DTEND;TZID=America/Los_Angeles:20250225T213000
DTSTAMP:20260423T112304
CREATED:20250107T022434Z
LAST-MODIFIED:20250120T042356Z
UID:8617-1740515400-1740519000@lwpfdn.org
SUMMARY:ENGLISH ENHANCEMENT PROGRAM - WEEKLY CHATTER
DESCRIPTION:LWPF EEP session 15Download
URL:https://lwpfdn.org/event/english-enhancement-program-weekly-chatter-42/
END:VEVENT
BEGIN:VEVENT
DTSTART;TZID=America/Los_Angeles:20250221T203000
DTEND;TZID=America/Los_Angeles:20250221T213000
DTSTAMP:20260423T112304
CREATED:20250107T030618Z
LAST-MODIFIED:20250120T034625Z
UID:8689-1740169800-1740173400@lwpfdn.org
SUMMARY:ENGLISH ENHANCEMENT PROGRAM - ENGLISH PUB
DESCRIPTION:LWPF EEP session 15Download
URL:https://lwpfdn.org/event/english-enhancement-program-english-pub-42/
END:VEVENT
BEGIN:VEVENT
DTSTART;TZID=America/Los_Angeles:20250221T090000
DTEND;TZID=America/Los_Angeles:20250221T100000
DTSTAMP:20260423T112304
CREATED:20250107T032742Z
LAST-MODIFIED:20250120T034649Z
UID:8710-1740128400-1740132000@lwpfdn.org
SUMMARY:ENGLISH ENHANCEMENT PROGRAM - BEVERLY TALK
DESCRIPTION:LWPF EEP session 15Download
URL:https://lwpfdn.org/event/english-enhancement-program-beverly-talk-45/
END:VEVENT
BEGIN:VEVENT
DTSTART;TZID=America/Los_Angeles:20250218T203000
DTEND;TZID=America/Los_Angeles:20250218T213000
DTSTAMP:20260423T112304
CREATED:20250107T022342Z
LAST-MODIFIED:20250120T034727Z
UID:8615-1739910600-1739914200@lwpfdn.org
SUMMARY:ENGLISH ENHANCEMENT PROGRAM - WEEKLY CHATTER
DESCRIPTION:LWPF EEP session 15Download
URL:https://lwpfdn.org/event/english-enhancement-program-weekly-chatter-41/
END:VEVENT
BEGIN:VEVENT
DTSTART;TZID=America/Los_Angeles:20250214T203000
DTEND;TZID=America/Los_Angeles:20250214T213000
DTSTAMP:20260423T112304
CREATED:20250107T030012Z
LAST-MODIFIED:20250120T041612Z
UID:8686-1739565000-1739568600@lwpfdn.org
SUMMARY:ENGLISH ENHANCEMENT PROGRAM - ENGLISH PUB
DESCRIPTION:LWPF EEP session 15Download
URL:https://lwpfdn.org/event/english-enhancement-program-english-pub-41/
END:VEVENT
BEGIN:VEVENT
DTSTART;TZID=America/Los_Angeles:20250214T090000
DTEND;TZID=America/Los_Angeles:20250214T100000
DTSTAMP:20260423T112304
CREATED:20250107T024246Z
LAST-MODIFIED:20250120T042128Z
UID:8649-1739523600-1739527200@lwpfdn.org
SUMMARY:ENGLISH ENHANCEMENT PROGRAM - BEVERLY TALK
DESCRIPTION:LWPF EEP session 15Download
URL:https://lwpfdn.org/event/english-enhancement-program-beverly-talk-40/
END:VEVENT
BEGIN:VEVENT
DTSTART;TZID=America/Los_Angeles:20250211T203000
DTEND;TZID=America/Los_Angeles:20250211T213000
DTSTAMP:20260423T112304
CREATED:20250107T022302Z
LAST-MODIFIED:20250120T042801Z
UID:8612-1739305800-1739309400@lwpfdn.org
SUMMARY:ENGLISH ENHANCEMENT PROGRAM - WEEKLY CHATTER
DESCRIPTION:LWPF EEP session 15Download
URL:https://lwpfdn.org/event/english-enhancement-program-weekly-chatter-40/
END:VEVENT
BEGIN:VEVENT
DTSTART;TZID=America/Los_Angeles:20250207T203000
DTEND;TZID=America/Los_Angeles:20250207T213000
DTSTAMP:20260423T112304
CREATED:20250107T025933Z
LAST-MODIFIED:20250120T042828Z
UID:8683-1738960200-1738963800@lwpfdn.org
SUMMARY:ENGLISH ENHANCEMENT PROGRAM - ENGLISH PUB
DESCRIPTION:LWPF EEP session 15Download
URL:https://lwpfdn.org/event/english-enhancement-program-english-pub-40/
END:VEVENT
BEGIN:VEVENT
DTSTART;TZID=America/Los_Angeles:20250207T090000
DTEND;TZID=America/Los_Angeles:20250207T100000
DTSTAMP:20260423T112304
CREATED:20250107T024045Z
LAST-MODIFIED:20250120T042855Z
UID:8646-1738918800-1738922400@lwpfdn.org
SUMMARY:ENGLISH ENHANCEMENT PROGRAM - BEVERLY TALK
DESCRIPTION:LWPF EEP session 15Download
URL:https://lwpfdn.org/event/english-enhancement-program-beverly-talk-39/
END:VEVENT
BEGIN:VEVENT
DTSTART;TZID=America/Los_Angeles:20250204T203000
DTEND;TZID=America/Los_Angeles:20250204T213000
DTSTAMP:20260423T112304
CREATED:20250107T022011Z
LAST-MODIFIED:20250120T043000Z
UID:8606-1738701000-1738704600@lwpfdn.org
SUMMARY:ENGLISH ENHANCEMENT PROGRAM - WEEKLY CHATTER
DESCRIPTION:LWPF EEP session 15Download
URL:https://lwpfdn.org/event/english-enhancement-program-weekly-chatter-39/
END:VEVENT
BEGIN:VEVENT
DTSTART;TZID=America/Los_Angeles:20250131T203000
DTEND;TZID=America/Los_Angeles:20250131T213000
DTSTAMP:20260423T112304
CREATED:20250107T025849Z
LAST-MODIFIED:20250120T043348Z
UID:8680-1738355400-1738359000@lwpfdn.org
SUMMARY:ENGLISH ENHANCEMENT PROGRAM - ENGLISH PUB
DESCRIPTION:LWPF EEP session 15Download
URL:https://lwpfdn.org/event/english-enhancement-program-english-pub-39/
END:VEVENT
BEGIN:VEVENT
DTSTART;TZID=America/Los_Angeles:20250131T090000
DTEND;TZID=America/Los_Angeles:20250131T100000
DTSTAMP:20260423T112304
CREATED:20250107T023933Z
LAST-MODIFIED:20250120T043433Z
UID:8643-1738314000-1738317600@lwpfdn.org
SUMMARY:ENGLISH ENHANCEMENT PROGRAM - BEVERLY TALK
DESCRIPTION:LWPF EEP session 15Download
URL:https://lwpfdn.org/event/english-enhancement-program-beverly-talk-38/
END:VEVENT
BEGIN:VEVENT
DTSTART;TZID=America/Los_Angeles:20250128T203000
DTEND;TZID=America/Los_Angeles:20250128T213000
DTSTAMP:20260423T112304
CREATED:20250107T021902Z
LAST-MODIFIED:20250120T043541Z
UID:8603-1738096200-1738099800@lwpfdn.org
SUMMARY:ENGLISH ENHANCEMENT PROGRAM - WEEKLY CHATTER
DESCRIPTION:LWPF EEP session 15Download
URL:https://lwpfdn.org/event/english-enhancement-program-weekly-chatter-38/
END:VEVENT
BEGIN:VEVENT
DTSTART;TZID=America/Los_Angeles:20250124T203000
DTEND;TZID=America/Los_Angeles:20250124T213000
DTSTAMP:20260423T112304
CREATED:20250107T025601Z
LAST-MODIFIED:20250120T044356Z
UID:8677-1737750600-1737754200@lwpfdn.org
SUMMARY:ENGLISH ENHANCEMENT PROGRAM - ENGLISH PUB
DESCRIPTION:LWPF EEP session 15Download
URL:https://lwpfdn.org/event/english-enhancement-program-english-pub-38/
END:VEVENT
BEGIN:VEVENT
DTSTART;TZID=America/Los_Angeles:20250124T090000
DTEND;TZID=America/Los_Angeles:20250124T100000
DTSTAMP:20260423T112304
CREATED:20250107T023831Z
LAST-MODIFIED:20250120T044423Z
UID:8639-1737709200-1737712800@lwpfdn.org
SUMMARY:ENGLISH ENHANCEMENT PROGRAM - BEVERLY TALK
DESCRIPTION:LWPF EEP session 15Download
URL:https://lwpfdn.org/event/8639/
END:VEVENT
BEGIN:VEVENT
DTSTART;TZID=America/Los_Angeles:20250121T203000
DTEND;TZID=America/Los_Angeles:20250121T213000
DTSTAMP:20260423T112304
CREATED:20250107T021739Z
LAST-MODIFIED:20250120T044453Z
UID:8600-1737491400-1737495000@lwpfdn.org
SUMMARY:ENGLISH ENHANCEMENT PROGRAM - WEEKLY CHATTER
DESCRIPTION:LWPF EEP session 15Download
URL:https://lwpfdn.org/event/english-enhancement-program-weekly-chatter-37/
END:VEVENT
BEGIN:VEVENT
DTSTART;TZID=America/Los_Angeles:20241115T203000
DTEND;TZID=America/Los_Angeles:20241115T213000
DTSTAMP:20260423T112304
CREATED:20240820T202855Z
LAST-MODIFIED:20240820T202857Z
UID:8552-1731702600-1731706200@lwpfdn.org
SUMMARY:ENGLISH ENHANCEMENT PROGRAM - English Pub
DESCRIPTION:
URL:https://lwpfdn.org/event/english-enhancement-program-english-pub-35/
END:VEVENT
BEGIN:VEVENT
DTSTART;TZID=America/Los_Angeles:20241115T180000
DTEND;TZID=America/Los_Angeles:20241115T201500
DTSTAMP:20260423T112304
CREATED:20240820T201852Z
LAST-MODIFIED:20240820T201854Z
UID:8520-1731693600-1731701700@lwpfdn.org
SUMMARY:ENGLISH ENHANCEMENT PROGRAM - YEEP I & II
DESCRIPTION:
URL:https://lwpfdn.org/event/english-enhancement-program-yeep-i-ii-35/
END:VEVENT
END:VCALENDAR