BEGIN:VCALENDAR
VERSION:2.0
PRODID:-//Lead with Purpose Foundation - ECPv6.15.20//NONSGML v1.0//EN
CALSCALE:GREGORIAN
METHOD:PUBLISH
X-WR-CALNAME:Lead with Purpose Foundation
X-ORIGINAL-URL:https://lwpfdn.org
X-WR-CALDESC:Events for Lead with Purpose Foundation
REFRESH-INTERVAL;VALUE=DURATION:PT1H
X-Robots-Tag:noindex
X-PUBLISHED-TTL:PT1H
BEGIN:VTIMEZONE
TZID:America/Los_Angeles
BEGIN:DAYLIGHT
TZOFFSETFROM:-0800
TZOFFSETTO:-0700
TZNAME:PDT
DTSTART:20230312T100000
END:DAYLIGHT
BEGIN:STANDARD
TZOFFSETFROM:-0700
TZOFFSETTO:-0800
TZNAME:PST
DTSTART:20231105T090000
END:STANDARD
BEGIN:DAYLIGHT
TZOFFSETFROM:-0800
TZOFFSETTO:-0700
TZNAME:PDT
DTSTART:20240310T100000
END:DAYLIGHT
BEGIN:STANDARD
TZOFFSETFROM:-0700
TZOFFSETTO:-0800
TZNAME:PST
DTSTART:20241103T090000
END:STANDARD
BEGIN:DAYLIGHT
TZOFFSETFROM:-0800
TZOFFSETTO:-0700
TZNAME:PDT
DTSTART:20250309T100000
END:DAYLIGHT
BEGIN:STANDARD
TZOFFSETFROM:-0700
TZOFFSETTO:-0800
TZNAME:PST
DTSTART:20251102T090000
END:STANDARD
END:VTIMEZONE
BEGIN:VEVENT
DTSTART;TZID=America/Los_Angeles:20241115T090000
DTEND;TZID=America/Los_Angeles:20241115T100000
DTSTAMP:20260423T124157
CREATED:20240820T201455Z
LAST-MODIFIED:20240820T201459Z
UID:8490-1731661200-1731664800@lwpfdn.org
SUMMARY:ENGLISH ENHANCEMENT PROGRAM - BEVERLY TALK
DESCRIPTION:
URL:https://lwpfdn.org/event/english-enhancement-program-beverly-talk-36/
END:VEVENT
BEGIN:VEVENT
DTSTART;TZID=America/Los_Angeles:20241112T203000
DTEND;TZID=America/Los_Angeles:20241112T213000
DTSTAMP:20260423T124157
CREATED:20240820T200656Z
LAST-MODIFIED:20240820T200700Z
UID:8452-1731443400-1731447000@lwpfdn.org
SUMMARY:ENGLISH ENHANCEMENT PROGRAM - WEEKLY CHATTER
DESCRIPTION:
URL:https://lwpfdn.org/event/english-enhancement-program-weekly-chatter-33/
END:VEVENT
BEGIN:VEVENT
DTSTART;TZID=America/Los_Angeles:20241108T203000
DTEND;TZID=America/Los_Angeles:20241108T213000
DTSTAMP:20260423T124157
CREATED:20240820T202828Z
LAST-MODIFIED:20240820T202831Z
UID:8549-1731097800-1731101400@lwpfdn.org
SUMMARY:ENGLISH ENHANCEMENT PROGRAM - English Pub
DESCRIPTION:
URL:https://lwpfdn.org/event/english-enhancement-program-english-pub-34/
END:VEVENT
BEGIN:VEVENT
DTSTART;TZID=America/Los_Angeles:20241108T180000
DTEND;TZID=America/Los_Angeles:20241108T201500
DTSTAMP:20260423T124157
CREATED:20240820T201830Z
LAST-MODIFIED:20240820T201833Z
UID:8517-1731088800-1731096900@lwpfdn.org
SUMMARY:ENGLISH ENHANCEMENT PROGRAM - YEEP I & II
DESCRIPTION:
URL:https://lwpfdn.org/event/english-enhancement-program-yeep-i-ii-34/
END:VEVENT
BEGIN:VEVENT
DTSTART;TZID=America/Los_Angeles:20241108T090000
DTEND;TZID=America/Los_Angeles:20241108T100000
DTSTAMP:20260423T124157
CREATED:20240820T201429Z
LAST-MODIFIED:20240820T201432Z
UID:8487-1731056400-1731060000@lwpfdn.org
SUMMARY:ENGLISH ENHANCEMENT PROGRAM - BEVERLY TALK
DESCRIPTION:
URL:https://lwpfdn.org/event/english-enhancement-program-beverly-talk-35/
END:VEVENT
BEGIN:VEVENT
DTSTART;TZID=America/Los_Angeles:20241105T203000
DTEND;TZID=America/Los_Angeles:20241105T213000
DTSTAMP:20260423T124157
CREATED:20240820T200639Z
LAST-MODIFIED:20240820T200641Z
UID:8449-1730838600-1730842200@lwpfdn.org
SUMMARY:ENGLISH ENHANCEMENT PROGRAM - WEEKLY CHATTER
DESCRIPTION:
URL:https://lwpfdn.org/event/english-enhancement-program-weekly-chatter-32/
END:VEVENT
BEGIN:VEVENT
DTSTART;TZID=America/Los_Angeles:20241101T203000
DTEND;TZID=America/Los_Angeles:20241101T213000
DTSTAMP:20260423T124157
CREATED:20240820T202803Z
LAST-MODIFIED:20240820T202806Z
UID:8546-1730493000-1730496600@lwpfdn.org
SUMMARY:ENGLISH ENHANCEMENT PROGRAM - English Pub
DESCRIPTION:
URL:https://lwpfdn.org/event/english-enhancement-program-english-pub-33/
END:VEVENT
BEGIN:VEVENT
DTSTART;TZID=America/Los_Angeles:20241101T180000
DTEND;TZID=America/Los_Angeles:20241101T201500
DTSTAMP:20260423T124157
CREATED:20240820T201811Z
LAST-MODIFIED:20240820T201815Z
UID:8514-1730484000-1730492100@lwpfdn.org
SUMMARY:ENGLISH ENHANCEMENT PROGRAM - YEEP I & II
DESCRIPTION:
URL:https://lwpfdn.org/event/english-enhancement-program-yeep-i-ii-33/
END:VEVENT
BEGIN:VEVENT
DTSTART;TZID=America/Los_Angeles:20241101T090000
DTEND;TZID=America/Los_Angeles:20241101T100000
DTSTAMP:20260423T124157
CREATED:20240820T201335Z
LAST-MODIFIED:20240820T201339Z
UID:8480-1730451600-1730455200@lwpfdn.org
SUMMARY:ENGLISH ENHANCEMENT PROGRAM - BEVERLY TALK
DESCRIPTION:
URL:https://lwpfdn.org/event/english-enhancement-program-beverly-talk-29/
END:VEVENT
BEGIN:VEVENT
DTSTART;TZID=America/Los_Angeles:20241029T203000
DTEND;TZID=America/Los_Angeles:20241029T213000
DTSTAMP:20260423T124157
CREATED:20240820T200619Z
LAST-MODIFIED:20240820T200621Z
UID:8446-1730233800-1730237400@lwpfdn.org
SUMMARY:ENGLISH ENHANCEMENT PROGRAM - WEEKLY CHATTER
DESCRIPTION:
URL:https://lwpfdn.org/event/english-enhancement-program-weekly-chatter-31/
END:VEVENT
BEGIN:VEVENT
DTSTART;TZID=America/Los_Angeles:20241025T203000
DTEND;TZID=America/Los_Angeles:20241025T213000
DTSTAMP:20260423T124157
CREATED:20240820T202729Z
LAST-MODIFIED:20240820T202733Z
UID:8542-1729888200-1729891800@lwpfdn.org
SUMMARY:ENGLISH ENHANCEMENT PROGRAM - English Pub
DESCRIPTION:
URL:https://lwpfdn.org/event/english-enhancement-program-english-pub-32/
END:VEVENT
BEGIN:VEVENT
DTSTART;TZID=America/Los_Angeles:20241025T180000
DTEND;TZID=America/Los_Angeles:20241025T201500
DTSTAMP:20260423T124157
CREATED:20240820T201743Z
LAST-MODIFIED:20240820T201746Z
UID:8511-1729879200-1729887300@lwpfdn.org
SUMMARY:ENGLISH ENHANCEMENT PROGRAM - YEEP I & II
DESCRIPTION:
URL:https://lwpfdn.org/event/english-enhancement-program-yeep-i-ii-32/
END:VEVENT
BEGIN:VEVENT
DTSTART;TZID=America/Los_Angeles:20241025T090000
DTEND;TZID=America/Los_Angeles:20241025T100000
DTSTAMP:20260423T124157
CREATED:20240820T201217Z
LAST-MODIFIED:20240820T201221Z
UID:8477-1729846800-1729850400@lwpfdn.org
SUMMARY:ENGLISH ENHANCEMENT PROGRAM - BEVERLY TALK
DESCRIPTION:
URL:https://lwpfdn.org/event/english-enhancement-program-beverly-talk-33/
END:VEVENT
BEGIN:VEVENT
DTSTART;TZID=America/Los_Angeles:20241022T203000
DTEND;TZID=America/Los_Angeles:20241022T213000
DTSTAMP:20260423T124157
CREATED:20240820T200556Z
LAST-MODIFIED:20240820T200600Z
UID:8443-1729629000-1729632600@lwpfdn.org
SUMMARY:ENGLISH ENHANCEMENT PROGRAM - WEEKLY CHATTER
DESCRIPTION:
URL:https://lwpfdn.org/event/english-enhancement-program-weekly-chatter-30/
END:VEVENT
BEGIN:VEVENT
DTSTART;TZID=America/Los_Angeles:20241018T203000
DTEND;TZID=America/Los_Angeles:20241018T213000
DTSTAMP:20260423T124157
CREATED:20240820T202618Z
LAST-MODIFIED:20240820T202620Z
UID:8539-1729283400-1729287000@lwpfdn.org
SUMMARY:ENGLISH ENHANCEMENT PROGRAM - English Pub
DESCRIPTION:
URL:https://lwpfdn.org/event/english-enhancement-program-english-pub-31/
END:VEVENT
BEGIN:VEVENT
DTSTART;TZID=America/Los_Angeles:20241018T180000
DTEND;TZID=America/Los_Angeles:20241018T201500
DTSTAMP:20260423T124157
CREATED:20240820T201724Z
LAST-MODIFIED:20240820T201726Z
UID:8508-1729274400-1729282500@lwpfdn.org
SUMMARY:ENGLISH ENHANCEMENT PROGRAM - YEEP I & II
DESCRIPTION:
URL:https://lwpfdn.org/event/english-enhancement-program-yeep-i-ii-31/
END:VEVENT
BEGIN:VEVENT
DTSTART;TZID=America/Los_Angeles:20241018T090000
DTEND;TZID=America/Los_Angeles:20241018T100000
DTSTAMP:20260423T124157
CREATED:20240820T200950Z
LAST-MODIFIED:20240820T200952Z
UID:8473-1729242000-1729245600@lwpfdn.org
SUMMARY:ENGLISH ENHANCEMENT PROGRAM - BEVERLY TALK
DESCRIPTION:
URL:https://lwpfdn.org/event/english-enhancement-program-beverly-talk-32/
END:VEVENT
BEGIN:VEVENT
DTSTART;TZID=America/Los_Angeles:20241015T203000
DTEND;TZID=America/Los_Angeles:20241015T213000
DTSTAMP:20260423T124157
CREATED:20240820T200529Z
LAST-MODIFIED:20240820T200531Z
UID:8439-1729024200-1729027800@lwpfdn.org
SUMMARY:ENGLISH ENHANCEMENT PROGRAM - WEEKLY CHATTER
DESCRIPTION:
URL:https://lwpfdn.org/event/english-enhancement-program-weekly-chatter-29/
END:VEVENT
BEGIN:VEVENT
DTSTART;TZID=America/Los_Angeles:20241011T203000
DTEND;TZID=America/Los_Angeles:20241011T213000
DTSTAMP:20260423T124157
CREATED:20240820T202427Z
LAST-MODIFIED:20240820T202429Z
UID:8535-1728678600-1728682200@lwpfdn.org
SUMMARY:ENGLISH ENHANCEMENT PROGRAM - English Pub
DESCRIPTION:
URL:https://lwpfdn.org/event/english-enhancement-program-english-pub-30/
END:VEVENT
BEGIN:VEVENT
DTSTART;TZID=America/Los_Angeles:20241011T180000
DTEND;TZID=America/Los_Angeles:20241011T201500
DTSTAMP:20260423T124157
CREATED:20240820T201704Z
LAST-MODIFIED:20240820T201707Z
UID:8505-1728669600-1728677700@lwpfdn.org
SUMMARY:ENGLISH ENHANCEMENT PROGRAM - YEEP I & II
DESCRIPTION:
URL:https://lwpfdn.org/event/english-enhancement-program-yeep-i-ii-30/
END:VEVENT
BEGIN:VEVENT
DTSTART;TZID=America/Los_Angeles:20241011T090000
DTEND;TZID=America/Los_Angeles:20241011T100000
DTSTAMP:20260423T124157
CREATED:20240820T200929Z
LAST-MODIFIED:20240820T200931Z
UID:8470-1728637200-1728640800@lwpfdn.org
SUMMARY:ENGLISH ENHANCEMENT PROGRAM - BEVERLY TALK
DESCRIPTION:
URL:https://lwpfdn.org/event/english-enhancement-program-beverly-talk-31/
END:VEVENT
BEGIN:VEVENT
DTSTART;TZID=America/Los_Angeles:20241008T203000
DTEND;TZID=America/Los_Angeles:20241008T213000
DTSTAMP:20260423T124157
CREATED:20240820T200456Z
LAST-MODIFIED:20240820T200459Z
UID:8436-1728419400-1728423000@lwpfdn.org
SUMMARY:ENGLISH ENHANCEMENT PROGRAM - WEEKLY CHATTER
DESCRIPTION:
URL:https://lwpfdn.org/event/english-enhancement-program-weekly-chatter-28/
END:VEVENT
BEGIN:VEVENT
DTSTART;TZID=America/Los_Angeles:20241004T203000
DTEND;TZID=America/Los_Angeles:20241004T213000
DTSTAMP:20260423T124157
CREATED:20240820T202348Z
LAST-MODIFIED:20240820T202552Z
UID:8532-1728073800-1728077400@lwpfdn.org
SUMMARY:ENGLISH ENHANCEMENT PROGRAM - English Pub
DESCRIPTION:
URL:https://lwpfdn.org/event/english-enhancement-program-english-pub-29/
END:VEVENT
BEGIN:VEVENT
DTSTART;TZID=America/Los_Angeles:20241004T180000
DTEND;TZID=America/Los_Angeles:20241004T201500
DTSTAMP:20260423T124157
CREATED:20240820T201644Z
LAST-MODIFIED:20240820T201647Z
UID:8502-1728064800-1728072900@lwpfdn.org
SUMMARY:ENGLISH ENHANCEMENT PROGRAM - YEEP I & II
DESCRIPTION:
URL:https://lwpfdn.org/event/english-enhancement-program-yeep-i-ii-29/
END:VEVENT
BEGIN:VEVENT
DTSTART;TZID=America/Los_Angeles:20241004T090000
DTEND;TZID=America/Los_Angeles:20241004T100000
DTSTAMP:20260423T124157
CREATED:20240820T200907Z
LAST-MODIFIED:20240820T200910Z
UID:8467-1728032400-1728036000@lwpfdn.org
SUMMARY:ENGLISH ENHANCEMENT PROGRAM - BEVERLY TALK
DESCRIPTION:
URL:https://lwpfdn.org/event/english-enhancement-program-beverly-talk-30/
END:VEVENT
BEGIN:VEVENT
DTSTART;TZID=America/Los_Angeles:20241001T203000
DTEND;TZID=America/Los_Angeles:20241001T213000
DTSTAMP:20260423T124157
CREATED:20240820T200436Z
LAST-MODIFIED:20240820T200439Z
UID:8433-1727814600-1727818200@lwpfdn.org
SUMMARY:ENGLISH ENHANCEMENT PROGRAM - WEEKLY CHATTER
DESCRIPTION:
URL:https://lwpfdn.org/event/english-enhancement-program-weekly-chatter-27/
END:VEVENT
BEGIN:VEVENT
DTSTART;TZID=America/Los_Angeles:20240927T203000
DTEND;TZID=America/Los_Angeles:20240927T213000
DTSTAMP:20260423T124157
CREATED:20240820T202012Z
LAST-MODIFIED:20240820T202545Z
UID:8529-1727469000-1727472600@lwpfdn.org
SUMMARY:ENGLISH ENHANCEMENT PROGRAM - English Pub
DESCRIPTION:
URL:https://lwpfdn.org/event/english-enhancement-program-english-pub-28/
END:VEVENT
BEGIN:VEVENT
DTSTART;TZID=America/Los_Angeles:20240927T180000
DTEND;TZID=America/Los_Angeles:20240927T201500
DTSTAMP:20260423T124157
CREATED:20240820T201606Z
LAST-MODIFIED:20240820T201610Z
UID:8499-1727460000-1727468100@lwpfdn.org
SUMMARY:ENGLISH ENHANCEMENT PROGRAM - YEEP I & II
DESCRIPTION:
URL:https://lwpfdn.org/event/english-enhancement-program-yeep-i-ii-28/
END:VEVENT
BEGIN:VEVENT
DTSTART;TZID=America/Los_Angeles:20240927T090000
DTEND;TZID=America/Los_Angeles:20240927T100000
DTSTAMP:20260423T124157
CREATED:20240820T200803Z
LAST-MODIFIED:20240820T200808Z
UID:8461-1727427600-1727431200@lwpfdn.org
SUMMARY:ENGLISH ENHANCEMENT PROGRAM - BEVERLY TALK
DESCRIPTION:
URL:https://lwpfdn.org/event/english-enhancement-program-beverly-talk-28/
END:VEVENT
BEGIN:VEVENT
DTSTART;TZID=America/Los_Angeles:20240924T203000
DTEND;TZID=America/Los_Angeles:20240924T213000
DTSTAMP:20260423T124157
CREATED:20240820T200416Z
LAST-MODIFIED:20240820T200418Z
UID:8430-1727209800-1727213400@lwpfdn.org
SUMMARY:ENGLISH ENHANCEMENT PROGRAM - WEEKLY CHATTER
DESCRIPTION:
URL:https://lwpfdn.org/event/english-enhancement-program-weekly-chatter-26/
END:VEVENT
END:VCALENDAR