BEGIN:VCALENDAR
VERSION:2.0
PRODID:-//Lead with Purpose Foundation - ECPv6.15.20//NONSGML v1.0//EN
CALSCALE:GREGORIAN
METHOD:PUBLISH
X-ORIGINAL-URL:https://lwpfdn.org
X-WR-CALDESC:Events for Lead with Purpose Foundation
REFRESH-INTERVAL;VALUE=DURATION:PT1H
X-Robots-Tag:noindex
X-PUBLISHED-TTL:PT1H
BEGIN:VTIMEZONE
TZID:America/Los_Angeles
BEGIN:DAYLIGHT
TZOFFSETFROM:-0800
TZOFFSETTO:-0700
TZNAME:PDT
DTSTART:20230312T100000
END:DAYLIGHT
BEGIN:STANDARD
TZOFFSETFROM:-0700
TZOFFSETTO:-0800
TZNAME:PST
DTSTART:20231105T090000
END:STANDARD
BEGIN:DAYLIGHT
TZOFFSETFROM:-0800
TZOFFSETTO:-0700
TZNAME:PDT
DTSTART:20240310T100000
END:DAYLIGHT
BEGIN:STANDARD
TZOFFSETFROM:-0700
TZOFFSETTO:-0800
TZNAME:PST
DTSTART:20241103T090000
END:STANDARD
BEGIN:DAYLIGHT
TZOFFSETFROM:-0800
TZOFFSETTO:-0700
TZNAME:PDT
DTSTART:20250309T100000
END:DAYLIGHT
BEGIN:STANDARD
TZOFFSETFROM:-0700
TZOFFSETTO:-0800
TZNAME:PST
DTSTART:20251102T090000
END:STANDARD
END:VTIMEZONE
BEGIN:VEVENT
DTSTART;TZID=America/Los_Angeles:20240920T203000
DTEND;TZID=America/Los_Angeles:20240920T213000
DTSTAMP:20260423T140550
CREATED:20240820T201946Z
LAST-MODIFIED:20240820T202533Z
UID:8526-1726864200-1726867800@lwpfdn.org
SUMMARY:ENGLISH ENHANCEMENT PROGRAM - English Pub
DESCRIPTION:
URL:https://lwpfdn.org/event/english-enhancement-program-english-pub-27/
END:VEVENT
BEGIN:VEVENT
DTSTART;TZID=America/Los_Angeles:20240920T180000
DTEND;TZID=America/Los_Angeles:20240920T201500
DTSTAMP:20260423T140550
CREATED:20240820T201546Z
LAST-MODIFIED:20240820T201549Z
UID:8496-1726855200-1726863300@lwpfdn.org
SUMMARY:ENGLISH ENHANCEMENT PROGRAM - YEEP I & II
DESCRIPTION:
URL:https://lwpfdn.org/event/english-enhancement-program-yeep-i-ii-27/
END:VEVENT
BEGIN:VEVENT
DTSTART;TZID=America/Los_Angeles:20240920T090000
DTEND;TZID=America/Los_Angeles:20240920T100000
DTSTAMP:20260423T140550
CREATED:20240820T200741Z
LAST-MODIFIED:20240820T200743Z
UID:8458-1726822800-1726826400@lwpfdn.org
SUMMARY:ENGLISH ENHANCEMENT PROGRAM - BEVERLY TALK
DESCRIPTION:
URL:https://lwpfdn.org/event/english-enhancement-program-beverly-talk-27/
END:VEVENT
BEGIN:VEVENT
DTSTART;TZID=America/Los_Angeles:20240917T203000
DTEND;TZID=America/Los_Angeles:20240917T213000
DTSTAMP:20260423T140550
CREATED:20240820T200359Z
LAST-MODIFIED:20240820T200401Z
UID:8427-1726605000-1726608600@lwpfdn.org
SUMMARY:ENGLISH ENHANCEMENT PROGRAM - WEEKLY CHATTER
DESCRIPTION:
URL:https://lwpfdn.org/event/english-enhancement-program-weekly-chatter-25/
END:VEVENT
BEGIN:VEVENT
DTSTART;TZID=America/Los_Angeles:20240913T203000
DTEND;TZID=America/Los_Angeles:20240913T213000
DTSTAMP:20260423T140550
CREATED:20240820T201925Z
LAST-MODIFIED:20240820T202541Z
UID:8523-1726259400-1726263000@lwpfdn.org
SUMMARY:ENGLISH ENHANCEMENT PROGRAM - English Pub
DESCRIPTION:
URL:https://lwpfdn.org/event/english-enhancement-program-english-pub-26/
END:VEVENT
BEGIN:VEVENT
DTSTART;TZID=America/Los_Angeles:20240913T180000
DTEND;TZID=America/Los_Angeles:20240913T201500
DTSTAMP:20260423T140550
CREATED:20240820T201526Z
LAST-MODIFIED:20240820T201528Z
UID:8493-1726250400-1726258500@lwpfdn.org
SUMMARY:ENGLISH ENHANCEMENT PROGRAM - YEEP I & II
DESCRIPTION:
URL:https://lwpfdn.org/event/english-enhancement-program-yeep-i-ii-26/
END:VEVENT
BEGIN:VEVENT
DTSTART;TZID=America/Los_Angeles:20240913T090000
DTEND;TZID=America/Los_Angeles:20240913T100000
DTSTAMP:20260423T140550
CREATED:20240820T200724Z
LAST-MODIFIED:20240820T200725Z
UID:8455-1726218000-1726221600@lwpfdn.org
SUMMARY:ENGLISH ENHANCEMENT PROGRAM - BEVERLY TALK
DESCRIPTION:
URL:https://lwpfdn.org/event/english-enhancement-program-beverly-talk-26/
END:VEVENT
BEGIN:VEVENT
DTSTART;TZID=America/Los_Angeles:20240910T203000
DTEND;TZID=America/Los_Angeles:20240910T213000
DTSTAMP:20260423T140550
CREATED:20240820T223619Z
LAST-MODIFIED:20240820T223623Z
UID:8555-1726000200-1726003800@lwpfdn.org
SUMMARY:ENGLISH ENHANCEMENT PROGRAM - WEEKLY CHATTER
DESCRIPTION:
URL:https://lwpfdn.org/event/english-enhancement-program-weekly-chatter-34/
END:VEVENT
BEGIN:VEVENT
DTSTART;TZID=America/Los_Angeles:20240816T203000
DTEND;TZID=America/Los_Angeles:20240816T213000
DTSTAMP:20260423T140550
CREATED:20240621T193539Z
LAST-MODIFIED:20240621T193544Z
UID:8402-1723840200-1723843800@lwpfdn.org
SUMMARY:ENGLISH ENHANCEMENT PROGRAM - English Pub
DESCRIPTION:
URL:https://lwpfdn.org/event/english-enhancement-program-english-pub-25/
END:VEVENT
BEGIN:VEVENT
DTSTART;TZID=America/Los_Angeles:20240816T180000
DTEND;TZID=America/Los_Angeles:20240816T201500
DTSTAMP:20260423T140550
CREATED:20240621T193311Z
LAST-MODIFIED:20240621T193315Z
UID:8384-1723831200-1723839300@lwpfdn.org
SUMMARY:ENGLISH ENHANCEMENT PROGRAM - YEEP I & II
DESCRIPTION:
URL:https://lwpfdn.org/event/english-enhancement-program-yeep-i-ii-25/
END:VEVENT
BEGIN:VEVENT
DTSTART;TZID=America/Los_Angeles:20240816T090000
DTEND;TZID=America/Los_Angeles:20240816T100000
DTSTAMP:20260423T140550
CREATED:20240621T193015Z
LAST-MODIFIED:20240621T193018Z
UID:8366-1723798800-1723802400@lwpfdn.org
SUMMARY:ENGLISH ENHANCEMENT PROGRAM - BEVERLY TALK
DESCRIPTION:
URL:https://lwpfdn.org/event/english-enhancement-program-beverly-talk-25/
END:VEVENT
BEGIN:VEVENT
DTSTART;TZID=America/Los_Angeles:20240813T203000
DTEND;TZID=America/Los_Angeles:20240813T213000
DTSTAMP:20260423T140550
CREATED:20240621T192732Z
LAST-MODIFIED:20240621T192736Z
UID:8348-1723581000-1723584600@lwpfdn.org
SUMMARY:ENGLISH ENHANCEMENT PROGRAM - WEEKLY CHATTER
DESCRIPTION:
URL:https://lwpfdn.org/event/english-enhancement-program-weekly-chatter-23/
END:VEVENT
BEGIN:VEVENT
DTSTART;TZID=America/Los_Angeles:20240809T203000
DTEND;TZID=America/Los_Angeles:20240809T213000
DTSTAMP:20260423T140550
CREATED:20240621T193509Z
LAST-MODIFIED:20240621T193513Z
UID:8399-1723235400-1723239000@lwpfdn.org
SUMMARY:ENGLISH ENHANCEMENT PROGRAM - English Pub
DESCRIPTION:
URL:https://lwpfdn.org/event/english-enhancement-program-english-pub-24/
END:VEVENT
BEGIN:VEVENT
DTSTART;TZID=America/Los_Angeles:20240809T180000
DTEND;TZID=America/Los_Angeles:20240809T201500
DTSTAMP:20260423T140550
CREATED:20240621T193248Z
LAST-MODIFIED:20240621T193251Z
UID:8381-1723226400-1723234500@lwpfdn.org
SUMMARY:ENGLISH ENHANCEMENT PROGRAM - YEEP I & II
DESCRIPTION:
URL:https://lwpfdn.org/event/english-enhancement-program-yeep-i-ii-24/
END:VEVENT
BEGIN:VEVENT
DTSTART;TZID=America/Los_Angeles:20240809T090000
DTEND;TZID=America/Los_Angeles:20240809T100000
DTSTAMP:20260423T140550
CREATED:20240621T192947Z
LAST-MODIFIED:20240621T192953Z
UID:8363-1723194000-1723197600@lwpfdn.org
SUMMARY:ENGLISH ENHANCEMENT PROGRAM - BEVERLY TALK
DESCRIPTION:
URL:https://lwpfdn.org/event/english-enhancement-program-beverly-talk-24/
END:VEVENT
BEGIN:VEVENT
DTSTART;TZID=America/Los_Angeles:20240806T203000
DTEND;TZID=America/Los_Angeles:20240806T213000
DTSTAMP:20260423T140550
CREATED:20240621T192705Z
LAST-MODIFIED:20240621T192711Z
UID:8345-1722976200-1722979800@lwpfdn.org
SUMMARY:ENGLISH ENHANCEMENT PROGRAM - WEEKLY CHATTER
DESCRIPTION:
URL:https://lwpfdn.org/event/english-enhancement-program-weekly-chatter-22/
END:VEVENT
BEGIN:VEVENT
DTSTART;TZID=America/Los_Angeles:20240802T203000
DTEND;TZID=America/Los_Angeles:20240802T213000
DTSTAMP:20260423T140550
CREATED:20240621T193430Z
LAST-MODIFIED:20240621T193434Z
UID:8396-1722630600-1722634200@lwpfdn.org
SUMMARY:ENGLISH ENHANCEMENT PROGRAM - English Pub
DESCRIPTION:
URL:https://lwpfdn.org/event/english-enhancement-program-english-pub-23/
END:VEVENT
BEGIN:VEVENT
DTSTART;TZID=America/Los_Angeles:20240802T180000
DTEND;TZID=America/Los_Angeles:20240802T201500
DTSTAMP:20260423T140550
CREATED:20240621T193225Z
LAST-MODIFIED:20240621T193230Z
UID:8378-1722621600-1722629700@lwpfdn.org
SUMMARY:ENGLISH ENHANCEMENT PROGRAM - YEEP I & II
DESCRIPTION:
URL:https://lwpfdn.org/event/english-enhancement-program-yeep-i-ii-23/
END:VEVENT
BEGIN:VEVENT
DTSTART;TZID=America/Los_Angeles:20240802T090000
DTEND;TZID=America/Los_Angeles:20240802T100000
DTSTAMP:20260423T140550
CREATED:20240621T192924Z
LAST-MODIFIED:20240621T192927Z
UID:8360-1722589200-1722592800@lwpfdn.org
SUMMARY:ENGLISH ENHANCEMENT PROGRAM - BEVERLY TALK
DESCRIPTION:
URL:https://lwpfdn.org/event/english-enhancement-program-beverly-talk-23/
END:VEVENT
BEGIN:VEVENT
DTSTART;TZID=America/Los_Angeles:20240730T203000
DTEND;TZID=America/Los_Angeles:20240730T213000
DTSTAMP:20260423T140550
CREATED:20240621T192622Z
LAST-MODIFIED:20240621T192624Z
UID:8342-1722371400-1722375000@lwpfdn.org
SUMMARY:ENGLISH ENHANCEMENT PROGRAM - WEEKLY CHATTER
DESCRIPTION:
URL:https://lwpfdn.org/event/english-enhancement-program-weekly-chatter-21/
END:VEVENT
BEGIN:VEVENT
DTSTART;TZID=America/Los_Angeles:20240726T203000
DTEND;TZID=America/Los_Angeles:20240726T213000
DTSTAMP:20260423T140550
CREATED:20240621T193411Z
LAST-MODIFIED:20240621T193414Z
UID:8393-1722025800-1722029400@lwpfdn.org
SUMMARY:ENGLISH ENHANCEMENT PROGRAM - English Pub
DESCRIPTION:
URL:https://lwpfdn.org/event/english-enhancement-program-english-pub-22/
END:VEVENT
BEGIN:VEVENT
DTSTART;TZID=America/Los_Angeles:20240726T180000
DTEND;TZID=America/Los_Angeles:20240726T201500
DTSTAMP:20260423T140550
CREATED:20240621T193201Z
LAST-MODIFIED:20240621T193204Z
UID:8375-1722016800-1722024900@lwpfdn.org
SUMMARY:ENGLISH ENHANCEMENT PROGRAM - YEEP I & II
DESCRIPTION:
URL:https://lwpfdn.org/event/english-enhancement-program-yeep-i-ii-22/
END:VEVENT
BEGIN:VEVENT
DTSTART;TZID=America/Los_Angeles:20240726T090000
DTEND;TZID=America/Los_Angeles:20240726T100000
DTSTAMP:20260423T140550
CREATED:20240621T192856Z
LAST-MODIFIED:20240621T192900Z
UID:8357-1721984400-1721988000@lwpfdn.org
SUMMARY:ENGLISH ENHANCEMENT PROGRAM - BEVERLY TALK
DESCRIPTION:
URL:https://lwpfdn.org/event/english-enhancement-program-beverly-talk-22/
END:VEVENT
BEGIN:VEVENT
DTSTART;TZID=America/Los_Angeles:20240723T203000
DTEND;TZID=America/Los_Angeles:20240723T213000
DTSTAMP:20260423T140550
CREATED:20240621T192534Z
LAST-MODIFIED:20240621T192539Z
UID:8339-1721766600-1721770200@lwpfdn.org
SUMMARY:ENGLISH ENHANCEMENT PROGRAM - WEEKLY CHATTER
DESCRIPTION:
URL:https://lwpfdn.org/event/english-enhancement-program-weekly-chatter-20/
END:VEVENT
BEGIN:VEVENT
DTSTART;TZID=America/Los_Angeles:20240719T203000
DTEND;TZID=America/Los_Angeles:20240719T213000
DTSTAMP:20260423T140550
CREATED:20240621T193353Z
LAST-MODIFIED:20240621T193356Z
UID:8390-1721421000-1721424600@lwpfdn.org
SUMMARY:ENGLISH ENHANCEMENT PROGRAM - English Pub
DESCRIPTION:
URL:https://lwpfdn.org/event/english-enhancement-program-english-pub-21/
END:VEVENT
BEGIN:VEVENT
DTSTART;TZID=America/Los_Angeles:20240719T180000
DTEND;TZID=America/Los_Angeles:20240719T201500
DTSTAMP:20260423T140550
CREATED:20240621T193138Z
LAST-MODIFIED:20240621T193142Z
UID:8372-1721412000-1721420100@lwpfdn.org
SUMMARY:ENGLISH ENHANCEMENT PROGRAM - YEEP I & II
DESCRIPTION:
URL:https://lwpfdn.org/event/english-enhancement-program-yeep-i-ii-21/
END:VEVENT
BEGIN:VEVENT
DTSTART;TZID=America/Los_Angeles:20240719T090000
DTEND;TZID=America/Los_Angeles:20240719T100000
DTSTAMP:20260423T140550
CREATED:20240621T192827Z
LAST-MODIFIED:20240621T192833Z
UID:8354-1721379600-1721383200@lwpfdn.org
SUMMARY:ENGLISH ENHANCEMENT PROGRAM - BEVERLY TALK
DESCRIPTION:
URL:https://lwpfdn.org/event/english-enhancement-program-beverly-talk-21/
END:VEVENT
BEGIN:VEVENT
DTSTART;TZID=America/Los_Angeles:20240716T203000
DTEND;TZID=America/Los_Angeles:20240716T213000
DTSTAMP:20260423T140550
CREATED:20240621T192503Z
LAST-MODIFIED:20240621T192506Z
UID:8336-1721161800-1721165400@lwpfdn.org
SUMMARY:ENGLISH ENHANCEMENT PROGRAM - WEEKLY CHATTER
DESCRIPTION:
URL:https://lwpfdn.org/event/english-enhancement-program-weekly-chatter-19/
END:VEVENT
BEGIN:VEVENT
DTSTART;TZID=America/Los_Angeles:20240712T203000
DTEND;TZID=America/Los_Angeles:20240712T213000
DTSTAMP:20260423T140550
CREATED:20240621T193333Z
LAST-MODIFIED:20240621T193338Z
UID:8387-1720816200-1720819800@lwpfdn.org
SUMMARY:ENGLISH ENHANCEMENT PROGRAM - English Pub
DESCRIPTION:
URL:https://lwpfdn.org/event/english-enhancement-program-english-pub-20/
END:VEVENT
BEGIN:VEVENT
DTSTART;TZID=America/Los_Angeles:20240712T180000
DTEND;TZID=America/Los_Angeles:20240712T201500
DTSTAMP:20260423T140550
CREATED:20240621T193111Z
LAST-MODIFIED:20240621T193117Z
UID:8369-1720807200-1720815300@lwpfdn.org
SUMMARY:ENGLISH ENHANCEMENT PROGRAM - YEEP I & II
DESCRIPTION:
URL:https://lwpfdn.org/event/english-enhancement-program-yeep-i-ii-20/
END:VEVENT
END:VCALENDAR