BEGIN:VCALENDAR
VERSION:2.0
PRODID:-//Lead with Purpose Foundation - ECPv6.15.20//NONSGML v1.0//EN
CALSCALE:GREGORIAN
METHOD:PUBLISH
X-WR-CALNAME:Lead with Purpose Foundation
X-ORIGINAL-URL:https://lwpfdn.org
X-WR-CALDESC:Events for Lead with Purpose Foundation
REFRESH-INTERVAL;VALUE=DURATION:PT1H
X-Robots-Tag:noindex
X-PUBLISHED-TTL:PT1H
BEGIN:VTIMEZONE
TZID:America/Los_Angeles
BEGIN:DAYLIGHT
TZOFFSETFROM:-0800
TZOFFSETTO:-0700
TZNAME:PDT
DTSTART:20230312T100000
END:DAYLIGHT
BEGIN:STANDARD
TZOFFSETFROM:-0700
TZOFFSETTO:-0800
TZNAME:PST
DTSTART:20231105T090000
END:STANDARD
BEGIN:DAYLIGHT
TZOFFSETFROM:-0800
TZOFFSETTO:-0700
TZNAME:PDT
DTSTART:20240310T100000
END:DAYLIGHT
BEGIN:STANDARD
TZOFFSETFROM:-0700
TZOFFSETTO:-0800
TZNAME:PST
DTSTART:20241103T090000
END:STANDARD
BEGIN:DAYLIGHT
TZOFFSETFROM:-0800
TZOFFSETTO:-0700
TZNAME:PDT
DTSTART:20250309T100000
END:DAYLIGHT
BEGIN:STANDARD
TZOFFSETFROM:-0700
TZOFFSETTO:-0800
TZNAME:PST
DTSTART:20251102T090000
END:STANDARD
END:VTIMEZONE
BEGIN:VEVENT
DTSTART;TZID=America/Los_Angeles:20240712T090000
DTEND;TZID=America/Los_Angeles:20240712T100000
DTSTAMP:20260423T153528
CREATED:20240621T192758Z
LAST-MODIFIED:20240621T192802Z
UID:8351-1720774800-1720778400@lwpfdn.org
SUMMARY:ENGLISH ENHANCEMENT PROGRAM - BEVERLY TALK
DESCRIPTION:
URL:https://lwpfdn.org/event/english-enhancement-program-beverly-talk-20/
END:VEVENT
BEGIN:VEVENT
DTSTART;TZID=America/Los_Angeles:20240709T203000
DTEND;TZID=America/Los_Angeles:20240709T213000
DTSTAMP:20260423T153528
CREATED:20240621T192415Z
LAST-MODIFIED:20240621T192421Z
UID:8333-1720557000-1720560600@lwpfdn.org
SUMMARY:ENGLISH ENHANCEMENT PROGRAM - WEEKLY CHATTER
DESCRIPTION:
URL:https://lwpfdn.org/event/english-enhancement-program-weekly-chatter-18/
END:VEVENT
BEGIN:VEVENT
DTSTART;TZID=America/Los_Angeles:20240614T203000
DTEND;TZID=America/Los_Angeles:20240614T213000
DTSTAMP:20260423T153528
CREATED:20240502T033648Z
LAST-MODIFIED:20240502T033654Z
UID:8204-1718397000-1718400600@lwpfdn.org
SUMMARY:ENGLISH ENHANCEMENT PROGRAM - English Pub
DESCRIPTION:
URL:https://lwpfdn.org/event/english-enhancement-program-english-pub-19/
END:VEVENT
BEGIN:VEVENT
DTSTART;TZID=America/Los_Angeles:20240614T180000
DTEND;TZID=America/Los_Angeles:20240614T201500
DTSTAMP:20260423T153528
CREATED:20240429T022751Z
LAST-MODIFIED:20240429T022753Z
UID:8150-1718388000-1718396100@lwpfdn.org
SUMMARY:ENGLISH ENHANCEMENT PROGRAM - YEEP I & II
DESCRIPTION:
URL:https://lwpfdn.org/event/english-enhancement-program-yeep-i-ii-18/
END:VEVENT
BEGIN:VEVENT
DTSTART;TZID=America/Los_Angeles:20240614T090000
DTEND;TZID=America/Los_Angeles:20240614T100000
DTSTAMP:20260423T153528
CREATED:20240429T021018Z
LAST-MODIFIED:20240429T021349Z
UID:8100-1718355600-1718359200@lwpfdn.org
SUMMARY:ENGLISH ENHANCEMENT PROGRAM - BEVERLY TALK
DESCRIPTION:
URL:https://lwpfdn.org/event/english-enhancement-program-beverly-talk-19/
END:VEVENT
BEGIN:VEVENT
DTSTART;TZID=America/Los_Angeles:20240611T203000
DTEND;TZID=America/Los_Angeles:20240611T213000
DTSTAMP:20260423T153528
CREATED:20240429T022020Z
LAST-MODIFIED:20240429T022023Z
UID:8125-1718137800-1718141400@lwpfdn.org
SUMMARY:ENGLISH ENHANCEMENT PROGRAM - WEEKLY CHATTER
DESCRIPTION:
URL:https://lwpfdn.org/event/english-enhancement-program-weekly-chatter-17/
END:VEVENT
BEGIN:VEVENT
DTSTART;TZID=America/Los_Angeles:20240607T203000
DTEND;TZID=America/Los_Angeles:20240607T213000
DTSTAMP:20260423T153528
CREATED:20240429T023316Z
LAST-MODIFIED:20240429T023319Z
UID:8175-1717792200-1717795800@lwpfdn.org
SUMMARY:ENGLISH ENHANCEMENT PROGRAM - English Pub
DESCRIPTION:
URL:https://lwpfdn.org/event/english-enhancement-program-english-pub-18/
END:VEVENT
BEGIN:VEVENT
DTSTART;TZID=America/Los_Angeles:20240607T180000
DTEND;TZID=America/Los_Angeles:20240607T201500
DTSTAMP:20260423T153528
CREATED:20240429T022720Z
LAST-MODIFIED:20240429T022724Z
UID:8147-1717783200-1717791300@lwpfdn.org
SUMMARY:ENGLISH ENHANCEMENT PROGRAM - YEEP I & II
DESCRIPTION:
URL:https://lwpfdn.org/event/english-enhancement-program-yeep-i-ii-17/
END:VEVENT
BEGIN:VEVENT
DTSTART;TZID=America/Los_Angeles:20240607T090000
DTEND;TZID=America/Los_Angeles:20240607T100000
DTSTAMP:20260423T153528
CREATED:20240429T020948Z
LAST-MODIFIED:20240429T021334Z
UID:8097-1717750800-1717754400@lwpfdn.org
SUMMARY:ENGLISH ENHANCEMENT PROGRAM - BEVERLY TALK
DESCRIPTION:
URL:https://lwpfdn.org/event/english-enhancement-program-beverly-talk-18/
END:VEVENT
BEGIN:VEVENT
DTSTART;TZID=America/Los_Angeles:20240604T203000
DTEND;TZID=America/Los_Angeles:20240604T213000
DTSTAMP:20260423T153528
CREATED:20240429T021732Z
LAST-MODIFIED:20240429T021826Z
UID:8118-1717533000-1717536600@lwpfdn.org
SUMMARY:ENGLISH ENHANCEMENT PROGRAM - WEEKLY CHATTER
DESCRIPTION:
URL:https://lwpfdn.org/event/english-enhancement-program-weekly-chatter-16/
END:VEVENT
BEGIN:VEVENT
DTSTART;TZID=America/Los_Angeles:20240531T203000
DTEND;TZID=America/Los_Angeles:20240531T213000
DTSTAMP:20260423T153528
CREATED:20240429T023234Z
LAST-MODIFIED:20240429T023239Z
UID:8172-1717187400-1717191000@lwpfdn.org
SUMMARY:ENGLISH ENHANCEMENT PROGRAM - English Pub
DESCRIPTION:
URL:https://lwpfdn.org/event/english-enhancement-program-english-pub-17/
END:VEVENT
BEGIN:VEVENT
DTSTART;TZID=America/Los_Angeles:20240531T180000
DTEND;TZID=America/Los_Angeles:20240531T201500
DTSTAMP:20260423T153528
CREATED:20240429T022616Z
LAST-MODIFIED:20240429T022621Z
UID:8144-1717178400-1717186500@lwpfdn.org
SUMMARY:ENGLISH ENHANCEMENT PROGRAM - YEEP I & II
DESCRIPTION:
URL:https://lwpfdn.org/event/english-enhancement-program-yeep-i-ii-16/
END:VEVENT
BEGIN:VEVENT
DTSTART;TZID=America/Los_Angeles:20240531T090000
DTEND;TZID=America/Los_Angeles:20240531T100000
DTSTAMP:20260423T153528
CREATED:20240429T020909Z
LAST-MODIFIED:20240429T021316Z
UID:8094-1717146000-1717149600@lwpfdn.org
SUMMARY:ENGLISH ENHANCEMENT PROGRAM - BEVERLY TALK
DESCRIPTION:
URL:https://lwpfdn.org/event/english-enhancement-program-beverly-talk-17/
END:VEVENT
BEGIN:VEVENT
DTSTART;TZID=America/Los_Angeles:20240528T203000
DTEND;TZID=America/Los_Angeles:20240528T213000
DTSTAMP:20260423T153528
CREATED:20240429T021905Z
LAST-MODIFIED:20240429T021933Z
UID:8121-1716928200-1716931800@lwpfdn.org
SUMMARY:ENGLISH ENHANCEMENT PROGRAM - WEEKLY CHATTER
DESCRIPTION:
URL:https://lwpfdn.org/event/8121/
END:VEVENT
BEGIN:VEVENT
DTSTART;TZID=America/Los_Angeles:20240524T203000
DTEND;TZID=America/Los_Angeles:20240524T213000
DTSTAMP:20260423T153528
CREATED:20240429T023212Z
LAST-MODIFIED:20240502T033347Z
UID:8169-1716582600-1716586200@lwpfdn.org
SUMMARY:ENGLISH ENHANCEMENT PROGRAM - English Pub
DESCRIPTION:
URL:https://lwpfdn.org/event/english-enhancement-program-english-pub-16/
END:VEVENT
BEGIN:VEVENT
DTSTART;TZID=America/Los_Angeles:20240524T180000
DTEND;TZID=America/Los_Angeles:20240524T201500
DTSTAMP:20260423T153528
CREATED:20240502T033849Z
LAST-MODIFIED:20240502T033854Z
UID:8207-1716573600-1716581700@lwpfdn.org
SUMMARY:ENGLISH ENHANCEMENT PROGRAM - YEEP I & II
DESCRIPTION:
URL:https://lwpfdn.org/event/english-enhancement-program-yeep-i-ii-19/
END:VEVENT
BEGIN:VEVENT
DTSTART;TZID=America/Los_Angeles:20240524T090000
DTEND;TZID=America/Los_Angeles:20240524T100000
DTSTAMP:20260423T153528
CREATED:20240429T020844Z
LAST-MODIFIED:20240429T021303Z
UID:8091-1716541200-1716544800@lwpfdn.org
SUMMARY:ENGLISH ENHANCEMENT PROGRAM - BEVERLY TALK
DESCRIPTION:
URL:https://lwpfdn.org/event/english-enhancement-program-beverly-talk-16/
END:VEVENT
BEGIN:VEVENT
DTSTART;TZID=America/Los_Angeles:20240521T203000
DTEND;TZID=America/Los_Angeles:20240521T213000
DTSTAMP:20260423T153528
CREATED:20240429T021705Z
LAST-MODIFIED:20240429T021710Z
UID:8115-1716323400-1716327000@lwpfdn.org
SUMMARY:ENGLISH ENHANCEMENT PROGRAM - WEEKLY CHATTER
DESCRIPTION:
URL:https://lwpfdn.org/event/english-enhancement-program-weekly-chatter-15/
END:VEVENT
BEGIN:VEVENT
DTSTART;TZID=America/Los_Angeles:20240517T203000
DTEND;TZID=America/Los_Angeles:20240517T213000
DTSTAMP:20260423T153528
CREATED:20240429T023150Z
LAST-MODIFIED:20240502T033332Z
UID:8166-1715977800-1715981400@lwpfdn.org
SUMMARY:ENGLISH ENHANCEMENT PROGRAM - English Pub
DESCRIPTION:
URL:https://lwpfdn.org/event/english-enhancement-program-english-pub-15/
END:VEVENT
BEGIN:VEVENT
DTSTART;TZID=America/Los_Angeles:20240517T180000
DTEND;TZID=America/Los_Angeles:20240517T201500
DTSTAMP:20260423T153528
CREATED:20240429T022558Z
LAST-MODIFIED:20240517T030306Z
UID:8141-1715968800-1715976900@lwpfdn.org
SUMMARY:ENGLISH ENHANCEMENT PROGRAM - YEEP I & II
DESCRIPTION:
URL:https://lwpfdn.org/event/english-enhancement-program-yeep-i-ii-15/
END:VEVENT
BEGIN:VEVENT
DTSTART;TZID=America/Los_Angeles:20240517T090000
DTEND;TZID=America/Los_Angeles:20240517T100000
DTSTAMP:20260423T153528
CREATED:20240429T020807Z
LAST-MODIFIED:20240429T021249Z
UID:8088-1715936400-1715940000@lwpfdn.org
SUMMARY:ENGLISH ENHANCEMENT PROGRAM - BEVERLY TALK
DESCRIPTION:
URL:https://lwpfdn.org/event/english-enhancement-program-beverly-talk-15/
END:VEVENT
BEGIN:VEVENT
DTSTART;TZID=America/Los_Angeles:20240514T203000
DTEND;TZID=America/Los_Angeles:20240514T213000
DTSTAMP:20260423T153528
CREATED:20240429T021623Z
LAST-MODIFIED:20240429T021625Z
UID:8112-1715718600-1715722200@lwpfdn.org
SUMMARY:ENGLISH ENHANCEMENT PROGRAM - WEEKLY CHATTER
DESCRIPTION:
URL:https://lwpfdn.org/event/english-enhancement-program-weekly-chatter-14/
END:VEVENT
BEGIN:VEVENT
DTSTART;TZID=America/Los_Angeles:20240510T203000
DTEND;TZID=America/Los_Angeles:20240510T213000
DTSTAMP:20260423T153528
CREATED:20240429T023126Z
LAST-MODIFIED:20240502T033316Z
UID:8163-1715373000-1715376600@lwpfdn.org
SUMMARY:ENGLISH ENHANCEMENT PROGRAM - English Pub
DESCRIPTION:
URL:https://lwpfdn.org/event/english-enhancement-program-english-pub-14/
END:VEVENT
BEGIN:VEVENT
DTSTART;TZID=America/Los_Angeles:20240510T180000
DTEND;TZID=America/Los_Angeles:20240510T201500
DTSTAMP:20260423T153528
CREATED:20240429T022541Z
LAST-MODIFIED:20240429T022544Z
UID:8137-1715364000-1715372100@lwpfdn.org
SUMMARY:ENGLISH ENHANCEMENT PROGRAM - YEEP I & II
DESCRIPTION:
URL:https://lwpfdn.org/event/english-enhancement-program-yeep-i-ii-14/
END:VEVENT
BEGIN:VEVENT
DTSTART;TZID=America/Los_Angeles:20240510T090000
DTEND;TZID=America/Los_Angeles:20240510T100000
DTSTAMP:20260423T153528
CREATED:20240429T020750Z
LAST-MODIFIED:20240429T021234Z
UID:8085-1715331600-1715335200@lwpfdn.org
SUMMARY:ENGLISH ENHANCEMENT PROGRAM - BEVERLY TALK
DESCRIPTION:
URL:https://lwpfdn.org/event/english-enhancement-program-beverly-talk-14/
END:VEVENT
BEGIN:VEVENT
DTSTART;TZID=America/Los_Angeles:20240507T203000
DTEND;TZID=America/Los_Angeles:20240507T213000
DTSTAMP:20260423T153528
CREATED:20240429T021602Z
LAST-MODIFIED:20240429T021606Z
UID:8109-1715113800-1715117400@lwpfdn.org
SUMMARY:ENGLISH ENHANCEMENT PROGRAM - WEEKLY CHATTER
DESCRIPTION:
URL:https://lwpfdn.org/event/english-enhancement-program-weekly-chatter-13/
END:VEVENT
BEGIN:VEVENT
DTSTART;TZID=America/Los_Angeles:20240503T203000
DTEND;TZID=America/Los_Angeles:20240503T213000
DTSTAMP:20260423T153528
CREATED:20240429T023102Z
LAST-MODIFIED:20240502T033254Z
UID:8160-1714768200-1714771800@lwpfdn.org
SUMMARY:ENGLISH ENHANCEMENT PROGRAM - English Pub
DESCRIPTION:
URL:https://lwpfdn.org/event/english-enhancement-program-english-pub-13/
END:VEVENT
BEGIN:VEVENT
DTSTART;TZID=America/Los_Angeles:20240503T180000
DTEND;TZID=America/Los_Angeles:20240503T201500
DTSTAMP:20260423T153528
CREATED:20240429T022507Z
LAST-MODIFIED:20240429T022512Z
UID:8134-1714759200-1714767300@lwpfdn.org
SUMMARY:ENGLISH ENHANCEMENT PROGRAM - YEEP I & II
DESCRIPTION:
URL:https://lwpfdn.org/event/english-enhancement-program-yeep-i-ii-13/
END:VEVENT
BEGIN:VEVENT
DTSTART;TZID=America/Los_Angeles:20240503T090000
DTEND;TZID=America/Los_Angeles:20240503T100000
DTSTAMP:20260423T153528
CREATED:20240429T020722Z
LAST-MODIFIED:20240429T021214Z
UID:8082-1714726800-1714730400@lwpfdn.org
SUMMARY:ENGLISH ENHANCEMENT PROGRAM - BEVERLY TALK
DESCRIPTION:
URL:https://lwpfdn.org/event/english-enhancement-program-beverly-talk-13/
END:VEVENT
BEGIN:VEVENT
DTSTART;TZID=America/Los_Angeles:20240430T203000
DTEND;TZID=America/Los_Angeles:20240430T213000
DTSTAMP:20260423T153528
CREATED:20240429T021524Z
LAST-MODIFIED:20240429T021527Z
UID:8106-1714509000-1714512600@lwpfdn.org
SUMMARY:ENGLISH ENHANCEMENT PROGRAM - WEEKLY CHATTER
DESCRIPTION:
URL:https://lwpfdn.org/event/english-enhancement-program-weekly-chatter-12/
END:VEVENT
END:VCALENDAR