BEGIN:VCALENDAR
VERSION:2.0
PRODID:-//Lead with Purpose Foundation - ECPv6.15.20//NONSGML v1.0//EN
CALSCALE:GREGORIAN
METHOD:PUBLISH
X-WR-CALNAME:Lead with Purpose Foundation
X-ORIGINAL-URL:https://lwpfdn.org
X-WR-CALDESC:Events for Lead with Purpose Foundation
REFRESH-INTERVAL;VALUE=DURATION:PT1H
X-Robots-Tag:noindex
X-PUBLISHED-TTL:PT1H
BEGIN:VTIMEZONE
TZID:America/Los_Angeles
BEGIN:DAYLIGHT
TZOFFSETFROM:-0800
TZOFFSETTO:-0700
TZNAME:PDT
DTSTART:20230312T100000
END:DAYLIGHT
BEGIN:STANDARD
TZOFFSETFROM:-0700
TZOFFSETTO:-0800
TZNAME:PST
DTSTART:20231105T090000
END:STANDARD
BEGIN:DAYLIGHT
TZOFFSETFROM:-0800
TZOFFSETTO:-0700
TZNAME:PDT
DTSTART:20240310T100000
END:DAYLIGHT
BEGIN:STANDARD
TZOFFSETFROM:-0700
TZOFFSETTO:-0800
TZNAME:PST
DTSTART:20241103T090000
END:STANDARD
BEGIN:DAYLIGHT
TZOFFSETFROM:-0800
TZOFFSETTO:-0700
TZNAME:PDT
DTSTART:20250309T100000
END:DAYLIGHT
BEGIN:STANDARD
TZOFFSETFROM:-0700
TZOFFSETTO:-0800
TZNAME:PST
DTSTART:20251102T090000
END:STANDARD
END:VTIMEZONE
BEGIN:VEVENT
DTSTART;TZID=America/Los_Angeles:20240426T203000
DTEND;TZID=America/Los_Angeles:20240426T213000
DTSTAMP:20260423T165703
CREATED:20240429T023010Z
LAST-MODIFIED:20240429T023015Z
UID:8157-1714163400-1714167000@lwpfdn.org
SUMMARY:ENGLISH ENHANCEMENT PROGRAM - English Pub
DESCRIPTION:
URL:https://lwpfdn.org/event/english-enhancement-program-english-pub-12/
END:VEVENT
BEGIN:VEVENT
DTSTART;TZID=America/Los_Angeles:20240426T180000
DTEND;TZID=America/Los_Angeles:20240426T201500
DTSTAMP:20260423T165703
CREATED:20240429T022402Z
LAST-MODIFIED:20240429T022404Z
UID:8131-1714154400-1714162500@lwpfdn.org
SUMMARY:ENGLISH ENHANCEMENT PROGRAM - YEEP I & II
DESCRIPTION:
URL:https://lwpfdn.org/event/english-enhancement-program-yeep-i-ii-12/
END:VEVENT
BEGIN:VEVENT
DTSTART;TZID=America/Los_Angeles:20240426T090000
DTEND;TZID=America/Los_Angeles:20240426T100000
DTSTAMP:20260423T165703
CREATED:20240429T020656Z
LAST-MODIFIED:20240429T021158Z
UID:8078-1714122000-1714125600@lwpfdn.org
SUMMARY:ENGLISH ENHANCEMENT PROGRAM - BEVERLY TALK
DESCRIPTION:
URL:https://lwpfdn.org/event/english-enhancement-program-beverly-talk-12/
END:VEVENT
BEGIN:VEVENT
DTSTART;TZID=America/Los_Angeles:20240423T203000
DTEND;TZID=America/Los_Angeles:20240423T213000
DTSTAMP:20260423T165703
CREATED:20240429T021501Z
LAST-MODIFIED:20240429T021505Z
UID:8103-1713904200-1713907800@lwpfdn.org
SUMMARY:ENGLISH ENHANCEMENT PROGRAM - WEEKLY CHATTER
DESCRIPTION:
URL:https://lwpfdn.org/event/english-enhancement-program-weekly-chatter-11/
END:VEVENT
BEGIN:VEVENT
DTSTART;TZID=America/Los_Angeles:20240419T203000
DTEND;TZID=America/Los_Angeles:20240419T213000
DTSTAMP:20260423T165703
CREATED:20240429T022904Z
LAST-MODIFIED:20240429T022909Z
UID:8153-1713558600-1713562200@lwpfdn.org
SUMMARY:ENGLISH ENHANCEMENT PROGRAM - English Pub
DESCRIPTION:
URL:https://lwpfdn.org/event/english-enhancement-program-english-pub-11/
END:VEVENT
BEGIN:VEVENT
DTSTART;TZID=America/Los_Angeles:20240419T180000
DTEND;TZID=America/Los_Angeles:20240419T201500
DTSTAMP:20260423T165703
CREATED:20240429T022339Z
LAST-MODIFIED:20240429T022343Z
UID:8128-1713549600-1713557700@lwpfdn.org
SUMMARY:ENGLISH ENHANCEMENT PROGRAM - YEEP I & II
DESCRIPTION:
URL:https://lwpfdn.org/event/english-enhancement-program-yeep-i-ii-11/
END:VEVENT
BEGIN:VEVENT
DTSTART;TZID=America/Los_Angeles:20240419T090000
DTEND;TZID=America/Los_Angeles:20240419T100000
DTSTAMP:20260423T165703
CREATED:20240418T041650Z
LAST-MODIFIED:20240429T021139Z
UID:8074-1713517200-1713520800@lwpfdn.org
SUMMARY:ENGLISH ENHANCEMENT PROGRAM - BEVERLY TALK
DESCRIPTION:
URL:https://lwpfdn.org/event/english-enhancement-program-beverly-talk-11/
END:VEVENT
BEGIN:VEVENT
DTSTART;TZID=America/Los_Angeles:20240416T203000
DTEND;TZID=America/Los_Angeles:20240416T213000
DTSTAMP:20260423T165703
CREATED:20240418T041559Z
LAST-MODIFIED:20240429T021441Z
UID:8070-1713299400-1713303000@lwpfdn.org
SUMMARY:ENGLISH ENHANCEMENT PROGRAM - WEEKLY CHATTER
DESCRIPTION:
URL:https://lwpfdn.org/event/english-enhancement-program-weekly-chatter-10/
END:VEVENT
BEGIN:VEVENT
DTSTART;TZID=America/Los_Angeles:20240322T203000
DTEND;TZID=America/Los_Angeles:20240322T213000
DTSTAMP:20260423T165703
CREATED:20240108T043441Z
LAST-MODIFIED:20240108T043444Z
UID:7996-1711139400-1711143000@lwpfdn.org
SUMMARY:ENGLISH ENHANCEMENT PROGRAM - ENGLISH PUB
DESCRIPTION:
URL:https://lwpfdn.org/event/english-enhancement-program-english-pub-10/
END:VEVENT
BEGIN:VEVENT
DTSTART;TZID=America/Los_Angeles:20240322T180000
DTEND;TZID=America/Los_Angeles:20240322T201500
DTSTAMP:20260423T165703
CREATED:20240108T042905Z
LAST-MODIFIED:20240108T042907Z
UID:7964-1711130400-1711138500@lwpfdn.org
SUMMARY:ENGLISH ENHANCEMENT PROGRAM - YEEP I & II
DESCRIPTION:
URL:https://lwpfdn.org/event/english-enhancement-program-yeep-i-ii-10/
END:VEVENT
BEGIN:VEVENT
DTSTART;TZID=America/Los_Angeles:20240322T090000
DTEND;TZID=America/Los_Angeles:20240322T100000
DTSTAMP:20260423T165703
CREATED:20240108T042405Z
LAST-MODIFIED:20240108T042408Z
UID:7934-1711098000-1711101600@lwpfdn.org
SUMMARY:ENGLISH ENHANCEMENT PROGRAM - BEVERLY TALK
DESCRIPTION:
URL:https://lwpfdn.org/event/english-enhancement-program-beverly-talk-10/
END:VEVENT
BEGIN:VEVENT
DTSTART;TZID=America/Los_Angeles:20240319T203000
DTEND;TZID=America/Los_Angeles:20240319T213000
DTSTAMP:20260423T165703
CREATED:20240108T041709Z
LAST-MODIFIED:20240108T041712Z
UID:7904-1710880200-1710883800@lwpfdn.org
SUMMARY:ENGLISH ENHANCEMENT PROGRAM - WEEKLY CHATTER
DESCRIPTION:
URL:https://lwpfdn.org/event/english-enhancement-program-weekly-chatter-9/
END:VEVENT
BEGIN:VEVENT
DTSTART;TZID=America/Los_Angeles:20240315T203000
DTEND;TZID=America/Los_Angeles:20240315T213000
DTSTAMP:20260423T165703
CREATED:20240108T043352Z
LAST-MODIFIED:20240108T043354Z
UID:7993-1710534600-1710538200@lwpfdn.org
SUMMARY:ENGLISH ENHANCEMENT PROGRAM - ENGLISH PUB
DESCRIPTION:
URL:https://lwpfdn.org/event/english-enhancement-program-english-pub-9/
END:VEVENT
BEGIN:VEVENT
DTSTART;TZID=America/Los_Angeles:20240315T180000
DTEND;TZID=America/Los_Angeles:20240315T201500
DTSTAMP:20260423T165703
CREATED:20240108T042842Z
LAST-MODIFIED:20240108T042844Z
UID:7961-1710525600-1710533700@lwpfdn.org
SUMMARY:ENGLISH ENHANCEMENT PROGRAM - YEEP I & II
DESCRIPTION:
URL:https://lwpfdn.org/event/english-enhancement-program-yeep-i-ii-9/
END:VEVENT
BEGIN:VEVENT
DTSTART;TZID=America/Los_Angeles:20240315T090000
DTEND;TZID=America/Los_Angeles:20240315T100000
DTSTAMP:20260423T165703
CREATED:20240108T042329Z
LAST-MODIFIED:20240108T042332Z
UID:7931-1710493200-1710496800@lwpfdn.org
SUMMARY:ENGLISH ENHANCEMENT PROGRAM - BEVERLY TALK
DESCRIPTION:
URL:https://lwpfdn.org/event/english-enhancement-program-beverly-talk-9/
END:VEVENT
BEGIN:VEVENT
DTSTART;TZID=America/Los_Angeles:20240312T203000
DTEND;TZID=America/Los_Angeles:20240312T213000
DTSTAMP:20260423T165703
CREATED:20240108T041642Z
LAST-MODIFIED:20240108T041644Z
UID:7901-1710275400-1710279000@lwpfdn.org
SUMMARY:ENGLISH ENHANCEMENT PROGRAM - WEEKLY CHATTER
DESCRIPTION:
URL:https://lwpfdn.org/event/english-enhancement-program-weekly-chatter-8/
END:VEVENT
BEGIN:VEVENT
DTSTART;TZID=America/Los_Angeles:20240308T203000
DTEND;TZID=America/Los_Angeles:20240308T213000
DTSTAMP:20260423T165703
CREATED:20240108T043325Z
LAST-MODIFIED:20240108T043329Z
UID:7990-1709929800-1709933400@lwpfdn.org
SUMMARY:ENGLISH ENHANCEMENT PROGRAM - ENGLISH PUB
DESCRIPTION:
URL:https://lwpfdn.org/event/english-enhancement-program-english-pub-8/
END:VEVENT
BEGIN:VEVENT
DTSTART;TZID=America/Los_Angeles:20240308T180000
DTEND;TZID=America/Los_Angeles:20240308T201500
DTSTAMP:20260423T165703
CREATED:20240108T042818Z
LAST-MODIFIED:20240108T042821Z
UID:7958-1709920800-1709928900@lwpfdn.org
SUMMARY:ENGLISH ENHANCEMENT PROGRAM - YEEP I & II
DESCRIPTION:
URL:https://lwpfdn.org/event/english-enhancement-program-yeep-i-ii-8/
END:VEVENT
BEGIN:VEVENT
DTSTART;TZID=America/Los_Angeles:20240308T090000
DTEND;TZID=America/Los_Angeles:20240308T100000
DTSTAMP:20260423T165703
CREATED:20240108T042258Z
LAST-MODIFIED:20240108T042301Z
UID:7928-1709888400-1709892000@lwpfdn.org
SUMMARY:ENGLISH ENHANCEMENT PROGRAM - BEVERLY TALK
DESCRIPTION:
URL:https://lwpfdn.org/event/english-enhancement-program-beverly-talk-8/
END:VEVENT
BEGIN:VEVENT
DTSTART;TZID=America/Los_Angeles:20240305T203000
DTEND;TZID=America/Los_Angeles:20240305T213000
DTSTAMP:20260423T165703
CREATED:20240108T041616Z
LAST-MODIFIED:20240108T041618Z
UID:7898-1709670600-1709674200@lwpfdn.org
SUMMARY:ENGLISH ENHANCEMENT PROGRAM - WEEKLY CHATTER
DESCRIPTION:
URL:https://lwpfdn.org/event/english-enhancement-program-weekly-chatter-7/
END:VEVENT
BEGIN:VEVENT
DTSTART;TZID=America/Los_Angeles:20240301T203000
DTEND;TZID=America/Los_Angeles:20240301T213000
DTSTAMP:20260423T165703
CREATED:20240108T043246Z
LAST-MODIFIED:20240108T043249Z
UID:7987-1709325000-1709328600@lwpfdn.org
SUMMARY:ENGLISH ENHANCEMENT PROGRAM - ENGLISH PUB
DESCRIPTION:
URL:https://lwpfdn.org/event/english-enhancement-program-english-pub-7/
END:VEVENT
BEGIN:VEVENT
DTSTART;TZID=America/Los_Angeles:20240301T180000
DTEND;TZID=America/Los_Angeles:20240301T201500
DTSTAMP:20260423T165703
CREATED:20240108T042751Z
LAST-MODIFIED:20240108T042754Z
UID:7955-1709316000-1709324100@lwpfdn.org
SUMMARY:ENGLISH ENHANCEMENT PROGRAM - YEEP I & II
DESCRIPTION:
URL:https://lwpfdn.org/event/english-enhancement-program-yeep-i-ii-7/
END:VEVENT
BEGIN:VEVENT
DTSTART;TZID=America/Los_Angeles:20240301T090000
DTEND;TZID=America/Los_Angeles:20240301T100000
DTSTAMP:20260423T165703
CREATED:20240108T042219Z
LAST-MODIFIED:20240108T042222Z
UID:7925-1709283600-1709287200@lwpfdn.org
SUMMARY:ENGLISH ENHANCEMENT PROGRAM - BEVERLY TALK
DESCRIPTION:
URL:https://lwpfdn.org/event/english-enhancement-program-beverly-talk-7/
END:VEVENT
BEGIN:VEVENT
DTSTART;TZID=America/Los_Angeles:20240227T203000
DTEND;TZID=America/Los_Angeles:20240227T213000
DTSTAMP:20260423T165703
CREATED:20240108T041547Z
LAST-MODIFIED:20240108T041549Z
UID:7895-1709065800-1709069400@lwpfdn.org
SUMMARY:ENGLISH ENHANCEMENT PROGRAM - WEEKLY CHATTER
DESCRIPTION:
URL:https://lwpfdn.org/event/english-enhancement-program-weekly-chatter-6/
END:VEVENT
BEGIN:VEVENT
DTSTART;TZID=America/Los_Angeles:20240223T203000
DTEND;TZID=America/Los_Angeles:20240223T213000
DTSTAMP:20260423T165703
CREATED:20240108T043216Z
LAST-MODIFIED:20240108T043219Z
UID:7984-1708720200-1708723800@lwpfdn.org
SUMMARY:ENGLISH ENHANCEMENT PROGRAM - ENGLISH PUB
DESCRIPTION:
URL:https://lwpfdn.org/event/english-enhancement-program-english-pub-6/
END:VEVENT
BEGIN:VEVENT
DTSTART;TZID=America/Los_Angeles:20240223T180000
DTEND;TZID=America/Los_Angeles:20240223T201500
DTSTAMP:20260423T165703
CREATED:20240108T042728Z
LAST-MODIFIED:20240108T042730Z
UID:7952-1708711200-1708719300@lwpfdn.org
SUMMARY:ENGLISH ENHANCEMENT PROGRAM - YEEP I & II
DESCRIPTION:
URL:https://lwpfdn.org/event/english-enhancement-program-yeep-i-ii-6/
END:VEVENT
BEGIN:VEVENT
DTSTART;TZID=America/Los_Angeles:20240223T090000
DTEND;TZID=America/Los_Angeles:20240223T100000
DTSTAMP:20260423T165703
CREATED:20240108T042150Z
LAST-MODIFIED:20240108T042152Z
UID:7922-1708678800-1708682400@lwpfdn.org
SUMMARY:ENGLISH ENHANCEMENT PROGRAM - BEVERLY TALK
DESCRIPTION:
URL:https://lwpfdn.org/event/english-enhancement-program-beverly-talk-6/
END:VEVENT
BEGIN:VEVENT
DTSTART;TZID=America/Los_Angeles:20240220T203000
DTEND;TZID=America/Los_Angeles:20240220T213000
DTSTAMP:20260423T165703
CREATED:20240108T041518Z
LAST-MODIFIED:20240108T041521Z
UID:7891-1708461000-1708464600@lwpfdn.org
SUMMARY:ENGLISH ENHANCEMENT PROGRAM - WEEKLY CHATTER
DESCRIPTION:
URL:https://lwpfdn.org/event/english-enhancement-program-weekly-chatter-5/
END:VEVENT
BEGIN:VEVENT
DTSTART;TZID=America/Los_Angeles:20240216T203000
DTEND;TZID=America/Los_Angeles:20240216T213000
DTSTAMP:20260423T165703
CREATED:20240108T043150Z
LAST-MODIFIED:20240108T043153Z
UID:7981-1708115400-1708119000@lwpfdn.org
SUMMARY:ENGLISH ENHANCEMENT PROGRAM - ENGLISH PUB
DESCRIPTION:
URL:https://lwpfdn.org/event/english-enhancement-program-english-pub-5/
END:VEVENT
BEGIN:VEVENT
DTSTART;TZID=America/Los_Angeles:20240216T180000
DTEND;TZID=America/Los_Angeles:20240216T201500
DTSTAMP:20260423T165703
CREATED:20240108T042705Z
LAST-MODIFIED:20240108T042707Z
UID:7949-1708106400-1708114500@lwpfdn.org
SUMMARY:ENGLISH ENHANCEMENT PROGRAM - YEEP I & II
DESCRIPTION:
URL:https://lwpfdn.org/event/english-enhancement-program-yeep-i-ii-5/
END:VEVENT
END:VCALENDAR